BEGIN:VCALENDAR
VERSION:2.0
PRODID:-//FAMÍLIES PEL VALENCIÀ - ECPv6.15.20//NONSGML v1.0//EN
CALSCALE:GREGORIAN
METHOD:PUBLISH
X-WR-CALNAME:FAMÍLIES PEL VALENCIÀ
X-ORIGINAL-URL:https://familiespelvalencia.org
X-WR-CALDESC:Esdeveniments per FAMÍLIES PEL VALENCIÀ
REFRESH-INTERVAL;VALUE=DURATION:PT1H
X-Robots-Tag:noindex
X-PUBLISHED-TTL:PT1H
BEGIN:VTIMEZONE
TZID:Europe/Paris
BEGIN:DAYLIGHT
TZOFFSETFROM:+0100
TZOFFSETTO:+0200
TZNAME:CEST
DTSTART:20250330T010000
END:DAYLIGHT
BEGIN:STANDARD
TZOFFSETFROM:+0200
TZOFFSETTO:+0100
TZNAME:CET
DTSTART:20251026T010000
END:STANDARD
BEGIN:DAYLIGHT
TZOFFSETFROM:+0100
TZOFFSETTO:+0200
TZNAME:CEST
DTSTART:20260329T010000
END:DAYLIGHT
BEGIN:STANDARD
TZOFFSETFROM:+0200
TZOFFSETTO:+0100
TZNAME:CET
DTSTART:20261025T010000
END:STANDARD
BEGIN:DAYLIGHT
TZOFFSETFROM:+0100
TZOFFSETTO:+0200
TZNAME:CEST
DTSTART:20270328T010000
END:DAYLIGHT
BEGIN:STANDARD
TZOFFSETFROM:+0200
TZOFFSETTO:+0100
TZNAME:CET
DTSTART:20271031T010000
END:STANDARD
END:VTIMEZONE
BEGIN:VEVENT
DTSTART;TZID=Europe/Paris:20260213T153000
DTEND;TZID=Europe/Paris:20260213T170000
DTSTAMP:20260424T043158
CREATED:20260116T115812Z
LAST-MODIFIED:20260116T115812Z
UID:10000735-1770996600-1771002000@familiespelvalencia.org
SUMMARY:Concert Trobadorets
DESCRIPTION:Trobadorets arribara Castelló el divendres 13 de febrer a les 15.30 h al Poliesportiu Antoni Escuriet\, dins dels actes de Carnestoltes\, amb Creixem\, un espectacle musical ple d’energia\, ritme i bon humor que farà cantar i ballar a xiquets\, xiquetes i famílies senceres. Una cita perfecta per gaudir d’una vesprada festiva i compartida al ritme d’una de les bandes familiars més estimades del País Valencià.
URL:https://familiespelvalencia.org/activitat/concert-trobadorets-8/
LOCATION:Poliesportiu Antoni Escuriet\, Camí del Pla\, 11\, Castelló\, Plana Alta\, 46270
CATEGORIES:Comarques del nord
ATTACH;FMTTYPE=image/jpeg:https://familiespelvalencia.org/wp-content/uploads/2026/01/Trobadorets-Castello.jpg
GEO:39.0741193;-0.5157621
X-APPLE-STRUCTURED-LOCATION;VALUE=URI;X-ADDRESS=Poliesportiu Antoni Escuriet Camí del Pla 11 Castelló Plana Alta 46270;X-APPLE-RADIUS=500;X-TITLE=Camí del Pla\, 11:geo:-0.5157621,39.0741193
END:VEVENT
BEGIN:VEVENT
DTSTART;TZID=Europe/Paris:20260213T183000
DTEND;TZID=Europe/Paris:20260213T193000
DTSTAMP:20260424T043158
CREATED:20260127T212613Z
LAST-MODIFIED:20260127T213156Z
UID:10000772-1771007400-1771011000@familiespelvalencia.org
SUMMARY:Espectacle Festa POP! Pop’s Corn.- Carnestoltes del Grau de Castelló
DESCRIPTION:Els Carnestoltes del Grau de Castelló (del 13 al 15 de febrer) arriben plens d’activitats\, desfilades\, animació i propostes per a famílies i tots els públics\, en unes festes que busquen la participació i l’ambient festiu característics del Grau. Entre totes les propostes\, destaca Festa POP! Pop’s Corn\, l’espectacle musical de La FAM que transforma una simple prova radiofònica en una gran festa-concert amb una quinzena de cançons en directe\, ritme pop i una posada en escena plena d’energia i humor. Xiquets i famílies canten i ballen amb Nelo\, Cris i Aina en un muntatge pensat per connectar amb tots els públics. Festa POP! Pop’s Corn s’alça així com un dels moments més festius i participatius dels Carnestoltes: una explosió de música i alegria que reforça l’esperit comunitari d’aquestes celebracions. \nVídeo: La Pop’s Corn \nProgramació completa: Carnestoltes El Grau
URL:https://familiespelvalencia.org/activitat/espectacle-festa-pop-pops-corn-carnestoltes-del-grau-de-castello/
LOCATION:Parc de la Panderola.- Castelló. El Grau\, Parc de la Panderola\, Castelló de la Plana (El Grau)\, Plana Alta\, 12100
CATEGORIES:Comarques del nord
ATTACH;FMTTYPE=image/webp:https://familiespelvalencia.org/wp-content/uploads/2026/01/POP-CORNS-3.webp
GEO:39.9723926;0.0117982
X-APPLE-STRUCTURED-LOCATION;VALUE=URI;X-ADDRESS=Parc de la Panderola.- Castelló. El Grau Parc de la Panderola Castelló de la Plana (El Grau) Plana Alta 12100;X-APPLE-RADIUS=500;X-TITLE=Parc de la Panderola:geo:0.0117982,39.9723926
END:VEVENT
END:VCALENDAR