BEGIN:VCALENDAR
VERSION:2.0
PRODID:-//FAMÍLIES PEL VALENCIÀ - ECPv6.15.20//NONSGML v1.0//EN
CALSCALE:GREGORIAN
METHOD:PUBLISH
X-WR-CALNAME:FAMÍLIES PEL VALENCIÀ
X-ORIGINAL-URL:https://familiespelvalencia.org
X-WR-CALDESC:Esdeveniments per FAMÍLIES PEL VALENCIÀ
REFRESH-INTERVAL;VALUE=DURATION:PT1H
X-Robots-Tag:noindex
X-PUBLISHED-TTL:PT1H
BEGIN:VTIMEZONE
TZID:Europe/Paris
BEGIN:DAYLIGHT
TZOFFSETFROM:+0100
TZOFFSETTO:+0200
TZNAME:CEST
DTSTART:20240331T010000
END:DAYLIGHT
BEGIN:STANDARD
TZOFFSETFROM:+0200
TZOFFSETTO:+0100
TZNAME:CET
DTSTART:20241027T010000
END:STANDARD
BEGIN:DAYLIGHT
TZOFFSETFROM:+0100
TZOFFSETTO:+0200
TZNAME:CEST
DTSTART:20250330T010000
END:DAYLIGHT
BEGIN:STANDARD
TZOFFSETFROM:+0200
TZOFFSETTO:+0100
TZNAME:CET
DTSTART:20251026T010000
END:STANDARD
BEGIN:DAYLIGHT
TZOFFSETFROM:+0100
TZOFFSETTO:+0200
TZNAME:CEST
DTSTART:20260329T010000
END:DAYLIGHT
BEGIN:STANDARD
TZOFFSETFROM:+0200
TZOFFSETTO:+0100
TZNAME:CET
DTSTART:20261025T010000
END:STANDARD
END:VTIMEZONE
BEGIN:VEVENT
DTSTART;TZID=Europe/Paris:20251228T103000
DTEND;TZID=Europe/Paris:20251228T113000
DTSTAMP:20260424T051142
CREATED:20251201T120714Z
LAST-MODIFIED:20251201T120714Z
UID:10000521-1766917800-1766921400@familiespelvalencia.org
SUMMARY:Buh: un musical familiar
DESCRIPTION:Buh! és un musical familiar amb titelles\, balls i cançons originals coproduït La Fam Produccions que parla sobre la conciliació familiar i on Eva\, la nostra protagonista\, ens ensenya a enfrontar-nos a les nostres pors: créixer\, demanar ajuda\, prendre decisions… en fi\, fer-se major! \nDe què tens por? Del coco\, les tempestes\, estar sola o que t’agarren copiant? Fora pors! Buh! \nVine ací i podràs saltar al llit sense parar! I embrutar les parets i xipollejar en el bany\, i fins i tot escabussar-te… Mastegar i fer soroll amb un xiclet gegant\, i tirar els mocs i pintar amb les mans! Benvinguts al món de portar-se malament! \nDestinat a xiquetes i xiquets de més de 5 anys
URL:https://familiespelvalencia.org/activitat/buh-un-musical-familiar/
LOCATION:Teatre Municipal Francesc Tàrrega\, Plaça Constitució\, Benicàssim\, Plana Alta
CATEGORIES:Comarques del nord
ATTACH;FMTTYPE=image/jpeg:https://familiespelvalencia.org/wp-content/uploads/2025/12/CARTELL-BUH-VAL.jpg
GEO:40.055147;0.0648743
X-APPLE-STRUCTURED-LOCATION;VALUE=URI;X-ADDRESS=Teatre Municipal Francesc Tàrrega Plaça Constitució Benicàssim Plana Alta;X-APPLE-RADIUS=500;X-TITLE=Plaça Constitució:geo:0.0648743,40.055147
END:VEVENT
BEGIN:VEVENT
DTSTART;TZID=Europe/Paris:20251228T110000
DTEND;TZID=Europe/Paris:20251228T133000
DTSTAMP:20260424T051142
CREATED:20251221T211508Z
LAST-MODIFIED:20251221T211508Z
UID:10000664-1766919600-1766928600@familiespelvalencia.org
SUMMARY:Contacontes amb Tània Muñoz
DESCRIPTION:> 11.00 h\nCORROCOS: CANÇONS I CONTES PER A LA PRIMERA INFÀNCIA\nPER A XIQUETS I XIQUETES D’1 A 3 ANYS\nCompartirem jocs de falda\, cantarelles i moixaines de la tradició oral. Contarem i cantarem contes i descobrirem algunes de les històries meravelloses que s’amaguen en els llibres. \n> 12.30 h\nMÉS ENLLÀ DEL SOL\nPER A XIQUETS I XIQUETES A PARTIR DE 4 ANYS\nMés enllà del sol hi ha un país en què passen coses increïbles.\nOn els animals canten i els arbres ballen. En la part més profunda del seu bosc\nhabiten èssers antics i misteriosos. Més enllà del sol hi ha un país ple d’històries fantàstiques que esperen a ser contades i escoltades.
URL:https://familiespelvalencia.org/activitat/contacontes-amb-tania-munoz/
LOCATION:Plaça Major\, Atzeneta del Maestrat\, Plaça Major\, Atzeneta del Maestrat\, Alt Maestrat\, 12132
CATEGORIES:Comarques del nord
ATTACH;FMTTYPE=image/jpeg:https://familiespelvalencia.org/wp-content/uploads/2025/12/1000042377.jpg
GEO:40.2166242;-0.1701588
X-APPLE-STRUCTURED-LOCATION;VALUE=URI;X-ADDRESS=Plaça Major Atzeneta del Maestrat Plaça Major Atzeneta del Maestrat Alt Maestrat 12132;X-APPLE-RADIUS=500;X-TITLE=Plaça Major:geo:-0.1701588,40.2166242
END:VEVENT
BEGIN:VEVENT
DTSTART;TZID=Europe/Paris:20251228T113000
DTEND;TZID=Europe/Paris:20251228T123000
DTSTAMP:20260424T051142
CREATED:20251224T083605Z
LAST-MODIFIED:20251224T083612Z
UID:10000676-1766921400-1766925000@familiespelvalencia.org
SUMMARY:Espectacle Familiar. Dolorosament divertit
DESCRIPTION:Espectacle familiar dolorosament divertit\, ple d’humor\, música i situacions sorprenents que faran riure a grans i menuts. Una proposta ideal per a gaudir en família durant les festes de Nadal. \nMés informació: Ajuntament de Benlloc
URL:https://familiespelvalencia.org/activitat/espectacle-familia-dolorosament-divertit/
LOCATION:Benlloc.- Carpa\, Carpa País Valencià\, Benlloc\, Plana Alta\, 12181
CATEGORIES:Comarques del nord
ATTACH;FMTTYPE=image/jpeg:https://familiespelvalencia.org/wp-content/uploads/2025/12/Dolorosament-divertit.-Benlloc.jpg
GEO:40.2105043;0.0268202
X-APPLE-STRUCTURED-LOCATION;VALUE=URI;X-ADDRESS=Benlloc.- Carpa Carpa País Valencià Benlloc Plana Alta 12181;X-APPLE-RADIUS=500;X-TITLE=Carpa País Valencià:geo:0.0268202,40.2105043
END:VEVENT
BEGIN:VEVENT
DTSTART;TZID=Europe/Paris:20251228T120000
DTEND;TZID=Europe/Paris:20251228T123000
DTSTAMP:20260424T051142
CREATED:20251204T095820Z
LAST-MODIFIED:20251204T095820Z
UID:10000558-1766923200-1766925000@familiespelvalencia.org
SUMMARY:Documental al Planetari. Explorant el sistema solar
DESCRIPTION:Producció espectacular que ens mostra els planetes veïns de la Terra. Aquest documental ens transporta\, en un viatge extraordinari\, a diferents escenaris del sistema solar interior i aconsegueix despertar la curiositat en el públic a l’hora d’entendre i apreciar aspectes de cossos com la Lluna\, Venus\, Mart\, asteroides i estrelles\, fins ara desconeguts per a la gran majoria. El Món Anell no fa referència a una estructura artificial com en la novel·la de Larry Niven\, sinó a Gliese 581g\, un exoplaneta que podria tindre una zona habitable en forma d’anell en tota la franja del capvespre. \nPúblic: jove // Durada: 24 minuts \nMés informació i venda d’entrades: Planetari de Castelló
URL:https://familiespelvalencia.org/activitat/documental-al-planetari-explorant-el-sistema-solar-4/
LOCATION:Planetari de Castelló\, Passeig Marítim\, 1 (Grau de Castelló)\, Castelló\, Plana Alta\, 12100
CATEGORIES:Comarques del nord
GEO:39.9793318;0.022053
X-APPLE-STRUCTURED-LOCATION;VALUE=URI;X-ADDRESS=Planetari de Castelló Passeig Marítim 1 (Grau de Castelló) Castelló Plana Alta 12100;X-APPLE-RADIUS=500;X-TITLE=Passeig Marítim\, 1 (Grau de Castelló):geo:0.022053,39.9793318
END:VEVENT
END:VCALENDAR