BEGIN:VCALENDAR
VERSION:2.0
PRODID:-//FAMÍLIES PEL VALENCIÀ - ECPv6.15.20//NONSGML v1.0//EN
CALSCALE:GREGORIAN
METHOD:PUBLISH
X-ORIGINAL-URL:https://familiespelvalencia.org
X-WR-CALDESC:Esdeveniments per FAMÍLIES PEL VALENCIÀ
REFRESH-INTERVAL;VALUE=DURATION:PT1H
X-Robots-Tag:noindex
X-PUBLISHED-TTL:PT1H
BEGIN:VTIMEZONE
TZID:Europe/Paris
BEGIN:DAYLIGHT
TZOFFSETFROM:+0100
TZOFFSETTO:+0200
TZNAME:CEST
DTSTART:20240331T010000
END:DAYLIGHT
BEGIN:STANDARD
TZOFFSETFROM:+0200
TZOFFSETTO:+0100
TZNAME:CET
DTSTART:20241027T010000
END:STANDARD
BEGIN:DAYLIGHT
TZOFFSETFROM:+0100
TZOFFSETTO:+0200
TZNAME:CEST
DTSTART:20250330T010000
END:DAYLIGHT
BEGIN:STANDARD
TZOFFSETFROM:+0200
TZOFFSETTO:+0100
TZNAME:CET
DTSTART:20251026T010000
END:STANDARD
BEGIN:DAYLIGHT
TZOFFSETFROM:+0100
TZOFFSETTO:+0200
TZNAME:CEST
DTSTART:20260329T010000
END:DAYLIGHT
BEGIN:STANDARD
TZOFFSETFROM:+0200
TZOFFSETTO:+0100
TZNAME:CET
DTSTART:20261025T010000
END:STANDARD
END:VTIMEZONE
BEGIN:VEVENT
DTSTART;TZID=Europe/Paris:20251224T110000
DTEND;TZID=Europe/Paris:20251224T120000
DTSTAMP:20260424T051645
CREATED:20251210T122034Z
LAST-MODIFIED:20251210T122332Z
UID:10000584-1766574000-1766577600@familiespelvalencia.org
SUMMARY:Espectacle de narració oral La màgia del Nadal\, a càrrec de Felip Kervarec.
DESCRIPTION:Felip Kervarec ens convida a endinsar-nos en un viatge ple de llum\, emoció i petites meravelles que només el Nadal sap oferir. A través d’històries plenes de sensibilitat i moments compartits\, ens recorda que la màgia d’aquest temps no rau en els grans gestos\, sinó en els instants que ens acosten als altres i ens fan sentir\, de nou\, la calidesa de l’esperança
URL:https://familiespelvalencia.org/activitat/espectacle-de-narracio-oral-la-magia-del-nadal-a-carrec-de-felip-kervarec/
LOCATION:Castelló de la Plana.- Plaça Major\, Plaça Major\, Castelló de la Plana\, Plana Alta\, 12001
CATEGORIES:Comarques del nord
ATTACH;FMTTYPE=image/jpeg:https://familiespelvalencia.org/wp-content/uploads/2025/12/64e739b43ed94_felip-kervarec-4.jpeg
GEO:39.9859481;-0.0375362
X-APPLE-STRUCTURED-LOCATION;VALUE=URI;X-ADDRESS=Castelló de la Plana.- Plaça Major Plaça Major Castelló de la Plana Plana Alta 12001;X-APPLE-RADIUS=500;X-TITLE=Plaça Major:geo:-0.0375362,39.9859481
END:VEVENT
BEGIN:VEVENT
DTSTART;TZID=Europe/Paris:20251224T123000
DTEND;TZID=Europe/Paris:20251224T133000
DTSTAMP:20260424T051645
CREATED:20251210T122416Z
LAST-MODIFIED:20251210T122416Z
UID:10000585-1766579400-1766583000@familiespelvalencia.org
SUMMARY:Espectacle de narració oral La queboqueseria\, a càrrec de Rodamons Teatre.
DESCRIPTION:Aquest és un espectacle musicoteatral en el que intervenen 4 músics-actors per tal d’explicar aquesta fantasia. Alguns instruments tradicionals\, alguns instruments més normalitzats\, inclús alguns instruments reciclats… un poc de tot per què les cançons així ens ho demanen. Es tracta a més a més d’un espectacle per a públic familiar i infantil per a que tota la família puga gaudir.
URL:https://familiespelvalencia.org/activitat/espectacle-de-narracio-oral-la-queboqueseria-a-carrec-de-rodamons-teatre/
LOCATION:Castelló de la Plana.- Plaça Major\, Plaça Major\, Castelló de la Plana\, Plana Alta\, 12001
CATEGORIES:Comarques del nord
ATTACH;FMTTYPE=image/jpeg:https://familiespelvalencia.org/wp-content/uploads/2025/12/unnamed.jpg
GEO:39.9859481;-0.0375362
X-APPLE-STRUCTURED-LOCATION;VALUE=URI;X-ADDRESS=Castelló de la Plana.- Plaça Major Plaça Major Castelló de la Plana Plana Alta 12001;X-APPLE-RADIUS=500;X-TITLE=Plaça Major:geo:-0.0375362,39.9859481
END:VEVENT
END:VCALENDAR