BEGIN:VCALENDAR
VERSION:2.0
PRODID:-//FAMÍLIES PEL VALENCIÀ - ECPv6.15.20//NONSGML v1.0//EN
CALSCALE:GREGORIAN
METHOD:PUBLISH
X-WR-CALNAME:FAMÍLIES PEL VALENCIÀ
X-ORIGINAL-URL:https://familiespelvalencia.org
X-WR-CALDESC:Esdeveniments per FAMÍLIES PEL VALENCIÀ
REFRESH-INTERVAL;VALUE=DURATION:PT1H
X-Robots-Tag:noindex
X-PUBLISHED-TTL:PT1H
BEGIN:VTIMEZONE
TZID:Europe/Paris
BEGIN:DAYLIGHT
TZOFFSETFROM:+0100
TZOFFSETTO:+0200
TZNAME:CEST
DTSTART:20240331T010000
END:DAYLIGHT
BEGIN:STANDARD
TZOFFSETFROM:+0200
TZOFFSETTO:+0100
TZNAME:CET
DTSTART:20241027T010000
END:STANDARD
BEGIN:DAYLIGHT
TZOFFSETFROM:+0100
TZOFFSETTO:+0200
TZNAME:CEST
DTSTART:20250330T010000
END:DAYLIGHT
BEGIN:STANDARD
TZOFFSETFROM:+0200
TZOFFSETTO:+0100
TZNAME:CET
DTSTART:20251026T010000
END:STANDARD
BEGIN:DAYLIGHT
TZOFFSETFROM:+0100
TZOFFSETTO:+0200
TZNAME:CEST
DTSTART:20260329T010000
END:DAYLIGHT
BEGIN:STANDARD
TZOFFSETFROM:+0200
TZOFFSETTO:+0100
TZNAME:CET
DTSTART:20261025T010000
END:STANDARD
END:VTIMEZONE
BEGIN:VEVENT
DTSTART;TZID=Europe/Paris:20251223T110000
DTEND;TZID=Europe/Paris:20251223T113000
DTSTAMP:20260424T051541
CREATED:20251204T100755Z
LAST-MODIFIED:20251204T100755Z
UID:10000560-1766487600-1766489400@familiespelvalencia.org
SUMMARY:Documental al Planetari. Àvia terra
DESCRIPTION:Coneixes la història del teu planeta? La Terra ens explica com es va formar i com va nàixer la vida al seu si fins que vam aparéixer els éssers humans. Coneixerem de primera mà el moment en què va nàixer la Lluna i també com són els planetes. \nPúblic: infantil i jove // Durada: 34 minuts \nMés informació i venda d’entrades: Planetari de Castelló
URL:https://familiespelvalencia.org/activitat/documental-al-planetari-avia-terra/
LOCATION:Planetari de Castelló\, Passeig Marítim\, 1 (Grau de Castelló)\, Castelló\, Plana Alta\, 12100
CATEGORIES:Comarques del nord
GEO:39.9793318;0.022053
X-APPLE-STRUCTURED-LOCATION;VALUE=URI;X-ADDRESS=Planetari de Castelló Passeig Marítim 1 (Grau de Castelló) Castelló Plana Alta 12100;X-APPLE-RADIUS=500;X-TITLE=Passeig Marítim\, 1 (Grau de Castelló):geo:0.022053,39.9793318
END:VEVENT
BEGIN:VEVENT
DTSTART;TZID=Europe/Paris:20251223T110000
DTEND;TZID=Europe/Paris:20251223T123000
DTSTAMP:20260424T051541
CREATED:20251210T115911Z
LAST-MODIFIED:20251210T120023Z
UID:10000579-1766487600-1766493000@familiespelvalencia.org
SUMMARY:Contacontes. La maleta dels contes
DESCRIPTION:Felip Kervarec ens convida a descobrir La maleta dels contes\, un espectacle ple de màgia i imaginació on la rateta Giberta\, gran col·leccionista de maletes\, guarda tresors que amaguen històries fascinants. Cada maleta és una porta oberta a aventures que podrem escoltar si Giberta ens deixa compartir-les. Una proposta ideal per a famílies que volen viure la il·lusió dels contes en aquestes dates especials. \nPublic familiar
URL:https://familiespelvalencia.org/activitat/contacontes-la-maleta-dels-contes/
LOCATION:Castelló de la Plana.- Plaça Major\, Plaça Major\, Castelló de la Plana\, Plana Alta\, 12001
CATEGORIES:Comarques del nord
ATTACH;FMTTYPE=image/jpeg:https://familiespelvalencia.org/wp-content/uploads/2025/12/felip-kervarec-4.jpeg
GEO:39.9859481;-0.0375362
X-APPLE-STRUCTURED-LOCATION;VALUE=URI;X-ADDRESS=Castelló de la Plana.- Plaça Major Plaça Major Castelló de la Plana Plana Alta 12001;X-APPLE-RADIUS=500;X-TITLE=Plaça Major:geo:-0.0375362,39.9859481
END:VEVENT
BEGIN:VEVENT
DTSTART;TZID=Europe/Paris:20251223T123000
DTEND;TZID=Europe/Paris:20251223T133000
DTSTAMP:20260424T051541
CREATED:20251210T120810Z
LAST-MODIFIED:20251210T120810Z
UID:10000580-1766493000-1766496600@familiespelvalencia.org
SUMMARY:Contacontes. Xano Xano
DESCRIPTION:Eva Andújar ens porta Xano Xano\, un contacontes que convida a caminar amb la imaginació i descobrir històries plenes de tendresa i humor. A través de personatges entranyables i aventures properes\, Eva ens farà viure un viatge on les paraules es transformen en camins i els contes en companys de ruta. Una proposta ideal per a famílies que volen compartir la màgia de les històries en valencià. \nPublic familiar \nTràiler Xano Xano
URL:https://familiespelvalencia.org/activitat/contacontes-xano-xano/
LOCATION:Castelló de la Plana.- Plaça Major\, Plaça Major\, Castelló de la Plana\, Plana Alta\, 12001
CATEGORIES:Comarques del nord
GEO:39.9859481;-0.0375362
X-APPLE-STRUCTURED-LOCATION;VALUE=URI;X-ADDRESS=Castelló de la Plana.- Plaça Major Plaça Major Castelló de la Plana Plana Alta 12001;X-APPLE-RADIUS=500;X-TITLE=Plaça Major:geo:-0.0375362,39.9859481
END:VEVENT
BEGIN:VEVENT
DTSTART;TZID=Europe/Paris:20251223T170000
DTEND;TZID=Europe/Paris:20251223T180000
DTSTAMP:20260424T051541
CREATED:20251210T121430Z
LAST-MODIFIED:20251210T121430Z
UID:10000582-1766509200-1766512800@familiespelvalencia.org
SUMMARY:Contacontes. La maleta dels contes
DESCRIPTION:Felip Kervarec ens proposa Va d’Andersen\, una sessió de narració oral que ret homenatge a Hans Christian Andersen\, el gran clàssic de la literatura infantil i juvenil. En aquest espectacle participatiu\, les històries cobren vida i l’espectador es confon amb els personatges\, convertint-se en part del relat. Contes tan coneguts com “La princesa i el pèsol”\, “El vestit nou de l’emperador” o “Patufeta” ens faran viure moments plens de fantasia i diversió. Una cita imprescindible per a famílies que volen gaudir de la màgia dels contes en valencià. \nPublic familiar
URL:https://familiespelvalencia.org/activitat/contacontes-la-maleta-dels-contes-2/
LOCATION:Castelló de la Plana.- Plaça Major\, Plaça Major\, Castelló de la Plana\, Plana Alta\, 12001
CATEGORIES:Comarques del nord
ATTACH;FMTTYPE=image/jpeg:https://familiespelvalencia.org/wp-content/uploads/2025/12/felip-kervarec-4.jpeg
GEO:39.9859481;-0.0375362
X-APPLE-STRUCTURED-LOCATION;VALUE=URI;X-ADDRESS=Castelló de la Plana.- Plaça Major Plaça Major Castelló de la Plana Plana Alta 12001;X-APPLE-RADIUS=500;X-TITLE=Plaça Major:geo:-0.0375362,39.9859481
END:VEVENT
BEGIN:VEVENT
DTSTART;TZID=Europe/Paris:20251223T180000
DTEND;TZID=Europe/Paris:20251223T193000
DTSTAMP:20260424T051541
CREATED:20251204T160222Z
LAST-MODIFIED:20251204T160222Z
UID:10000566-1766512800-1766518200@familiespelvalencia.org
SUMMARY:Teatre. "La ciutat dels donyets" i "Un repàs d'història"
DESCRIPTION:“La ciutat dels donyets” i “Un repàs d’història” de Rafa Lloret Porcar. \nUna funció teatral per a tots els públics que consta de 2 obres:\nLa ciutat dels donyets: obra de 25 minuts per a públic d’infantil 6-7 anys\nUn repàs d’història: obra de 50 minuts per a tota la família. \nVenda anticipada: Organitzador Grup LlocArt Teatre
URL:https://familiespelvalencia.org/activitat/teatre-la-ciutat-dels-donyets-i-un-repas-dhistoria/
LOCATION:Teatre del Raval Castelló de la Plana\, Carrer del Comte Pestagua\, 38\, Castelló de la Plana\, Castelló\, 12004
CATEGORIES:Comarques del nord
ATTACH;FMTTYPE=image/jpeg:https://familiespelvalencia.org/wp-content/uploads/2025/12/teatr.jpg
GEO:39.9886112;-0.0353188
X-APPLE-STRUCTURED-LOCATION;VALUE=URI;X-ADDRESS=Teatre del Raval Castelló de la Plana Carrer del Comte Pestagua 38 Castelló de la Plana Castelló 12004;X-APPLE-RADIUS=500;X-TITLE=Carrer del Comte Pestagua\, 38:geo:-0.0353188,39.9886112
END:VEVENT
BEGIN:VEVENT
DTSTART;TZID=Europe/Paris:20251223T183000
DTEND;TZID=Europe/Paris:20251223T193000
DTSTAMP:20260424T051541
CREATED:20251210T122520Z
LAST-MODIFIED:20251210T122520Z
UID:10000583-1766514600-1766518200@familiespelvalencia.org
SUMMARY:Contacontes. El Flautista d’Hamelín
DESCRIPTION:Floc Teatre ens presenta El Flautista d’Hamelín\, una sessió de narració oral que recupera un dels contes més fascinants de la tradició popular. Amb una posada en escena propera i participativa\, els personatges i la música ens transporten a la ciutat d’Hamelín\, on la màgia i la intriga es barregen per fer-nos viure una història plena d’emoció i aprenentatges. Una proposta ideal per a famílies que volen gaudir d’un clàssic narrat amb frescor i creativitat. \nPublic familiar
URL:https://familiespelvalencia.org/activitat/contacontes-el-flautista-dhamelin/
LOCATION:Castelló de la Plana.- Plaça Major\, Plaça Major\, Castelló de la Plana\, Plana Alta\, 12001
CATEGORIES:Comarques del nord
GEO:39.9859481;-0.0375362
X-APPLE-STRUCTURED-LOCATION;VALUE=URI;X-ADDRESS=Castelló de la Plana.- Plaça Major Plaça Major Castelló de la Plana Plana Alta 12001;X-APPLE-RADIUS=500;X-TITLE=Plaça Major:geo:-0.0375362,39.9859481
END:VEVENT
END:VCALENDAR