BEGIN:VCALENDAR
VERSION:2.0
PRODID:-//FAMÍLIES PEL VALENCIÀ - ECPv6.15.20//NONSGML v1.0//EN
CALSCALE:GREGORIAN
METHOD:PUBLISH
X-ORIGINAL-URL:https://familiespelvalencia.org
X-WR-CALDESC:Esdeveniments per FAMÍLIES PEL VALENCIÀ
REFRESH-INTERVAL;VALUE=DURATION:PT1H
X-Robots-Tag:noindex
X-PUBLISHED-TTL:PT1H
BEGIN:VTIMEZONE
TZID:Europe/Paris
BEGIN:DAYLIGHT
TZOFFSETFROM:+0100
TZOFFSETTO:+0200
TZNAME:CEST
DTSTART:20240331T010000
END:DAYLIGHT
BEGIN:STANDARD
TZOFFSETFROM:+0200
TZOFFSETTO:+0100
TZNAME:CET
DTSTART:20241027T010000
END:STANDARD
BEGIN:DAYLIGHT
TZOFFSETFROM:+0100
TZOFFSETTO:+0200
TZNAME:CEST
DTSTART:20250330T010000
END:DAYLIGHT
BEGIN:STANDARD
TZOFFSETFROM:+0200
TZOFFSETTO:+0100
TZNAME:CET
DTSTART:20251026T010000
END:STANDARD
BEGIN:DAYLIGHT
TZOFFSETFROM:+0100
TZOFFSETTO:+0200
TZNAME:CEST
DTSTART:20260329T010000
END:DAYLIGHT
BEGIN:STANDARD
TZOFFSETFROM:+0200
TZOFFSETTO:+0100
TZNAME:CET
DTSTART:20261025T010000
END:STANDARD
END:VTIMEZONE
BEGIN:VEVENT
DTSTART;TZID=Europe/Paris:20251222T180000
DTEND;TZID=Europe/Paris:20251222T193000
DTSTAMP:20260424T051654
CREATED:20251204T155218Z
LAST-MODIFIED:20251204T155218Z
UID:10000565-1766426400-1766431800@familiespelvalencia.org
SUMMARY:Teatre. La Princesa Motera
DESCRIPTION:En un regne on les princeses han de vestir-se amb elegants vestits i esperar al seu príncep\, naix una xiqueta diferent: l’apassionen les motos i la física quàntica. La Princesa Motera no està disposada a seguir les normes imposades i decideix emprendre un viatge a la recerca del seu propi camí. \nGuió i direcció: Pilar Díaz \nEntrada gratuïta fins a completar aforament.
URL:https://familiespelvalencia.org/activitat/teatre-la-princesa-motera/
LOCATION:Teatre del Raval Castelló de la Plana\, Carrer del Comte Pestagua\, 38\, Castelló de la Plana\, Castelló\, 12004
CATEGORIES:Comarques del nord
ATTACH;FMTTYPE=image/jpeg:https://familiespelvalencia.org/wp-content/uploads/2025/12/la-princesa-motera.jpeg
GEO:39.9886112;-0.0353188
X-APPLE-STRUCTURED-LOCATION;VALUE=URI;X-ADDRESS=Teatre del Raval Castelló de la Plana Carrer del Comte Pestagua 38 Castelló de la Plana Castelló 12004;X-APPLE-RADIUS=500;X-TITLE=Carrer del Comte Pestagua\, 38:geo:-0.0353188,39.9886112
END:VEVENT
END:VCALENDAR