BEGIN:VCALENDAR
VERSION:2.0
PRODID:-//FAMÍLIES PEL VALENCIÀ - ECPv6.15.20//NONSGML v1.0//EN
CALSCALE:GREGORIAN
METHOD:PUBLISH
X-WR-CALNAME:FAMÍLIES PEL VALENCIÀ
X-ORIGINAL-URL:https://familiespelvalencia.org
X-WR-CALDESC:Esdeveniments per FAMÍLIES PEL VALENCIÀ
REFRESH-INTERVAL;VALUE=DURATION:PT1H
X-Robots-Tag:noindex
X-PUBLISHED-TTL:PT1H
BEGIN:VTIMEZONE
TZID:Europe/Paris
BEGIN:DAYLIGHT
TZOFFSETFROM:+0100
TZOFFSETTO:+0200
TZNAME:CEST
DTSTART:20240331T010000
END:DAYLIGHT
BEGIN:STANDARD
TZOFFSETFROM:+0200
TZOFFSETTO:+0100
TZNAME:CET
DTSTART:20241027T010000
END:STANDARD
BEGIN:DAYLIGHT
TZOFFSETFROM:+0100
TZOFFSETTO:+0200
TZNAME:CEST
DTSTART:20250330T010000
END:DAYLIGHT
BEGIN:STANDARD
TZOFFSETFROM:+0200
TZOFFSETTO:+0100
TZNAME:CET
DTSTART:20251026T010000
END:STANDARD
BEGIN:DAYLIGHT
TZOFFSETFROM:+0100
TZOFFSETTO:+0200
TZNAME:CEST
DTSTART:20260329T010000
END:DAYLIGHT
BEGIN:STANDARD
TZOFFSETFROM:+0200
TZOFFSETTO:+0100
TZNAME:CET
DTSTART:20261025T010000
END:STANDARD
END:VTIMEZONE
BEGIN:VEVENT
DTSTART;TZID=Europe/Paris:20251221T120000
DTEND;TZID=Europe/Paris:20251221T123000
DTSTAMP:20260424T051509
CREATED:20251204T095806Z
LAST-MODIFIED:20251204T095806Z
UID:10000557-1766318400-1766320200@familiespelvalencia.org
SUMMARY:Documental al Planetari. Explorant el sistema solar
DESCRIPTION:Producció espectacular que ens mostra els planetes veïns de la Terra. Aquest documental ens transporta\, en un viatge extraordinari\, a diferents escenaris del sistema solar interior i aconsegueix despertar la curiositat en el públic a l’hora d’entendre i apreciar aspectes de cossos com la Lluna\, Venus\, Mart\, asteroides i estrelles\, fins ara desconeguts per a la gran majoria. El Món Anell no fa referència a una estructura artificial com en la novel·la de Larry Niven\, sinó a Gliese 581g\, un exoplaneta que podria tindre una zona habitable en forma d’anell en tota la franja del capvespre. \nPúblic: jove // Durada: 24 minuts \nMés informació i venda d’entrades: Planetari de Castelló
URL:https://familiespelvalencia.org/activitat/documental-al-planetari-explorant-el-sistema-solar-3/
LOCATION:Planetari de Castelló\, Passeig Marítim\, 1 (Grau de Castelló)\, Castelló\, Plana Alta\, 12100
CATEGORIES:Comarques del nord
GEO:39.9793318;0.022053
X-APPLE-STRUCTURED-LOCATION;VALUE=URI;X-ADDRESS=Planetari de Castelló Passeig Marítim 1 (Grau de Castelló) Castelló Plana Alta 12100;X-APPLE-RADIUS=500;X-TITLE=Passeig Marítim\, 1 (Grau de Castelló):geo:0.022053,39.9793318
END:VEVENT
BEGIN:VEVENT
DTSTART;TZID=Europe/Paris:20251221T120000
DTEND;TZID=Europe/Paris:20251221T130000
DTSTAMP:20260424T051509
CREATED:20251216T152408Z
LAST-MODIFIED:20251216T152408Z
UID:10000622-1766318400-1766322000@familiespelvalencia.org
SUMMARY:Espectacle infantil. Perico\, el contador d'històries
DESCRIPTION:De la mà de la cia. DeMartínez\, Perico arriba amb una maleta plena d’històries. Relats que poden haver passat… o potser no\, però si és així\, van ocórrer fa molt de temps i en indrets molt llunyans. Són històries que revelen misteris i secrets que la Humanitat encara no ha pogut desxifrar: per què els conills tenen les orelles llargues\, quina és la millor tècnica d’arts marcials per salvar la vida o què li va passar a aquell home que volia ser mare. Relats creats per grans autors com Stefano Benni i Eduardo Galeano que ens faran viatjar\, sorprendre’ns\, riure i\, sobretot\, reflexionar. Una proposta per a gaudir en família\, plena d’imaginació i saviesa. \nDurada: 45 min aproximadament \nEntrada amb taquilla inversa
URL:https://familiespelvalencia.org/activitat/espectacle-infantil-perico-el-contador-dhistories/
LOCATION:La Morralla. Espai Popular\, C/ de Canalejas\, 79 (Grau)\, Castello de la Plana\, Plana Alta\, 12100
CATEGORIES:Comarques del nord
ATTACH;FMTTYPE=image/jpeg:https://familiespelvalencia.org/wp-content/uploads/2025/12/perico-el-contador-dhistories.jpg
GEO:39.9742258;0.0144159
X-APPLE-STRUCTURED-LOCATION;VALUE=URI;X-ADDRESS=La Morralla. Espai Popular C/ de Canalejas 79 (Grau) Castello de la Plana Plana Alta 12100;X-APPLE-RADIUS=500;X-TITLE=C/ de Canalejas\, 79 (Grau):geo:0.0144159,39.9742258
END:VEVENT
BEGIN:VEVENT
DTSTART;TZID=Europe/Paris:20251221T120000
DTEND;TZID=Europe/Paris:20251221T133000
DTSTAMP:20260424T051509
CREATED:20251221T091408Z
LAST-MODIFIED:20251221T091408Z
UID:10000663-1766318400-1766323800@familiespelvalencia.org
SUMMARY:Espectacle infantil intinerant. Wanted
DESCRIPTION:Cia. Xa! Teatres \nWanted és un espectacle itinerant i interactiu que fusiona teatre de carrer\, humor i acrobàcies amb xanques. Dos personatges arriben a la localitat buscant un foragit . Equipats amb xanques i tecnologia futurista\, els protagonistes recorreran els carrers en un missió plena de peripècies i trobades sorprenents. \nMés informació: Ajuntament de Tales
URL:https://familiespelvalencia.org/activitat/espectacle-infantil-intinerant-wanted/
LOCATION:Tales\, Tales\, Plana Baixa
CATEGORIES:Comarques del nord
ATTACH;FMTTYPE=image/webp:https://familiespelvalencia.org/wp-content/uploads/2025/12/xa-teatre.webp
GEO:39.9448938;-0.3042778
END:VEVENT
END:VCALENDAR