BEGIN:VCALENDAR
VERSION:2.0
PRODID:-//FAMÍLIES PEL VALENCIÀ - ECPv6.15.20//NONSGML v1.0//EN
CALSCALE:GREGORIAN
METHOD:PUBLISH
X-WR-CALNAME:FAMÍLIES PEL VALENCIÀ
X-ORIGINAL-URL:https://familiespelvalencia.org
X-WR-CALDESC:Esdeveniments per FAMÍLIES PEL VALENCIÀ
REFRESH-INTERVAL;VALUE=DURATION:PT1H
X-Robots-Tag:noindex
X-PUBLISHED-TTL:PT1H
BEGIN:VTIMEZONE
TZID:Europe/Paris
BEGIN:DAYLIGHT
TZOFFSETFROM:+0100
TZOFFSETTO:+0200
TZNAME:CEST
DTSTART:20240331T010000
END:DAYLIGHT
BEGIN:STANDARD
TZOFFSETFROM:+0200
TZOFFSETTO:+0100
TZNAME:CET
DTSTART:20241027T010000
END:STANDARD
BEGIN:DAYLIGHT
TZOFFSETFROM:+0100
TZOFFSETTO:+0200
TZNAME:CEST
DTSTART:20250330T010000
END:DAYLIGHT
BEGIN:STANDARD
TZOFFSETFROM:+0200
TZOFFSETTO:+0100
TZNAME:CET
DTSTART:20251026T010000
END:STANDARD
BEGIN:DAYLIGHT
TZOFFSETFROM:+0100
TZOFFSETTO:+0200
TZNAME:CEST
DTSTART:20260329T010000
END:DAYLIGHT
BEGIN:STANDARD
TZOFFSETFROM:+0200
TZOFFSETTO:+0100
TZNAME:CET
DTSTART:20261025T010000
END:STANDARD
END:VTIMEZONE
BEGIN:VEVENT
DTSTART;TZID=Europe/Paris:20251220T120000
DTEND;TZID=Europe/Paris:20251220T123000
DTSTAMP:20260424T051509
CREATED:20251204T084618Z
LAST-MODIFIED:20251204T084618Z
UID:10000547-1766232000-1766233800@familiespelvalencia.org
SUMMARY:Documental al Planetari. La xiqueta que sabia caminar al revés
DESCRIPTION:La xiqueta que sabia caminar al revés és un personatge molt especial. Coneix els secrets que guarda la Lluna\, sap escoltar les marees i sol parlar amb els arbres\, però el que més li agrada fer és menjar pastissos amb els seus amics mentre contempla el cel estrelat. Potser per això fa temps que va aprendre a caminar al revés\, per a poder tindre sempre el cel sota els peus. És un conte capgirat\, una història que vol convidar-nos a contemplar el que ens envolta des d’un nou punt de vista. Ací tot és diferent\, i allí on abans només véiem sòl\, ara potser podrem veure el cel. \nPúblic: infantil i jove // Durada: 27 minuts \nMés informació: Planetari de Castelló
URL:https://familiespelvalencia.org/activitat/documental-al-planetari-la-xiqueta-que-sabia-caminar-al-reves/
LOCATION:Planetari de Castelló\, Passeig Marítim\, 1 (Grau de Castelló)\, Castelló\, Plana Alta\, 12100
CATEGORIES:Comarques del nord
ATTACH;FMTTYPE=image/jpeg:https://familiespelvalencia.org/wp-content/uploads/2025/12/La-xiqueta-que-sabia-caminar-al-reves.jpg
GEO:39.9793318;0.022053
X-APPLE-STRUCTURED-LOCATION;VALUE=URI;X-ADDRESS=Planetari de Castelló Passeig Marítim 1 (Grau de Castelló) Castelló Plana Alta 12100;X-APPLE-RADIUS=500;X-TITLE=Passeig Marítim\, 1 (Grau de Castelló):geo:0.022053,39.9793318
END:VEVENT
BEGIN:VEVENT
DTSTART;TZID=Europe/Paris:20251220T180000
DTEND;TZID=Europe/Paris:20251220T183000
DTSTAMP:20260424T051509
CREATED:20251204T094637Z
LAST-MODIFIED:20251204T094637Z
UID:10000552-1766253600-1766255400@familiespelvalencia.org
SUMMARY:Documental al Planetari. Dinosaures
DESCRIPTION:Com a quasi tots els xiquets\, a Celeste li fascinen els dinosaures. S’està preparant per a parlar en classe sobre la seua extinció quan Moon\, un màgic personatge replet de saviesa\, li planteja un dubte: i si et diguera que encara queden dinosaures entre nosaltres? Celeste acompanyarà a Moon en un viatge en el temps. Una apassionant aventura que els portarà a visitar la Terra en un passat molt\, molt remot. Veuran fascinants transformacions que han acompanyat a aquests éssers durant milions d’anys creant criatures gegants\, éssers cuirassats i super depredadors\, fins al dia en què el gran impacte va provocar una extinció massiva en la Terra. Però no tot està perdut. Celeste descobrirà la clau de la seua supervivència. \nPúblic: infantil i jove // Durada: 28 minuts \nMés informació i venda d’entrades: Planetari de Castelló
URL:https://familiespelvalencia.org/activitat/documental-al-planetari-dinosaures-3/
LOCATION:Planetari de Castelló\, Passeig Marítim\, 1 (Grau de Castelló)\, Castelló\, Plana Alta\, 12100
CATEGORIES:Comarques del nord
ATTACH;FMTTYPE=image/jpeg:https://familiespelvalencia.org/wp-content/uploads/2025/12/dinosaures-castello.jpg
GEO:39.9793318;0.022053
X-APPLE-STRUCTURED-LOCATION;VALUE=URI;X-ADDRESS=Planetari de Castelló Passeig Marítim 1 (Grau de Castelló) Castelló Plana Alta 12100;X-APPLE-RADIUS=500;X-TITLE=Passeig Marítim\, 1 (Grau de Castelló):geo:0.022053,39.9793318
END:VEVENT
BEGIN:VEVENT
DTSTART;TZID=Europe/Paris:20251220T180000
DTEND;TZID=Europe/Paris:20251220T193000
DTSTAMP:20260424T051509
CREATED:20251220T073633Z
LAST-MODIFIED:20251220T073633Z
UID:10000660-1766253600-1766259000@familiespelvalencia.org
SUMMARY:Concert. Trobadorets
DESCRIPTION:Vila-Real omplirà els carrers d’activitats\, tallers creatius i música per a tota la família els dies de desembre. Entre les actuacions més esperades\, destaca el concert de Trobadorets\, un grup referent de la música familiar en valencià que farà cantar\, ballar i xalar a menuts i grans. \nTrobadorets és una formació nascuda el 2010 a les comarques del nord amb la idea de recuperar cançons populars infantils valencianes i crear temes propis. Amb molts concerts i discos publicats\, s’han consolidat com una proposta que naturalitza la musica en valencià entre les famílies i\, especialment\, entre les criatures de la casa. Els seus espectacles són una festa plena de ritme\, humor i interacció\, on no importa l’edat: tothom acaba cantant i ballant. Amb instruments com guitarra\, contrabaix\, percussions\, dolçaina\, oboè i bateria\, Trobadorets combina la tradició amb sonoritats actuals. El seu últim disc\, Creixem\, celebra 15 anys de trajectòria i continua transmetent valors de convivència\, alegria i estima per la nostra llengua i cultura. Acte per a tots els públics\, però especialment pensat per a la menudalla i famílies que vulguen viure el Nadal amb música\, diversió i esperit valencià.
URL:https://familiespelvalencia.org/activitat/concert-trobadorets-5/
LOCATION:Vila-Real\, Av. de la Murla\, Vila-Real\, Plana Baixa\, 12540
CATEGORIES:Comarques del nord
ATTACH;FMTTYPE=image/jpeg:https://familiespelvalencia.org/wp-content/uploads/2025/12/trobadorets-vilareal-j.jpeg
GEO:39.9397706;-0.1005932
X-APPLE-STRUCTURED-LOCATION;VALUE=URI;X-ADDRESS=Vila-Real Av. de la Murla Vila-Real Plana Baixa 12540;X-APPLE-RADIUS=500;X-TITLE=Av. de la Murla:geo:-0.1005932,39.9397706
END:VEVENT
BEGIN:VEVENT
DTSTART;TZID=Europe/Paris:20251220T183000
DTEND;TZID=Europe/Paris:20251220T193000
DTSTAMP:20260424T051509
CREATED:20251201T220642Z
LAST-MODIFIED:20251201T220642Z
UID:10000526-1766255400-1766259000@familiespelvalencia.org
SUMMARY:A Nadal un pas de pardal: concert de Dani Miquel
DESCRIPTION:Cantem i viatgem pel costumari nadalenc. \nEntrada gratuïta
URL:https://familiespelvalencia.org/activitat/a-nadal-un-pas-de-pardal-concert-de-dani-miquel/
LOCATION:Teatre Municipal de Morella\, Carrer de Segura Barreda\, 28\, Morella\, Els Ports
CATEGORIES:Comarques del nord
ATTACH;FMTTYPE=image/jpeg:https://familiespelvalencia.org/wp-content/uploads/2025/12/2025-12-20-A-Nadal-un-pas-de-pardal-b.jpg
GEO:40.6194354;-0.0991773
X-APPLE-STRUCTURED-LOCATION;VALUE=URI;X-ADDRESS=Teatre Municipal de Morella Carrer de Segura Barreda 28 Morella Els Ports;X-APPLE-RADIUS=500;X-TITLE=Carrer de Segura Barreda\, 28:geo:-0.0991773,40.6194354
END:VEVENT
BEGIN:VEVENT
DTSTART;TZID=Europe/Paris:20251220T190000
DTEND;TZID=Europe/Paris:20251220T210000
DTSTAMP:20260424T051509
CREATED:20251220T080002Z
LAST-MODIFIED:20251220T080043Z
UID:10000662-1766257200-1766264400@familiespelvalencia.org
SUMMARY:Passacarrers i Teatre: Betlem de la Pigà
DESCRIPTION:La tradició torna amb força aquest Nadal a Castelló! El Betlem de la Pigà 2025 es representarà el 20 de desembre a les 20:00 h al Teatre Principal\, però abans hi haurà una cita que encantarà als més menuts: un animat passacarrers a les 19:00 h que omplirà el centre de la ciutat de música\, color i ambient festiu. Aquesta proposta combina cultura\, tradició i diversió\, fent que les famílies puguen gaudir d’una vesprada completa: primer el passacarrers\, i després l’espectacle teatral que cada any emociona per la seua creativitat i arrelament popular. \n 
URL:https://familiespelvalencia.org/activitat/passacarrers-i-teatre-betylem-de-la-piga/
LOCATION:Teatre Principal.- Castelló de la Plana\, Pl. de la Pau\, s/n\, Castelló de la Plana\, Plana Alta\, 12001
CATEGORIES:Comarques del nord
ATTACH;FMTTYPE=image/webp:https://familiespelvalencia.org/wp-content/uploads/2025/12/betlem-de-la-piga-2025-scaled-1.webp
GEO:39.9836257;-0.0379674
X-APPLE-STRUCTURED-LOCATION;VALUE=URI;X-ADDRESS=Teatre Principal.- Castelló de la Plana Pl. de la Pau s/n Castelló de la Plana Plana Alta 12001;X-APPLE-RADIUS=500;X-TITLE=Pl. de la Pau\, s/n:geo:-0.0379674,39.9836257
END:VEVENT
END:VCALENDAR