BEGIN:VCALENDAR
VERSION:2.0
PRODID:-//FAMÍLIES PEL VALENCIÀ - ECPv6.15.20//NONSGML v1.0//EN
CALSCALE:GREGORIAN
METHOD:PUBLISH
X-ORIGINAL-URL:https://familiespelvalencia.org
X-WR-CALDESC:Esdeveniments per FAMÍLIES PEL VALENCIÀ
REFRESH-INTERVAL;VALUE=DURATION:PT1H
X-Robots-Tag:noindex
X-PUBLISHED-TTL:PT1H
BEGIN:VTIMEZONE
TZID:Europe/Paris
BEGIN:DAYLIGHT
TZOFFSETFROM:+0100
TZOFFSETTO:+0200
TZNAME:CEST
DTSTART:20240331T010000
END:DAYLIGHT
BEGIN:STANDARD
TZOFFSETFROM:+0200
TZOFFSETTO:+0100
TZNAME:CET
DTSTART:20241027T010000
END:STANDARD
BEGIN:DAYLIGHT
TZOFFSETFROM:+0100
TZOFFSETTO:+0200
TZNAME:CEST
DTSTART:20250330T010000
END:DAYLIGHT
BEGIN:STANDARD
TZOFFSETFROM:+0200
TZOFFSETTO:+0100
TZNAME:CET
DTSTART:20251026T010000
END:STANDARD
BEGIN:DAYLIGHT
TZOFFSETFROM:+0100
TZOFFSETTO:+0200
TZNAME:CEST
DTSTART:20260329T010000
END:DAYLIGHT
BEGIN:STANDARD
TZOFFSETFROM:+0200
TZOFFSETTO:+0100
TZNAME:CET
DTSTART:20261025T010000
END:STANDARD
END:VTIMEZONE
BEGIN:VEVENT
DTSTART;TZID=Europe/Paris:20251217T103000
DTEND;TZID=Europe/Paris:20251217T113000
DTSTAMP:20260424T051626
CREATED:20251201T123939Z
LAST-MODIFIED:20251201T123939Z
UID:10000523-1765967400-1765971000@familiespelvalencia.org
SUMMARY:Bebés melòdics: explorant el món de les notes i les paraules
DESCRIPTION:A càrrec de Mª José Doménech \nSessió d’experiència sensitiva i sonora per a facilitar el contacte dels nadons amb els llibres. \nLloc: 1ª planta \nPúblic: Famílies amb nadons de 0 a 12 mesos \nIdioma: Valencià \nDuració: 60′ \nMàxim 15 participants. \nEs recomana portar una tovallola per seure a terra.
URL:https://familiespelvalencia.org/activitat/bebes-melodics-explorant-el-mon-de-les-notes-i-les-paraules/
LOCATION:Biblioteca de Vinaròs\, c/ Mare de Déu del Pilar\, 26-bis\, Vinaròs\, Baix Maestrat
CATEGORIES:Comarques del nord
ATTACH;FMTTYPE=image/jpeg:https://familiespelvalencia.org/wp-content/uploads/2025/12/bebes-melodics.jpg
GEO:40.4706758;0.4731652
X-APPLE-STRUCTURED-LOCATION;VALUE=URI;X-ADDRESS=Biblioteca de Vinaròs c/ Mare de Déu del Pilar 26-bis Vinaròs Baix Maestrat;X-APPLE-RADIUS=500;X-TITLE=c/ Mare de Déu del Pilar\, 26-bis:geo:0.4731652,40.4706758
END:VEVENT
END:VCALENDAR