BEGIN:VCALENDAR
VERSION:2.0
PRODID:-//FAMÍLIES PEL VALENCIÀ - ECPv6.15.20//NONSGML v1.0//EN
CALSCALE:GREGORIAN
METHOD:PUBLISH
X-WR-CALNAME:FAMÍLIES PEL VALENCIÀ
X-ORIGINAL-URL:https://familiespelvalencia.org
X-WR-CALDESC:Esdeveniments per FAMÍLIES PEL VALENCIÀ
REFRESH-INTERVAL;VALUE=DURATION:PT1H
X-Robots-Tag:noindex
X-PUBLISHED-TTL:PT1H
BEGIN:VTIMEZONE
TZID:Europe/Paris
BEGIN:DAYLIGHT
TZOFFSETFROM:+0100
TZOFFSETTO:+0200
TZNAME:CEST
DTSTART:20250330T010000
END:DAYLIGHT
BEGIN:STANDARD
TZOFFSETFROM:+0200
TZOFFSETTO:+0100
TZNAME:CET
DTSTART:20251026T010000
END:STANDARD
BEGIN:DAYLIGHT
TZOFFSETFROM:+0100
TZOFFSETTO:+0200
TZNAME:CEST
DTSTART:20260329T010000
END:DAYLIGHT
BEGIN:STANDARD
TZOFFSETFROM:+0200
TZOFFSETTO:+0100
TZNAME:CET
DTSTART:20261025T010000
END:STANDARD
BEGIN:DAYLIGHT
TZOFFSETFROM:+0100
TZOFFSETTO:+0200
TZNAME:CEST
DTSTART:20270328T010000
END:DAYLIGHT
BEGIN:STANDARD
TZOFFSETFROM:+0200
TZOFFSETTO:+0100
TZNAME:CET
DTSTART:20271031T010000
END:STANDARD
END:VTIMEZONE
BEGIN:VEVENT
DTSTART;TZID=Europe/Paris:20260406T180000
DTEND;TZID=Europe/Paris:20260406T213000
DTSTAMP:20260424T035355
CREATED:20260331T160348Z
LAST-MODIFIED:20260331T160628Z
UID:10001174-1775498400-1775511000@familiespelvalencia.org
SUMMARY:Cinema. Mar i Cel
DESCRIPTION:Mar i Cel\, la producció de Dagoll Dagom més emblemàtica\, fa el salt a la gran pantalla gràcies a una coproducció amb 3Cat. La pel·lícula ofereix una nova manera de viure l’espectacle com mai s’ha vist. Dirigida per Paulí Subirà Claramunt\, la pel·lícula combina la força de l’espectacle teatral amb un llenguatge cinematogràfic espectacular. Rodada íntegrament en 4K HDR i Dolby Vision\, mostra imatges inèdites i noves perspectives —com càmeres situades sobre el vaixell— que permeten submergir-se encara més en la història de Saïd i Blanca. La banda sonora compta amb la participació de 53 músics de l’Orquestra Simfònica del Vallès\, dirigits per Sergi Cuenca amb la supervisió de Joan Vives\, i amb Albert Guinovart al piano. La pel·lícula reuneix la companyia de la producció del 2024\, protagonitzada per Alèxia Pascual i Jordi Garreta\, i arriba als cinemes de la mà de la distribuïdora Alfa Pictures. \nRecomanada a partir de 12 anys | Durada 128 min \nDiverses sessions: 18h | 20:15h \nMés informació i venda d’entrades: Utiye Cinema \nTràiler oficial
URL:https://familiespelvalencia.org/activitat/cinema-mar-i-cel-2/2026-04-06/
LOCATION:Cine Club Utiye\, Carrer Pintor Segrelles\, 1 (Centre Comercial el Teler)\, Ontinyent\, Vall d'Albaida\, 46870
CATEGORIES:Comarques centrals
ATTACH;FMTTYPE=image/jpeg:https://familiespelvalencia.org/wp-content/uploads/2026/03/Mar-i-Cel.jpg
GEO:38.8244707;-0.6028774
X-APPLE-STRUCTURED-LOCATION;VALUE=URI;X-ADDRESS=Cine Club Utiye Carrer Pintor Segrelles 1 (Centre Comercial el Teler) Ontinyent Vall d'Albaida 46870;X-APPLE-RADIUS=500;X-TITLE=Carrer Pintor Segrelles\, 1 (Centre Comercial el Teler):geo:-0.6028774,38.8244707
END:VEVENT
BEGIN:VEVENT
DTSTART;TZID=Europe/Paris:20260407T180000
DTEND;TZID=Europe/Paris:20260407T213000
DTSTAMP:20260424T035355
CREATED:20260331T160348Z
LAST-MODIFIED:20260331T160628Z
UID:10001175-1775584800-1775597400@familiespelvalencia.org
SUMMARY:Cinema. Mar i Cel
DESCRIPTION:Mar i Cel\, la producció de Dagoll Dagom més emblemàtica\, fa el salt a la gran pantalla gràcies a una coproducció amb 3Cat. La pel·lícula ofereix una nova manera de viure l’espectacle com mai s’ha vist. Dirigida per Paulí Subirà Claramunt\, la pel·lícula combina la força de l’espectacle teatral amb un llenguatge cinematogràfic espectacular. Rodada íntegrament en 4K HDR i Dolby Vision\, mostra imatges inèdites i noves perspectives —com càmeres situades sobre el vaixell— que permeten submergir-se encara més en la història de Saïd i Blanca. La banda sonora compta amb la participació de 53 músics de l’Orquestra Simfònica del Vallès\, dirigits per Sergi Cuenca amb la supervisió de Joan Vives\, i amb Albert Guinovart al piano. La pel·lícula reuneix la companyia de la producció del 2024\, protagonitzada per Alèxia Pascual i Jordi Garreta\, i arriba als cinemes de la mà de la distribuïdora Alfa Pictures. \nRecomanada a partir de 12 anys | Durada 128 min \nDiverses sessions: 18h | 20:15h \nMés informació i venda d’entrades: Utiye Cinema \nTràiler oficial
URL:https://familiespelvalencia.org/activitat/cinema-mar-i-cel-2/2026-04-07/
LOCATION:Cine Club Utiye\, Carrer Pintor Segrelles\, 1 (Centre Comercial el Teler)\, Ontinyent\, Vall d'Albaida\, 46870
CATEGORIES:Comarques centrals
ATTACH;FMTTYPE=image/jpeg:https://familiespelvalencia.org/wp-content/uploads/2026/03/Mar-i-Cel.jpg
GEO:38.8244707;-0.6028774
X-APPLE-STRUCTURED-LOCATION;VALUE=URI;X-ADDRESS=Cine Club Utiye Carrer Pintor Segrelles 1 (Centre Comercial el Teler) Ontinyent Vall d'Albaida 46870;X-APPLE-RADIUS=500;X-TITLE=Carrer Pintor Segrelles\, 1 (Centre Comercial el Teler):geo:-0.6028774,38.8244707
END:VEVENT
BEGIN:VEVENT
DTSTART;TZID=Europe/Paris:20260408T180000
DTEND;TZID=Europe/Paris:20260408T213000
DTSTAMP:20260424T035355
CREATED:20260331T160348Z
LAST-MODIFIED:20260331T160628Z
UID:10001176-1775671200-1775683800@familiespelvalencia.org
SUMMARY:Cinema. Mar i Cel
DESCRIPTION:Mar i Cel\, la producció de Dagoll Dagom més emblemàtica\, fa el salt a la gran pantalla gràcies a una coproducció amb 3Cat. La pel·lícula ofereix una nova manera de viure l’espectacle com mai s’ha vist. Dirigida per Paulí Subirà Claramunt\, la pel·lícula combina la força de l’espectacle teatral amb un llenguatge cinematogràfic espectacular. Rodada íntegrament en 4K HDR i Dolby Vision\, mostra imatges inèdites i noves perspectives —com càmeres situades sobre el vaixell— que permeten submergir-se encara més en la història de Saïd i Blanca. La banda sonora compta amb la participació de 53 músics de l’Orquestra Simfònica del Vallès\, dirigits per Sergi Cuenca amb la supervisió de Joan Vives\, i amb Albert Guinovart al piano. La pel·lícula reuneix la companyia de la producció del 2024\, protagonitzada per Alèxia Pascual i Jordi Garreta\, i arriba als cinemes de la mà de la distribuïdora Alfa Pictures. \nRecomanada a partir de 12 anys | Durada 128 min \nDiverses sessions: 18h | 20:15h \nMés informació i venda d’entrades: Utiye Cinema \nTràiler oficial
URL:https://familiespelvalencia.org/activitat/cinema-mar-i-cel-2/2026-04-08/
LOCATION:Cine Club Utiye\, Carrer Pintor Segrelles\, 1 (Centre Comercial el Teler)\, Ontinyent\, Vall d'Albaida\, 46870
CATEGORIES:Comarques centrals
ATTACH;FMTTYPE=image/jpeg:https://familiespelvalencia.org/wp-content/uploads/2026/03/Mar-i-Cel.jpg
GEO:38.8244707;-0.6028774
X-APPLE-STRUCTURED-LOCATION;VALUE=URI;X-ADDRESS=Cine Club Utiye Carrer Pintor Segrelles 1 (Centre Comercial el Teler) Ontinyent Vall d'Albaida 46870;X-APPLE-RADIUS=500;X-TITLE=Carrer Pintor Segrelles\, 1 (Centre Comercial el Teler):geo:-0.6028774,38.8244707
END:VEVENT
BEGIN:VEVENT
DTSTART;TZID=Europe/Paris:20260409T180000
DTEND;TZID=Europe/Paris:20260409T233000
DTSTAMP:20260424T035355
CREATED:20260331T160156Z
LAST-MODIFIED:20260331T160549Z
UID:10001169-1775757600-1775777400@familiespelvalencia.org
SUMMARY:Cinema. Mar i Cel
DESCRIPTION:Mar i Cel\, la producció de Dagoll Dagom més emblemàtica\, fa el salt a la gran pantalla gràcies a una coproducció amb 3Cat. La pel·lícula ofereix una nova manera de viure l’espectacle com mai s’ha vist. Dirigida per Paulí Subirà Claramunt\, la pel·lícula combina la força de l’espectacle teatral amb un llenguatge cinematogràfic espectacular. Rodada íntegrament en 4K HDR i Dolby Vision\, mostra imatges inèdites i noves perspectives —com càmeres situades sobre el vaixell— que permeten submergir-se encara més en la història de Saïd i Blanca. La banda sonora compta amb la participació de 53 músics de l’Orquestra Simfònica del Vallès\, dirigits per Sergi Cuenca amb la supervisió de Joan Vives\, i amb Albert Guinovart al piano. La pel·lícula reuneix la companyia de la producció del 2024\, protagonitzada per Alèxia Pascual i Jordi Garreta\, i arriba als cinemes de la mà de la distribuïdora Alfa Pictures. \nRecomanada a partir de 12 anys | Durada 128 min \nDiverses sessions: 18h | 20:15h | 22:30h \nMés informació i venda d’entrades: Utiye Cinema \nTràiler oficial
URL:https://familiespelvalencia.org/activitat/cinema-mar-i-cel/2026-04-09/
LOCATION:Cine Club Utiye\, Carrer Pintor Segrelles\, 1 (Centre Comercial el Teler)\, Ontinyent\, Vall d'Albaida\, 46870
CATEGORIES:Comarques centrals
ATTACH;FMTTYPE=image/jpeg:https://familiespelvalencia.org/wp-content/uploads/2026/03/Mar-i-Cel.jpg
GEO:38.8244707;-0.6028774
X-APPLE-STRUCTURED-LOCATION;VALUE=URI;X-ADDRESS=Cine Club Utiye Carrer Pintor Segrelles 1 (Centre Comercial el Teler) Ontinyent Vall d'Albaida 46870;X-APPLE-RADIUS=500;X-TITLE=Carrer Pintor Segrelles\, 1 (Centre Comercial el Teler):geo:-0.6028774,38.8244707
END:VEVENT
BEGIN:VEVENT
DTSTART;TZID=Europe/Paris:20260410T100000
DTEND;TZID=Europe/Paris:20260410T235900
DTSTAMP:20260424T035355
CREATED:20260410T071539Z
LAST-MODIFIED:20260410T072213Z
UID:10001210-1775815200-1775865540@familiespelvalencia.org
SUMMARY:Jornada pel Correllengua Agermanat a Muro
DESCRIPTION:El Parc del Batà de Muro acollirà una jornada cultural i festiva en el marc del Correllengua Agermanat\, pensada com un espai de reflexió\, participació i celebració de la llengua. Al llarg del dia hi haurà activitats per a tots els públics: contacontes i tallers infantils\, un trivial musical\, espais de debat al voltant de la creació cultural valenciana i la situació actual de la llengua\, així com exposicions\, música en directe\, sopar de cabasset i danses. Una proposta oberta i participativa que combina cultura\, festa i compromís amb el valencià. \n 
URL:https://familiespelvalencia.org/activitat/jornada-pel-correllengua-agermanat-a-muro/
LOCATION:Muro.- Parc del Batà\, Parc del Batà\, Muro\, El Comtat\, 03830
CATEGORIES:Comarques centrals
ATTACH;FMTTYPE=image/jpeg:https://familiespelvalencia.org/wp-content/uploads/2026/04/Correllengua-Muro.jpg
GEO:38.7804929;-0.4384458
X-APPLE-STRUCTURED-LOCATION;VALUE=URI;X-ADDRESS=Muro.- Parc del Batà Parc del Batà Muro El Comtat 03830;X-APPLE-RADIUS=500;X-TITLE=Parc del Batà:geo:-0.4384458,38.7804929
END:VEVENT
BEGIN:VEVENT
DTSTART;TZID=Europe/Paris:20260410T173000
DTEND;TZID=Europe/Paris:20260410T180000
DTSTAMP:20260424T035355
CREATED:20260409T134700Z
LAST-MODIFIED:20260409T134730Z
UID:10001209-1775842200-1775844000@familiespelvalencia.org
SUMMARY:L'Hora del conte a la biblioteca
DESCRIPTION:La Biblioteca de Gata de Gorgos ofereix setmanalment L’Hora del Conte\, on els menuts gaudeixen d’un conte i una activitat de dibuix. Aquesta setmana el conte serà:  “El soldadet de plom!” en Kamishibai d’Hans Christian Andersen  𝗟’𝗛𝗼𝗿𝗮 𝗱𝗲𝗹 𝗖𝗼𝗻𝘁𝗲 ️//  Divendres 10 d’abril //  a les 17:30h
URL:https://familiespelvalencia.org/activitat/lhora-del-conte-a-la-biblioteca-9/
LOCATION:Biblioteca Pública Municipal Carme Miquel de Gata de Gorgos\, Duquessa d'Almodòvar\, 3\, Gata de Gorgos\, Marina Alta\, 03740
CATEGORIES:Comarques centrals
ATTACH;FMTTYPE=image/png:https://familiespelvalencia.org/wp-content/uploads/2026/04/El-soldadet-de-Plom.png
ORGANIZER;CN="Biblioteca P%C3%BAblica Municipal de Gata de Gorgos":MAILTO:biblioteca@gatadegorgos.org
GEO:38.774555;0.0802247
X-APPLE-STRUCTURED-LOCATION;VALUE=URI;X-ADDRESS=Biblioteca Pública Municipal Carme Miquel de Gata de Gorgos Duquessa d'Almodòvar 3 Gata de Gorgos Marina Alta 03740;X-APPLE-RADIUS=500;X-TITLE=Duquessa d'Almodòvar\, 3:geo:0.0802247,38.774555
END:VEVENT
BEGIN:VEVENT
DTSTART;TZID=Europe/Paris:20260410T183000
DTEND;TZID=Europe/Paris:20260410T213000
DTSTAMP:20260424T035355
CREATED:20260401T052623Z
LAST-MODIFIED:20260401T052623Z
UID:10001177-1775845800-1775856600@familiespelvalencia.org
SUMMARY:Festival d'Arts Rurals.- FAR
DESCRIPTION:Alfafara acull per Pasqua la primera edició del Festival d’Arts Rurals (FAR)\, una proposta que porta teatre contemporani en valencià a l’entorn rural i aposta per una cultura descentralitzada i comunitària. La jornada inclou el lliurament del Premi FAR de Teatre Breu\, la lectura dramatitzada de l’obra guanyadora El contracte i l’espectacle AU!\, una peça de clown gestual i poètic\, sense text i pensada per a tots els públics. Totes les activitats són gratuïtes i tindran lloc al Centre Cultural El Patronat d’Alfafara.
URL:https://familiespelvalencia.org/activitat/festival-darts-rurals-far/
LOCATION:Centre Cultural El Patronat.- Alfafara\, Carrer de la Mateta\, 12\, Alfafara\, El Comtat\, 03838
CATEGORIES:Comarques centrals
ATTACH;FMTTYPE=image/png:https://familiespelvalencia.org/wp-content/uploads/2026/04/FAR.png
GEO:38.7710901;-0.5553263
X-APPLE-STRUCTURED-LOCATION;VALUE=URI;X-ADDRESS=Centre Cultural El Patronat.- Alfafara Carrer de la Mateta 12 Alfafara El Comtat 03838;X-APPLE-RADIUS=500;X-TITLE=Carrer de la Mateta\, 12:geo:-0.5553263,38.7710901
END:VEVENT
BEGIN:VEVENT
DTSTART;TZID=Europe/Paris:20260411T100000
DTEND;TZID=Europe/Paris:20260411T170000
DTSTAMP:20260424T035355
CREATED:20260411T070051Z
LAST-MODIFIED:20260411T070118Z
UID:10001214-1775901600-1775926800@familiespelvalencia.org
SUMMARY:Gaspatxà Popular
DESCRIPTION:Castalla celebra la primera Gaspatxà Popular amb una jornada festiva i primaverenca que convida a compartir taula\, música i cultura al cor del poble. Un dia per retrobar-se al carrer\, gaudir de la gastronomia tradicional i omplir de vida el centre històric\, amb activitats per a tots els públics al llarg del dia. La iniciativa naix de la mà del Centre Cultural Castellut\, una entitat amb una llarga trajectòria impulsant la cultura\, la llengua i la vida social a Castalla\, que torna a demostrar el seu compromís constant amb fer poble i crear espais de convivència oberts i participatiu. \nAforament limitat. Cal apuntar-se. Més informació: Centre Cultural Castellut
URL:https://familiespelvalencia.org/activitat/gaspatxa-popular/
LOCATION:Castalla.- Parc de Sant Antoni\, Parc de Sant Antoni\, Castalla\, L'Alcoià\, 03420
CATEGORIES:Comarques centrals
ATTACH;FMTTYPE=image/webp:https://familiespelvalencia.org/wp-content/uploads/2026/04/gaspatxa-popular-castalla-2026.webp
ORGANIZER;CN="Centre Cultural Castellut":MAILTO:contacte@centreculturalcastellut.cat
GEO:38.5934127;-0.6725355
X-APPLE-STRUCTURED-LOCATION;VALUE=URI;X-ADDRESS=Castalla.- Parc de Sant Antoni Parc de Sant Antoni Castalla L'Alcoià 03420;X-APPLE-RADIUS=500;X-TITLE=Parc de Sant Antoni:geo:-0.6725355,38.5934127
END:VEVENT
BEGIN:VEVENT
DTSTART;TZID=Europe/Paris:20260411T110000
DTEND;TZID=Europe/Paris:20260411T120000
DTSTAMP:20260424T035355
CREATED:20260410T144142Z
LAST-MODIFIED:20260410T144142Z
UID:10001211-1775905200-1775908800@familiespelvalencia.org
SUMMARY:Contacontes amb Rut Ponsoda
DESCRIPTION:La llibreria Detroit Llibres acollirà un contacontes molt especial amb Rut Ponsoda\, d’El Sarnatxo Animacions. Amb la seua energia\, creativitat i capacitat per connectar amb el públic menut\, Rut transformarà la llibreria en un espai ple d’històries que cobren vida. Una proposta ideal per a famílies que busquen una estona de fantasia\, humor i proximitat\, on la màgia dels contes es combina amb la sensibilitat i el joc escènic característics de Sarnatxo Animació.
URL:https://familiespelvalencia.org/activitat/contacontes-amb-rut-ponsoda-3/
LOCATION:Detroit llibres\, Carrer Oliver\, 5\, Alcoi\, L'Alcoià\, 03802
CATEGORIES:Comarques centrals
ATTACH;FMTTYPE=image/png:https://familiespelvalencia.org/wp-content/uploads/2026/01/El-Sarnatxo-Animacio-ruth.png
GEO:38.6948508;-0.4812384
X-APPLE-STRUCTURED-LOCATION;VALUE=URI;X-ADDRESS=Detroit llibres Carrer Oliver 5 Alcoi L'Alcoià 03802;X-APPLE-RADIUS=500;X-TITLE=Carrer Oliver\, 5:geo:-0.4812384,38.6948508
END:VEVENT
BEGIN:VEVENT
DTSTART;TZID=Europe/Paris:20260411T120000
DTEND;TZID=Europe/Paris:20260411T235900
DTSTAMP:20260424T035355
CREATED:20260403T041710Z
LAST-MODIFIED:20260403T042512Z
UID:10001185-1775908800-1775951940@familiespelvalencia.org
SUMMARY:Festillobet i Festillop
DESCRIPTION:Vilallonga acull una nova edició del Festillobet i Festillop\, una jornada festiva oberta a totes les edats que combina propostes pensades per al públic infantil amb una potent programació musical per a gaudir en família al llarg del dia.
URL:https://familiespelvalencia.org/activitat/festillobet-i-festillop/
LOCATION:Vilallonga.- Pàrquing Dulcesol\, Carrer Antic Regne de València\, Vilallonga\, La Safor\, 46720
CATEGORIES:Comarques centrals
ATTACH;FMTTYPE=image/jpeg:https://familiespelvalencia.org/wp-content/uploads/2026/04/Festillop.jpg
GEO:38.8725866;-0.2338473
X-APPLE-STRUCTURED-LOCATION;VALUE=URI;X-ADDRESS=Vilallonga.- Pàrquing Dulcesol Carrer Antic Regne de València Vilallonga La Safor 46720;X-APPLE-RADIUS=500;X-TITLE=Carrer Antic Regne de València:geo:-0.2338473,38.8725866
END:VEVENT
BEGIN:VEVENT
DTSTART;TZID=Europe/Paris:20260412T183000
DTEND;TZID=Europe/Paris:20260412T193000
DTSTAMP:20260424T035355
CREATED:20260407T135942Z
LAST-MODIFIED:20260407T140038Z
UID:10001206-1776018600-1776022200@familiespelvalencia.org
SUMMARY:Teatre. Retalls de versos
DESCRIPTION:Una selecció de versos contats amb música en directe\, jocs teatrals i objectes\, on els espectadors formaran part d’un viatge de paraules\, sons i molta imaginació. A través de poesies d’autors i autores valencians\, acuradament triades per al públic més menut. \nMés informació: Ajuntament de Bocairent \nAvanç en vídeo: Retalls de versos
URL:https://familiespelvalencia.org/activitat/teatre-retalls-de-versos/
LOCATION:Teatre Avenida.- Bocairent\, Carrer del Diputat Castelló\, 26\, Bocairent\, Vall d'Albaida\, 46880
CATEGORIES:Comarques centrals
ATTACH;FMTTYPE=image/jpeg:https://familiespelvalencia.org/wp-content/uploads/2026/04/Retalls-de-versos-Bocairent.jpg
GEO:38.7645334;-0.6110428
X-APPLE-STRUCTURED-LOCATION;VALUE=URI;X-ADDRESS=Teatre Avenida.- Bocairent Carrer del Diputat Castelló 26 Bocairent Vall d'Albaida 46880;X-APPLE-RADIUS=500;X-TITLE=Carrer del Diputat Castelló\, 26:geo:-0.6110428,38.7645334
END:VEVENT
END:VCALENDAR