BEGIN:VCALENDAR
VERSION:2.0
PRODID:-//FAMÍLIES PEL VALENCIÀ - ECPv6.15.20//NONSGML v1.0//EN
CALSCALE:GREGORIAN
METHOD:PUBLISH
X-ORIGINAL-URL:https://familiespelvalencia.org
X-WR-CALDESC:Esdeveniments per FAMÍLIES PEL VALENCIÀ
REFRESH-INTERVAL;VALUE=DURATION:PT1H
X-Robots-Tag:noindex
X-PUBLISHED-TTL:PT1H
BEGIN:VTIMEZONE
TZID:Europe/Paris
BEGIN:DAYLIGHT
TZOFFSETFROM:+0100
TZOFFSETTO:+0200
TZNAME:CEST
DTSTART:20250330T010000
END:DAYLIGHT
BEGIN:STANDARD
TZOFFSETFROM:+0200
TZOFFSETTO:+0100
TZNAME:CET
DTSTART:20251026T010000
END:STANDARD
BEGIN:DAYLIGHT
TZOFFSETFROM:+0100
TZOFFSETTO:+0200
TZNAME:CEST
DTSTART:20260329T010000
END:DAYLIGHT
BEGIN:STANDARD
TZOFFSETFROM:+0200
TZOFFSETTO:+0100
TZNAME:CET
DTSTART:20261025T010000
END:STANDARD
BEGIN:DAYLIGHT
TZOFFSETFROM:+0100
TZOFFSETTO:+0200
TZNAME:CEST
DTSTART:20270328T010000
END:DAYLIGHT
BEGIN:STANDARD
TZOFFSETFROM:+0200
TZOFFSETTO:+0100
TZNAME:CET
DTSTART:20271031T010000
END:STANDARD
END:VTIMEZONE
BEGIN:VEVENT
DTSTART;TZID=Europe/Paris:20260321T120000
DTEND;TZID=Europe/Paris:20260321T140000
DTSTAMP:20260424T050159
CREATED:20260321T065834Z
LAST-MODIFIED:20260321T070013Z
UID:10001088-1774094400-1774101600@familiespelvalencia.org
SUMMARY:V Cicle de Música i Art. Rap i Cultura urbana
DESCRIPTION:L’Escola de Música Crescendo impulsa la cinquena edició del Cicle Música i Art\, una proposta cultural que torna a apostar per la fusió de la música amb altres disciplines artístiques per acostar la cultura a públics diversos. El cicle ofereix activitats obertes i accessibles\, amb especial atenció a la tradició valenciana\, la narració oral\, la poesia i les expressions de cultura urbana\, combinant arrels i contemporaneïtat. Aquesta V edició consolida el projecte com un espai de trobada creatiu i educatiu\, on alumnat\, artistes i públic comparteixen experiències culturals\, reforçant el paper de la música com a fil conductor i eina de cohesió cultural a la ciutat d’Alcoi. \n 
URL:https://familiespelvalencia.org/activitat/v-cicle-de-musica-i-art/
LOCATION:Crescendo Escola de música\, Passeig Cervantes\, Alcoi\, L'Alcoià\, 03803
CATEGORIES:Comarques centrals
ATTACH;FMTTYPE=image/jpeg:https://familiespelvalencia.org/wp-content/uploads/2026/03/V-Cicle-de-Musica-i-Art.jpeg
GEO:38.6987066;-0.4810937
X-APPLE-STRUCTURED-LOCATION;VALUE=URI;X-ADDRESS=Crescendo Escola de música Passeig Cervantes Alcoi L'Alcoià 03803;X-APPLE-RADIUS=500;X-TITLE=Passeig Cervantes:geo:-0.4810937,38.6987066
END:VEVENT
BEGIN:VEVENT
DTSTART;TZID=Europe/Paris:20260322T113000
DTEND;TZID=Europe/Paris:20260322T124000
DTSTAMP:20260424T050159
CREATED:20260210T212958Z
LAST-MODIFIED:20260210T212958Z
UID:10000947-1774179000-1774183200@familiespelvalencia.org
SUMMARY:Cinema. Jacob\, Mimi i els gossos del barri
DESCRIPTION:Quan son pare se n’ha d’anar fora per negocis\, Jacob es veu obligat a passar una setmana a casa de la seua cosina Mimi i l’oncle Àguila al barri antic de Riga\, Maskachka. Allà descobreixen que un empresari ric vol destruir el parc central per construir gratacels\, i decideixen aturar-lo amb l’ajut d’una colla de gossos de carrer… que poden parlar! \nDurada: 70 min \nLetonia i Polònia | 2019 // Direcció: Elmund Jansons
URL:https://familiespelvalencia.org/activitat/cinema-jacob-mimi-i-els-gossos-del-barri/
LOCATION:Teatre Serrano\, Gandia\, Pg. de les Germanies\, 29\, Gandia\, La Safor\, 46702
CATEGORIES:Comarques centrals
ATTACH;FMTTYPE=image/jpeg:https://familiespelvalencia.org/wp-content/uploads/2026/02/Jacob_Mimi_i_els_gossos_del_barri.jpeg
GEO:38.9655571;-0.1841386
X-APPLE-STRUCTURED-LOCATION;VALUE=URI;X-ADDRESS=Teatre Serrano Gandia Pg. de les Germanies 29 Gandia La Safor 46702;X-APPLE-RADIUS=500;X-TITLE=Pg. de les Germanies\, 29:geo:-0.1841386,38.9655571
END:VEVENT
BEGIN:VEVENT
DTSTART;TZID=Europe/Paris:20260322T120000
DTEND;TZID=Europe/Paris:20260322T130000
DTSTAMP:20260424T050159
CREATED:20260213T215143Z
LAST-MODIFIED:20260213T215405Z
UID:10000962-1774180800-1774184400@familiespelvalencia.org
SUMMARY:Teatre. Grúmic\, un somni de tardor
DESCRIPTION:Cia. La Fornal \nMolts diuen que la tardor arriba perquè el Sol i la Terra es mouen i canvien les seves posicions en l’univers. El Sol s’allunya de la Terra i\, per això\, fa més fred i es fa de nit més d’hora. Però\, de veritat creus que és així? A Grúmic feim una nova versió de la tardor: La versió és que un follet molt espavilat dirigeix tots els elements de la natura per a què arribi la tardor. El follet es diu Grúmic i t’explicarà com s’ho fa per a què caiguin les fulles dels arbres.\nAmb Grúmic hi ha la seva amiga Nona. Tots dos es troben un bon dia quan Nona no té gens de ganes d’anar a escola. Grúmic li revela un gran secret: que ell és l’encarregat d’organitzar la tardor. Fa que arribin les pluges i els vents\, pinta el paisatge amb centenars de pintures de milers de tonalitats marrons\, ordena que les fulles dels arbres caiguin a terra per a formar catifes naturals\, i fa moltes més activitats que omplen l’agenda del follet durant tots aquests mesos de tardor. “Grúmic\, un somni de tardor” és l’obra teatral que protagonitzen el follet Grúmic i Nona\, amb un tercer actor que és l’encarregat de moure i manipular totes les titelles. \nDurada de l’espectacle: 50 minuts // A partir de 3 anys // Millor Espectacle Infantil\, 13ª edició dels Premis de Públic de la Sala Russafa\, València. \nEntrada lliure fins a completar aforament \nTrailer Grúmic\, un somni de tardor. La Fornal d’Espectacles.
URL:https://familiespelvalencia.org/activitat/teatre-fabulant-3/
LOCATION:Teatre Auditori Centre Social.- Dénia\, C/ Calderón\, 4\, Dénia\, Marina Alta\, 03700
CATEGORIES:Comarques centrals
ATTACH;FMTTYPE=image/png:https://familiespelvalencia.org/wp-content/uploads/2026/02/Grumic.png
GEO:38.840564;0.1114
X-APPLE-STRUCTURED-LOCATION;VALUE=URI;X-ADDRESS=Teatre Auditori Centre Social.- Dénia C/ Calderón 4 Dénia Marina Alta 03700;X-APPLE-RADIUS=500;X-TITLE=C/ Calderón\, 4:geo:0.1114,38.840564
END:VEVENT
END:VCALENDAR