BEGIN:VCALENDAR
VERSION:2.0
PRODID:-//FAMÍLIES PEL VALENCIÀ - ECPv6.15.20//NONSGML v1.0//EN
CALSCALE:GREGORIAN
METHOD:PUBLISH
X-ORIGINAL-URL:https://familiespelvalencia.org
X-WR-CALDESC:Esdeveniments per FAMÍLIES PEL VALENCIÀ
REFRESH-INTERVAL;VALUE=DURATION:PT1H
X-Robots-Tag:noindex
X-PUBLISHED-TTL:PT1H
BEGIN:VTIMEZONE
TZID:Europe/Paris
BEGIN:DAYLIGHT
TZOFFSETFROM:+0100
TZOFFSETTO:+0200
TZNAME:CEST
DTSTART:20250330T010000
END:DAYLIGHT
BEGIN:STANDARD
TZOFFSETFROM:+0200
TZOFFSETTO:+0100
TZNAME:CET
DTSTART:20251026T010000
END:STANDARD
BEGIN:DAYLIGHT
TZOFFSETFROM:+0100
TZOFFSETTO:+0200
TZNAME:CEST
DTSTART:20260329T010000
END:DAYLIGHT
BEGIN:STANDARD
TZOFFSETFROM:+0200
TZOFFSETTO:+0100
TZNAME:CET
DTSTART:20261025T010000
END:STANDARD
BEGIN:DAYLIGHT
TZOFFSETFROM:+0100
TZOFFSETTO:+0200
TZNAME:CEST
DTSTART:20270328T010000
END:DAYLIGHT
BEGIN:STANDARD
TZOFFSETFROM:+0200
TZOFFSETTO:+0100
TZNAME:CET
DTSTART:20271031T010000
END:STANDARD
END:VTIMEZONE
BEGIN:VEVENT
DTSTART;TZID=Europe/Paris:20260310T174500
DTEND;TZID=Europe/Paris:20260310T184500
DTSTAMP:20260424T041913
CREATED:20260309T210216Z
LAST-MODIFIED:20260309T210216Z
UID:10001031-1773164700-1773168300@familiespelvalencia.org
SUMMARY:Teatre. El vestit nou de l'emperador
DESCRIPTION:El vestit nou de l’emperador arriba a l’escenari en una proposta teatral pensada per a públic familiar\, inspirada en el clàssic conte d’Andersen. A través de l’humor\, la fantasia i un llenguatge proper als més menuts\, l’obra convida a reflexionar sobre la sinceritat\, el pensament crític i el valor de dir la veritat. Una representació plena de color\, personatges entranyables i situacions divertides que captarà l’atenció de xiquets i xiquetes\, alhora que transmet un missatge educatiu i actual. Una bona oportunitat per gaudir del teatre en família i compartir una història que no passa mai de moda. \n  \nPúblic infantil \n 
URL:https://familiespelvalencia.org/activitat/teatre-el-vestit-nou-de-lemperador/
LOCATION:Ivam Cada Alcoi\, Rigoberto Albors\, 8\, Alcoi\, L'Alcoià\, 03801
CATEGORIES:Comarques centrals
ATTACH;FMTTYPE=image/png:https://familiespelvalencia.org/wp-content/uploads/2026/03/el-vestit-de-lemperador.png
GEO:38.6913294;-0.4761893
X-APPLE-STRUCTURED-LOCATION;VALUE=URI;X-ADDRESS=Ivam Cada Alcoi Rigoberto Albors 8 Alcoi L'Alcoià 03801;X-APPLE-RADIUS=500;X-TITLE=Rigoberto Albors\, 8:geo:-0.4761893,38.6913294
END:VEVENT
BEGIN:VEVENT
DTSTART;TZID=Europe/Paris:20260313T173000
DTEND;TZID=Europe/Paris:20260313T180000
DTSTAMP:20260424T041913
CREATED:20260312T085244Z
LAST-MODIFIED:20260312T085244Z
UID:10001049-1773423000-1773424800@familiespelvalencia.org
SUMMARY:L’Hora del conte a la biblioteca
DESCRIPTION:La Biblioteca de Gata de Gorgos ofereix setmanalment L’Hora del Conte\, on els menuts gaudeixen d’un conte i una activitat de dibuix. Aquesta setmana el conte serà:  “La princesa NO” de Martín Badia  𝗟’𝗛𝗼𝗿𝗮 𝗱𝗲𝗹 𝗖𝗼𝗻𝘁𝗲 ️//  Divendres 13 de març //  a les 17:30h
URL:https://familiespelvalencia.org/activitat/lhora-del-conte-a-la-biblioteca-7/
LOCATION:Biblioteca Pública Municipal Carme Miquel de Gata de Gorgos\, Duquessa d'Almodòvar\, 3\, Gata de Gorgos\, Marina Alta\, 03740
CATEGORIES:Comarques centrals
ATTACH;FMTTYPE=image/png:https://familiespelvalencia.org/wp-content/uploads/2026/03/Hora-del-Conte-13-marc.png
ORGANIZER;CN="Biblioteca P%C3%BAblica Municipal de Gata de Gorgos":MAILTO:biblioteca@gatadegorgos.org
GEO:38.774555;0.0802247
X-APPLE-STRUCTURED-LOCATION;VALUE=URI;X-ADDRESS=Biblioteca Pública Municipal Carme Miquel de Gata de Gorgos Duquessa d'Almodòvar 3 Gata de Gorgos Marina Alta 03740;X-APPLE-RADIUS=500;X-TITLE=Duquessa d'Almodòvar\, 3:geo:0.0802247,38.774555
END:VEVENT
BEGIN:VEVENT
DTSTART;TZID=Europe/Paris:20260313T190000
DTEND;TZID=Europe/Paris:20260313T203000
DTSTAMP:20260424T041913
CREATED:20260312T083520Z
LAST-MODIFIED:20260312T083520Z
UID:10001050-1773428400-1773433800@familiespelvalencia.org
SUMMARY:Actuació Cesk Freixas. Presentació conte "Ovidi Montllor"
DESCRIPTION:La llibreria Detroit d’Alcoi acull aquest divendres 13 la presentació del conte Ovidi Montllor\, una obra publicada per Tigre de Paper que apropa la figura de l’artista alcoià a les noves generacions. El llibre recorre la seua vida i el seu compromís amb la cultura\, la llengua i la dignitat del poble\, amb un llenguatge proper i il·lustracions pensades per a públic familiar. La presentació comptarà amb una actuació especial de Cesk Freixas\, que posarà veu i música a l’esperit de l’Ovidi\, en un acte que combina literatura\, memòria i cançó d’autor. Una cita molt especial per retrobar-nos amb un dels referents culturals més estimats del país\, al seu Alcoi natal.
URL:https://familiespelvalencia.org/activitat/actuacio-cesk-freixas-presentacio-conte-ovidi-montllor/
LOCATION:Detroit llibres\, Carrer Oliver\, 5\, Alcoi\, L'Alcoià\, 03802
CATEGORIES:Comarques centrals
ATTACH;FMTTYPE=image/jpeg:https://familiespelvalencia.org/wp-content/uploads/2026/03/Cesk-Freixas.jpg
GEO:38.6948508;-0.4812384
X-APPLE-STRUCTURED-LOCATION;VALUE=URI;X-ADDRESS=Detroit llibres Carrer Oliver 5 Alcoi L'Alcoià 03802;X-APPLE-RADIUS=500;X-TITLE=Carrer Oliver\, 5:geo:-0.4812384,38.6948508
END:VEVENT
BEGIN:VEVENT
DTSTART;TZID=Europe/Paris:20260314T110000
DTEND;TZID=Europe/Paris:20260314T120000
DTSTAMP:20260424T041913
CREATED:20260305T114733Z
LAST-MODIFIED:20260305T114733Z
UID:10001024-1773486000-1773489600@familiespelvalencia.org
SUMMARY:Contacontes amb Rut Ponsoda
DESCRIPTION:La llibreria Detroit Llibres acollirà un contacontes molt especial amb Rut Ponsoda\, d’El Sarnatxo Animacions. Amb la seua energia\, creativitat i capacitat per connectar amb el públic menut\, Rut transformarà la llibreria en un espai ple d’històries que cobren vida. Una proposta ideal per a famílies que busquen una estona de fantasia\, humor i proximitat\, on la màgia dels contes es combina amb la sensibilitat i el joc escènic característics de Sarnatxo Animació.
URL:https://familiespelvalencia.org/activitat/contacontes-amb-rut-ponsoda-2/
LOCATION:Detroit llibres\, Carrer Oliver\, 5\, Alcoi\, L'Alcoià\, 03802
CATEGORIES:Comarques centrals
ATTACH;FMTTYPE=image/png:https://familiespelvalencia.org/wp-content/uploads/2026/01/El-Sarnatxo-Animacio-ruth.png
GEO:38.6948508;-0.4812384
X-APPLE-STRUCTURED-LOCATION;VALUE=URI;X-ADDRESS=Detroit llibres Carrer Oliver 5 Alcoi L'Alcoià 03802;X-APPLE-RADIUS=500;X-TITLE=Carrer Oliver\, 5:geo:-0.4812384,38.6948508
END:VEVENT
BEGIN:VEVENT
DTSTART;TZID=Europe/Paris:20260314T113000
DTEND;TZID=Europe/Paris:20260314T123000
DTSTAMP:20260424T041913
CREATED:20260213T173012Z
LAST-MODIFIED:20260213T173012Z
UID:10000955-1773487800-1773491400@familiespelvalencia.org
SUMMARY:Dissabtes Divertits.- Biblioteca Tirisiti
DESCRIPTION:La Biblioteca Tirisiti d’Alcoi presenta una nova edició dels “Dissabtes Divertits”\, una proposta mensual d’activitats gratuïtes per a xiquetes i xiquets de 5 a 12 anys que combina creativitat\, lectura i descobriment cultural. Al febrer\, les famílies podran gaudir de manualitats per Carnestoltes i d’un conte contat\, mentre que al març les sessions se centraran en les dones referents i en donar la benvinguda a la primavera a la biblioteca. Totes les activitats se celebren els dissabtes a les 11:30 h i requereixen inscripció prèvia a la Biblioteca Tirisiti. Una oportunitat fantàstica perquè els més menuts visquen la cultura en valencià d’una manera lúdica i propera!
URL:https://familiespelvalencia.org/activitat/dissabtes-divertits-biblioteca-tirisiti/2026-03-14/
LOCATION:Biblioteca Tirisiti\, Av. País Valencià\, 1\, Alcoi\, L'Alcoià\, 03801
CATEGORIES:Comarques centrals
ATTACH;FMTTYPE=image/jpeg:https://familiespelvalencia.org/wp-content/uploads/2026/02/DISSABTES-DIVERTITS.jpeg
GEO:38.697146;-0.4752305
X-APPLE-STRUCTURED-LOCATION;VALUE=URI;X-ADDRESS=Biblioteca Tirisiti Av. País Valencià 1 Alcoi L'Alcoià 03801;X-APPLE-RADIUS=500;X-TITLE=Av. País Valencià\, 1:geo:-0.4752305,38.697146
END:VEVENT
BEGIN:VEVENT
DTSTART;TZID=Europe/Paris:20260315T113000
DTEND;TZID=Europe/Paris:20260315T123000
DTSTAMP:20260424T041913
CREATED:20260313T124400Z
LAST-MODIFIED:20260313T124400Z
UID:10001053-1773574200-1773577800@familiespelvalencia.org
SUMMARY:Concert Dani Miquel a Agullent
DESCRIPTION:L’Auditori Municipal ‘Josep Maria Bru’ acollirà el pròxim diumenge 15 de març\, a les 11.30 h\, amb entrada gratuïta\, el concert de Dani Miquel\, dolçainer\, compositor i cantautor valencià amb una llarga trajectòria vinculada a la música tradicional. Professor de dolçaina al Conservatori José Iturbi de València\, ha format part de grups de referència del folk valencià com Sonadors de la Guaita i Aljub\, i actualment desenvolupa la seua carrera en solitari com a “Cantacançons”. \nEl concert forma part de la programació d’activitats que està desenvolupant el programa de formació en intel·ligència artificial Digital IA\, dirigit per Valgrai. En aquest cas\, el nostre municipi\, adherit al programa\, ha aconseguit una alta participació formativa tant en els cursos presencials com els cursos en línia\, fet que ha convertit a Agullent en beneficiari d’aquest concert.
URL:https://familiespelvalencia.org/activitat/concert-dani-miquel-a-agullent/
LOCATION:Auditori Municipal Josep Maria Bru\, Agullent\, Vall d'Albaida
CATEGORIES:Comarques centrals
ATTACH;FMTTYPE=image/jpeg:https://familiespelvalencia.org/wp-content/uploads/2026/03/baixa-2.jpg
END:VEVENT
BEGIN:VEVENT
DTSTART;TZID=Europe/Paris:20260315T120000
DTEND;TZID=Europe/Paris:20260315T133500
DTSTAMP:20260424T041913
CREATED:20260213T211018Z
LAST-MODIFIED:20260213T211113Z
UID:10000960-1773576000-1773581700@familiespelvalencia.org
SUMMARY:Cinema. Super Mario Bross. La pel·lícula
DESCRIPTION:Mario\, un lampista de Brooklyn\, viatja pel Regne dels Bolets amb la princesa Peach i el bolet antropomòrfic Toad per trobar Luigi (el germà de Mario) i per salvar el món del despietat Bowser. \nDirecció: Aaron Horvath; Michael Jelenic | USA 2023 // Duració: 95 minuts \nEntrada lliure fins a completar l’aforament
URL:https://familiespelvalencia.org/activitat/cinema-super-mario-bross-la-pellicula/
LOCATION:Teatre Auditori Centre Social.- Dénia\, C/ Calderón\, 4\, Dénia\, Marina Alta\, 03700
CATEGORIES:Comarques centrals
ATTACH;FMTTYPE=image/jpeg:https://familiespelvalencia.org/wp-content/uploads/2026/02/SUPER-MARIO-BROS-LA-PEL.LICULA.jpg
GEO:38.840564;0.1114
X-APPLE-STRUCTURED-LOCATION;VALUE=URI;X-ADDRESS=Teatre Auditori Centre Social.- Dénia C/ Calderón 4 Dénia Marina Alta 03700;X-APPLE-RADIUS=500;X-TITLE=C/ Calderón\, 4:geo:0.1114,38.840564
END:VEVENT
END:VCALENDAR