BEGIN:VCALENDAR
VERSION:2.0
PRODID:-//FAMÍLIES PEL VALENCIÀ - ECPv6.15.20//NONSGML v1.0//EN
CALSCALE:GREGORIAN
METHOD:PUBLISH
X-WR-CALNAME:FAMÍLIES PEL VALENCIÀ
X-ORIGINAL-URL:https://familiespelvalencia.org
X-WR-CALDESC:Esdeveniments per FAMÍLIES PEL VALENCIÀ
REFRESH-INTERVAL;VALUE=DURATION:PT1H
X-Robots-Tag:noindex
X-PUBLISHED-TTL:PT1H
BEGIN:VTIMEZONE
TZID:Europe/Paris
BEGIN:DAYLIGHT
TZOFFSETFROM:+0100
TZOFFSETTO:+0200
TZNAME:CEST
DTSTART:20250330T010000
END:DAYLIGHT
BEGIN:STANDARD
TZOFFSETFROM:+0200
TZOFFSETTO:+0100
TZNAME:CET
DTSTART:20251026T010000
END:STANDARD
BEGIN:DAYLIGHT
TZOFFSETFROM:+0100
TZOFFSETTO:+0200
TZNAME:CEST
DTSTART:20260329T010000
END:DAYLIGHT
BEGIN:STANDARD
TZOFFSETFROM:+0200
TZOFFSETTO:+0100
TZNAME:CET
DTSTART:20261025T010000
END:STANDARD
BEGIN:DAYLIGHT
TZOFFSETFROM:+0100
TZOFFSETTO:+0200
TZNAME:CEST
DTSTART:20270328T010000
END:DAYLIGHT
BEGIN:STANDARD
TZOFFSETFROM:+0200
TZOFFSETTO:+0100
TZNAME:CET
DTSTART:20271031T010000
END:STANDARD
END:VTIMEZONE
BEGIN:VEVENT
DTSTART;TZID=Europe/Paris:20260130T173000
DTEND;TZID=Europe/Paris:20260130T180000
DTSTAMP:20260424T043716
CREATED:20260129T113921Z
LAST-MODIFIED:20260129T113921Z
UID:10000774-1769794200-1769796000@familiespelvalencia.org
SUMMARY:L'Hora del conte a la biblioteca
DESCRIPTION:La Biblioteca de Gata de Gorgos ofereix setmanalment L’Hora del Conte\, on els menuts gaudeixen d’un conte i una activitat de dibuix. Aquesta setmana el conte es narrarà en teatre kamishibai\, una forma tradicional japonesa de narració oral i visual. \n 𝗟’𝗛𝗼𝗿𝗮 𝗱𝗲𝗹 𝗖𝗼𝗻𝘁𝗲 ️\n Divendres 30 de gener\n a les 17:30h\n “Hans i la princesa” en teatre Kamishibai
URL:https://familiespelvalencia.org/activitat/lhora-del-conte-a-la-biblioteca-2/
LOCATION:Biblioteca Pública Municipal Carme Miquel de Gata de Gorgos\, Duquessa d'Almodòvar\, 3\, Gata de Gorgos\, Marina Alta\, 03740
CATEGORIES:Comarques centrals
ATTACH;FMTTYPE=image/jpeg:https://familiespelvalencia.org/wp-content/uploads/2026/01/Polished-HW-3.jpg
ORGANIZER;CN="Biblioteca P%C3%BAblica Municipal de Gata de Gorgos":MAILTO:biblioteca@gatadegorgos.org
GEO:38.774555;0.0802247
X-APPLE-STRUCTURED-LOCATION;VALUE=URI;X-ADDRESS=Biblioteca Pública Municipal Carme Miquel de Gata de Gorgos Duquessa d'Almodòvar 3 Gata de Gorgos Marina Alta 03740;X-APPLE-RADIUS=500;X-TITLE=Duquessa d'Almodòvar\, 3:geo:0.0802247,38.774555
END:VEVENT
BEGIN:VEVENT
DTSTART;TZID=Europe/Paris:20260131T110000
DTEND;TZID=Europe/Paris:20260131T120000
DTSTAMP:20260424T043716
CREATED:20260117T113720Z
LAST-MODIFIED:20260117T114249Z
UID:10000745-1769857200-1769860800@familiespelvalencia.org
SUMMARY:Contacontes amb Rut Ponsoda
DESCRIPTION:La llibreria Detroit Llibres acollirà un contacontes molt especial amb Rut Ponsoda\, d’El Sarnatxo Animacions. Amb la seua energia\, creativitat i capacitat per connectar amb el públic menut\, Rut transformarà la llibreria en un espai ple d’històries que cobren vida. Una proposta ideal per a famílies que busquen una estona de fantasia\, humor i proximitat\, on la màgia dels contes es combina amb la sensibilitat i el joc escènic característics d’El Sarnatxo.
URL:https://familiespelvalencia.org/activitat/contacontes-amb-rut-ponsoda/
LOCATION:Detroit llibres\, Carrer Oliver\, 5\, Alcoi\, L'Alcoià\, 03802
CATEGORIES:Comarques centrals
ATTACH;FMTTYPE=image/png:https://familiespelvalencia.org/wp-content/uploads/2026/01/El-Sarnatxo-Animacio-ruth.png
GEO:38.6948508;-0.4812384
X-APPLE-STRUCTURED-LOCATION;VALUE=URI;X-ADDRESS=Detroit llibres Carrer Oliver 5 Alcoi L'Alcoià 03802;X-APPLE-RADIUS=500;X-TITLE=Carrer Oliver\, 5:geo:-0.4812384,38.6948508
END:VEVENT
BEGIN:VEVENT
DTSTART;TZID=Europe/Paris:20260131T113000
DTEND;TZID=Europe/Paris:20260131T123000
DTSTAMP:20260424T043716
CREATED:20260114T075754Z
LAST-MODIFIED:20260114T075754Z
UID:10000728-1769859000-1769862600@familiespelvalencia.org
SUMMARY:Pintem Històries
DESCRIPTION:La Biblioteca Tirisiti d’Alcoi torna aquest gener amb una nova edició dels seus Dissabtes Divertits\, una proposta ideal perquè xiquetes i xiquets de 5 a 12 anys descobrisquen la lectura a través del joc i la creativitat. \nImportant. Cal inscripció prèvia.
URL:https://familiespelvalencia.org/activitat/pintem-histories/
LOCATION:Biblioteca Tirisiti\, Av. País Valencià\, 1\, Alcoi\, L'Alcoià\, 03801
CATEGORIES:Comarques centrals
ATTACH;FMTTYPE=image/jpeg:https://familiespelvalencia.org/wp-content/uploads/2026/01/Biblioteques-Alcoi.jpg
GEO:38.697146;-0.4752305
X-APPLE-STRUCTURED-LOCATION;VALUE=URI;X-ADDRESS=Biblioteca Tirisiti Av. País Valencià 1 Alcoi L'Alcoià 03801;X-APPLE-RADIUS=500;X-TITLE=Av. País Valencià\, 1:geo:-0.4752305,38.697146
END:VEVENT
END:VCALENDAR