BEGIN:VCALENDAR
VERSION:2.0
PRODID:-//FAMÍLIES PEL VALENCIÀ - ECPv6.15.20//NONSGML v1.0//EN
CALSCALE:GREGORIAN
METHOD:PUBLISH
X-ORIGINAL-URL:https://familiespelvalencia.org
X-WR-CALDESC:Esdeveniments per FAMÍLIES PEL VALENCIÀ
REFRESH-INTERVAL;VALUE=DURATION:PT1H
X-Robots-Tag:noindex
X-PUBLISHED-TTL:PT1H
BEGIN:VTIMEZONE
TZID:Europe/Paris
BEGIN:DAYLIGHT
TZOFFSETFROM:+0100
TZOFFSETTO:+0200
TZNAME:CEST
DTSTART:20250330T010000
END:DAYLIGHT
BEGIN:STANDARD
TZOFFSETFROM:+0200
TZOFFSETTO:+0100
TZNAME:CET
DTSTART:20251026T010000
END:STANDARD
BEGIN:DAYLIGHT
TZOFFSETFROM:+0100
TZOFFSETTO:+0200
TZNAME:CEST
DTSTART:20260329T010000
END:DAYLIGHT
BEGIN:STANDARD
TZOFFSETFROM:+0200
TZOFFSETTO:+0100
TZNAME:CET
DTSTART:20261025T010000
END:STANDARD
BEGIN:DAYLIGHT
TZOFFSETFROM:+0100
TZOFFSETTO:+0200
TZNAME:CEST
DTSTART:20270328T010000
END:DAYLIGHT
BEGIN:STANDARD
TZOFFSETFROM:+0200
TZOFFSETTO:+0100
TZNAME:CET
DTSTART:20271031T010000
END:STANDARD
END:VTIMEZONE
BEGIN:VEVENT
DTSTART;TZID=Europe/Paris:20260112T173000
DTEND;TZID=Europe/Paris:20260112T183000
DTSTAMP:20260424T050150
CREATED:20260110T072300Z
LAST-MODIFIED:20260110T072300Z
UID:10000704-1768239000-1768242600@familiespelvalencia.org
SUMMARY:Contacontes. La carabassa Tomasa
DESCRIPTION:Biblioteca Corea (Antiga Estació) de Gandia acull el contacontes “La carabassa Tomasa”\, a càrrec de Mercè Climent. Aquesta activitat\, organitzada amb el suport de l’Ajuntament de Gandia i IMAB\, convida els més menuts a descobrir les aventures d’una carabassa molt especial\, tot fomentant la imaginació i l’amor per la lectura en valencià. Una cita ideal per a gaudir en família i apropar-se al món dels contes.
URL:https://familiespelvalencia.org/activitat/contacontes-la-carabassa-tomasa/
LOCATION:Biblioteca Corea (Antiga Estació)\, Parc de l´Estació s/n\, Gandia\, La Safor\, 46701
CATEGORIES:Comarques centrals
ATTACH;FMTTYPE=image/png:https://familiespelvalencia.org/wp-content/uploads/2026/01/Contacontes.-La-carabassa-Tomasa.png
GEO:38.968032;-0.1844671
X-APPLE-STRUCTURED-LOCATION;VALUE=URI;X-ADDRESS=Biblioteca Corea (Antiga Estació) Parc de l´Estació s/n Gandia La Safor 46701;X-APPLE-RADIUS=500;X-TITLE=Parc de l´Estació s/n:geo:-0.1844671,38.968032
END:VEVENT
BEGIN:VEVENT
DTSTART;TZID=Europe/Paris:20260114T201500
DTEND;TZID=Europe/Paris:20260114T213500
DTSTAMP:20260424T050150
CREATED:20260110T080538Z
LAST-MODIFIED:20260110T080538Z
UID:10000707-1768421700-1768426500@familiespelvalencia.org
SUMMARY:Documental. Estimada Flor
DESCRIPTION:Acció Cultural del País Valencià\, en col·laboració amb DocsBarcelona i ACICOM\, presenta la projecció del documental “Estimada flor”\, dirigit per Paolo Cognetti. Aquesta peça\, en italià i subtitulada al valencià\, està especialment recomanada per a públic jove i per a tots els públics interessats en la natura i les històries de superació. El film narra l’ascens de l’escriptor Paolo Cognetti\, acompanyat del seu gos Laki\, cap a les altures del Monte Rosa\, en una recerca personal per entendre la manca d’aigua a la seua llar. Al llarg del camí\, Cognetti es retroba amb persones que viuen a la muntanya\, descobrint el sentit profund de la vida en aquest entorn. Una proposta inspiradora per reflexionar sobre la relació amb la natura i la comunitat. \nDurada: 79 min \nMés informació i compra d’entrades: Cine Club Utiye \nTràiler: “Estimada Flor”
URL:https://familiespelvalencia.org/activitat/documental-estimada-flor-2/
LOCATION:Cine Club Utiye\, Carrer Pintor Segrelles\, 1 (Centre Comercial el Teler)\, Ontinyent\, Vall d'Albaida\, 46870
CATEGORIES:Comarques centrals
ATTACH;FMTTYPE=image/webp:https://familiespelvalencia.org/wp-content/uploads/2026/01/paolo.webp
GEO:38.8244707;-0.6028774
X-APPLE-STRUCTURED-LOCATION;VALUE=URI;X-ADDRESS=Cine Club Utiye Carrer Pintor Segrelles 1 (Centre Comercial el Teler) Ontinyent Vall d'Albaida 46870;X-APPLE-RADIUS=500;X-TITLE=Carrer Pintor Segrelles\, 1 (Centre Comercial el Teler):geo:-0.6028774,38.8244707
END:VEVENT
BEGIN:VEVENT
DTSTART;VALUE=DATE:20260116
DTEND;VALUE=DATE:20260119
DTSTAMP:20260424T050150
CREATED:20260113T213634Z
LAST-MODIFIED:20260113T213949Z
UID:10000726-1768521600-1768780799@familiespelvalencia.org
SUMMARY:Fireta de Sant Antoni de Muro. Contacontes\, concerts i molt més
DESCRIPTION:La Fireta de Sant Antoni de Muro\, celebrada del 16 al 18 de gener\, tornarà a omplir el centre històric de tradició\, artesania i activitats familiars. Un cap de setmana on el mercat medieval\, la música i la cultura popular conviuen per oferir una experiència viva i acollidora. Diumenge 18\, la Plaça Palàcio serà l’escenari principal per al públic infantil. A les 11.30 h i a les 17.30 h\, els més menuts podran gaudir del contacontes amb Gratacrak\, una proposta divertida i participativa per a totes les famílies. A les 13.00 h\, entre ambdós contacontes\, tindrà lloc el concert familiar “La Factoria de Sons”\, una actuació musical pensada per fer ballar i disfrutar a la xicalla i adults. Cap de setmana complet amb exposicions\, música tradicional i la implicació de les associacions locals. La Fireta continua sent una cita imprescindible per fer poble i descobrir la cultura de Muro d’una manera propera i festiva. \nProgramació completa: Ajuntament de Muro
URL:https://familiespelvalencia.org/activitat/fireta-de-sant-antoni-de-muro-contacontes-concerts-i-molt-mes/
LOCATION:Muro\, Muro\, El Comtat\, 03830
CATEGORIES:Comarques centrals
ATTACH;FMTTYPE=image/jpeg:https://familiespelvalencia.org/wp-content/uploads/2026/01/Fireta-sant-antoni-muro-2026.jpg
GEO:38.7804929;-0.4384458
END:VEVENT
BEGIN:VEVENT
DTSTART;TZID=Europe/Paris:20260116T173000
DTEND;TZID=Europe/Paris:20260116T180000
DTSTAMP:20260424T050150
CREATED:20260116T130223Z
LAST-MODIFIED:20260116T130324Z
UID:10000731-1768584600-1768586400@familiespelvalencia.org
SUMMARY:Hora del Conte a la biblioteca de Gata de Gorgos
DESCRIPTION:Cada divendres les bibliotecàries conten un conte per a menuts d’entre 2-8 anys \nAquesta setmana el conte que es contarà serà “El pet més gran del món” de Rafael Ordóñez i Laura du Faÿ \nEn finalitzar el conte els usuaris pintaran un dibuix de la lectura.
URL:https://familiespelvalencia.org/activitat/hora-del-conte-a-la-biblioteca-de-gata-de-gorgos/
LOCATION:Bibioteca Pública Municipal Carme Miquel de Gata de Gorgosd\, Carrer Duquessa d'Almoòvar\, 3\, Gata de Gorgos\, Marina Alta\, 03740
CATEGORIES:Comarques centrals
ATTACH;FMTTYPE=image/jpeg:https://familiespelvalencia.org/wp-content/uploads/2026/01/pet-mes-gran.jpg
ORGANIZER;CN="Biblioteca P%C3%BAblica Municipal de Gata de Gorgos":MAILTO:biblioteca@gatadegorgos.org
GEO:38.7753863;0.0868023
X-APPLE-STRUCTURED-LOCATION;VALUE=URI;X-ADDRESS=Bibioteca Pública Municipal Carme Miquel de Gata de Gorgosd Carrer Duquessa d'Almoòvar 3 Gata de Gorgos Marina Alta 03740;X-APPLE-RADIUS=500;X-TITLE=Carrer Duquessa d'Almoòvar\, 3:geo:0.0868023,38.7753863
END:VEVENT
BEGIN:VEVENT
DTSTART;TZID=Europe/Paris:20260117T113000
DTEND;TZID=Europe/Paris:20260117T123000
DTSTAMP:20260424T050150
CREATED:20260114T075700Z
LAST-MODIFIED:20260114T075700Z
UID:10000727-1768649400-1768653000@familiespelvalencia.org
SUMMARY:Juguem a les endevinalles
DESCRIPTION:La Biblioteca Tirisiti d’Alcoi torna aquest gener amb una nova edició dels seus Dissabtes Divertits\, una proposta ideal perquè xiquetes i xiquets de 5 a 12 anys descobrisquen la lectura a través del joc i la creativitat. \nImportant. Cal inscripció prèvia.
URL:https://familiespelvalencia.org/activitat/juguem-a-les-endevinalles/
LOCATION:Biblioteca Tirisiti\, Av. País Valencià\, 1\, Alcoi\, L'Alcoià\, 03801
CATEGORIES:Comarques centrals
ATTACH;FMTTYPE=image/jpeg:https://familiespelvalencia.org/wp-content/uploads/2026/01/Biblioteques-Alcoi.jpg
GEO:38.697146;-0.4752305
X-APPLE-STRUCTURED-LOCATION;VALUE=URI;X-ADDRESS=Biblioteca Tirisiti Av. País Valencià 1 Alcoi L'Alcoià 03801;X-APPLE-RADIUS=500;X-TITLE=Av. País Valencià\, 1:geo:-0.4752305,38.697146
END:VEVENT
BEGIN:VEVENT
DTSTART;TZID=Europe/Paris:20260118T123000
DTEND;TZID=Europe/Paris:20260118T170000
DTSTAMP:20260424T050150
CREATED:20260118T092953Z
LAST-MODIFIED:20260118T092959Z
UID:10000746-1768739400-1768755600@familiespelvalencia.org
SUMMARY:Festivernet amb la Fúmiga
DESCRIPTION:Veniu a acomiadar-los en un matí de jocs\, activitats i música per als més xicotets de la casa. \n 
URL:https://familiespelvalencia.org/activitat/festivernet-amb-la-fumiga/
LOCATION:Festivern\, Avda. Corts Valencianes\, s/n\, Tavernes de la Valldigna\, La Safor
CATEGORIES:Comarques centrals
ATTACH;FMTTYPE=image/jpeg:https://familiespelvalencia.org/wp-content/uploads/2026/01/FESTIVERNET-18-GENER.jpg
GEO:39.0733815;-0.2643516
X-APPLE-STRUCTURED-LOCATION;VALUE=URI;X-ADDRESS=Festivern Avda. Corts Valencianes s/n Tavernes de la Valldigna La Safor;X-APPLE-RADIUS=500;X-TITLE=Avda. Corts Valencianes\, s/n:geo:-0.2643516,39.0733815
END:VEVENT
END:VCALENDAR