BEGIN:VCALENDAR
VERSION:2.0
PRODID:-//FAMÍLIES PEL VALENCIÀ - ECPv6.15.20//NONSGML v1.0//EN
CALSCALE:GREGORIAN
METHOD:PUBLISH
X-WR-CALNAME:FAMÍLIES PEL VALENCIÀ
X-ORIGINAL-URL:https://familiespelvalencia.org
X-WR-CALDESC:Esdeveniments per FAMÍLIES PEL VALENCIÀ
REFRESH-INTERVAL;VALUE=DURATION:PT1H
X-Robots-Tag:noindex
X-PUBLISHED-TTL:PT1H
BEGIN:VTIMEZONE
TZID:Europe/Paris
BEGIN:DAYLIGHT
TZOFFSETFROM:+0100
TZOFFSETTO:+0200
TZNAME:CEST
DTSTART:20250330T010000
END:DAYLIGHT
BEGIN:STANDARD
TZOFFSETFROM:+0200
TZOFFSETTO:+0100
TZNAME:CET
DTSTART:20251026T010000
END:STANDARD
BEGIN:DAYLIGHT
TZOFFSETFROM:+0100
TZOFFSETTO:+0200
TZNAME:CEST
DTSTART:20260329T010000
END:DAYLIGHT
BEGIN:STANDARD
TZOFFSETFROM:+0200
TZOFFSETTO:+0100
TZNAME:CET
DTSTART:20261025T010000
END:STANDARD
BEGIN:DAYLIGHT
TZOFFSETFROM:+0100
TZOFFSETTO:+0200
TZNAME:CEST
DTSTART:20270328T010000
END:DAYLIGHT
BEGIN:STANDARD
TZOFFSETFROM:+0200
TZOFFSETTO:+0100
TZNAME:CET
DTSTART:20271031T010000
END:STANDARD
END:VTIMEZONE
BEGIN:VEVENT
DTSTART;TZID=Europe/Paris:20260110T120000
DTEND;TZID=Europe/Paris:20260110T210000
DTSTAMP:20260424T050445
CREATED:20260109T170403Z
LAST-MODIFIED:20260109T170441Z
UID:10000701-1768046400-1768078800@familiespelvalencia.org
SUMMARY:Concert. Dani Miquel
DESCRIPTION:Aquest dissabte\, 10 de gener\, Muro celebra el XXII aniversari dels Xeremiers de Muro – Es Reguinyol amb una jornada plena de música i tradició. El plat fort per als més menuts serà el concert infantil “Quin Guirigall”\, a càrrec de Dani Miquel\, que tindrà lloc a les 12:00 h a la Plaça Comte d’Empúries. Una proposta divertida i educativa per gaudir en família\, amb cançons en valencià que fan estimar la nostra cultura.\nLa festa continua a la vesprada amb el concert “Romanços de sang i fetge”\, també amb Dani Miquel\, a les 19:00 h a l’Església de Santa Anna. I per acabar la jornada\, a les 21:00 h\, hi haurà una gran torrada/foguero a la Plaça dels Abruadors\, on sí que caldrà adquirir tiquet (5 €). Una cita imprescindible per viure la música tradicional\, la gastronomia i l’ambient festiu de Muro. \n 
URL:https://familiespelvalencia.org/activitat/concert-dani-miquel-19/
LOCATION:Muro.- Plaça Comte d’Empúries\, Plaça Comte d'Empúries\, Muro\, El Comtat\, 03830
CATEGORIES:Comarques centrals
ATTACH;FMTTYPE=image/jpeg:https://familiespelvalencia.org/wp-content/uploads/2026/01/Dani-Miquel-Muro.jpg
GEO:38.6986624;-0.4811299
X-APPLE-STRUCTURED-LOCATION;VALUE=URI;X-ADDRESS=Muro.- Plaça Comte d’Empúries Plaça Comte d'Empúries Muro El Comtat 03830;X-APPLE-RADIUS=500;X-TITLE=Plaça Comte d'Empúries:geo:-0.4811299,38.6986624
END:VEVENT
BEGIN:VEVENT
DTSTART;TZID=Europe/Paris:20260111T190000
DTEND;TZID=Europe/Paris:20260111T202000
DTSTAMP:20260424T050445
CREATED:20260110T075635Z
LAST-MODIFIED:20260110T075903Z
UID:10000706-1768158000-1768162800@familiespelvalencia.org
SUMMARY:Documental. Estimada Flor
DESCRIPTION:Acció Cultural del País Valencià\, en col·laboració amb DocsBarcelona i ACICOM\, presenta la projecció del documental “Estimada flor”\, dirigit per Paolo Cognetti. Aquesta peça\, en italià i subtitulada al valencià\, està especialment recomanada per a públic jove i per a tots els públics interessats en la natura i les històries de superació. El film narra l’ascens de l’escriptor Paolo Cognetti\, acompanyat del seu gos Laki\, cap a les altures del Monte Rosa\, en una recerca personal per entendre la manca d’aigua a la seua llar. Al llarg del camí\, Cognetti es retroba amb persones que viuen a la muntanya\, descobrint el sentit profund de la vida en aquest entorn. Una proposta inspiradora per reflexionar sobre la relació amb la natura i la comunitat. \nDurada: 79 min \nMés informació: Casal Jaume I.- Pedreguer \nTràiler: “Estimada Flor”
URL:https://familiespelvalencia.org/activitat/documental-estimada-flor/
LOCATION:Casal Jaume I.- Pedreguer\, c/ València 14\,B\, Pedreguer\, Marina Alta\, 03750
CATEGORIES:Comarques centrals
ATTACH;FMTTYPE=image/webp:https://familiespelvalencia.org/wp-content/uploads/2026/01/paolo.webp
GEO:38.7951634;0.0342155
X-APPLE-STRUCTURED-LOCATION;VALUE=URI;X-ADDRESS=Casal Jaume I.- Pedreguer c/ València 14B Pedreguer Marina Alta 03750;X-APPLE-RADIUS=500;X-TITLE=c/ València 14\,B:geo:0.0342155,38.7951634
END:VEVENT
END:VCALENDAR