BEGIN:VCALENDAR
VERSION:2.0
PRODID:-//FAMÍLIES PEL VALENCIÀ - ECPv6.15.20//NONSGML v1.0//EN
CALSCALE:GREGORIAN
METHOD:PUBLISH
X-WR-CALNAME:FAMÍLIES PEL VALENCIÀ
X-ORIGINAL-URL:https://familiespelvalencia.org
X-WR-CALDESC:Esdeveniments per FAMÍLIES PEL VALENCIÀ
REFRESH-INTERVAL;VALUE=DURATION:PT1H
X-Robots-Tag:noindex
X-PUBLISHED-TTL:PT1H
BEGIN:VTIMEZONE
TZID:Europe/Paris
BEGIN:DAYLIGHT
TZOFFSETFROM:+0100
TZOFFSETTO:+0200
TZNAME:CEST
DTSTART:20240331T010000
END:DAYLIGHT
BEGIN:STANDARD
TZOFFSETFROM:+0200
TZOFFSETTO:+0100
TZNAME:CET
DTSTART:20241027T010000
END:STANDARD
BEGIN:DAYLIGHT
TZOFFSETFROM:+0100
TZOFFSETTO:+0200
TZNAME:CEST
DTSTART:20250330T010000
END:DAYLIGHT
BEGIN:STANDARD
TZOFFSETFROM:+0200
TZOFFSETTO:+0100
TZNAME:CET
DTSTART:20251026T010000
END:STANDARD
BEGIN:DAYLIGHT
TZOFFSETFROM:+0100
TZOFFSETTO:+0200
TZNAME:CEST
DTSTART:20260329T010000
END:DAYLIGHT
BEGIN:STANDARD
TZOFFSETFROM:+0200
TZOFFSETTO:+0100
TZNAME:CET
DTSTART:20261025T010000
END:STANDARD
BEGIN:DAYLIGHT
TZOFFSETFROM:+0100
TZOFFSETTO:+0200
TZNAME:CEST
DTSTART:20270328T010000
END:DAYLIGHT
BEGIN:STANDARD
TZOFFSETFROM:+0200
TZOFFSETTO:+0100
TZNAME:CET
DTSTART:20271031T010000
END:STANDARD
END:VTIMEZONE
BEGIN:VEVENT
DTSTART;VALUE=DATE:20251210
DTEND;VALUE=DATE:20260104
DTSTAMP:20260424T044426
CREATED:20251202T164819Z
LAST-MODIFIED:20251202T164819Z
UID:10000531-1765324800-1767484799@familiespelvalencia.org
SUMMARY:Exposició. Paraules de Nadal. 35 anys de Nadal en valencià
DESCRIPTION:Entra en el fantàstic món de les paraules i les imatges de Nadal! Vine a fer-te fotos\, pintar\, llegir\, conéixer la història de les cartes màgiques als Reis de l’Orient\, resoldre enigmes musimàgics i matemàgics i\, sobretot\, t’espera el camell Cagacartes: «Per Nadal\, utilitza la llengua i tindràs un regal!». \nExposició retrospectiva i interactiva dels materials de Nadal creats pel Gabinet de Normalització Lingüística de l’Ajuntament d’Alcoi i la il·lustradora Rosanna Crespo al llarg de 35 anys i amb la col·laboració especial dels xiquets i xiquetes alumnes de l’Escola Municipal de Belles Arts i de moltes altres entitats alcoianes. \nHorari. De dilluns a divendres: de 10h a 13.30h i de 17h a 20h. Dissabtes: de 10h a 13.30h (tancada els dies 24\, 25 i 31 de desembre i l’1 de gener)
URL:https://familiespelvalencia.org/activitat/exposicio-paraules-de-nadal-35-anys-de-nadal-en-valencia/
LOCATION:Centre Cultural.- Alcoi\, Av. País Valencià\, 1\, Alcoi\, L'Alcoià\, 03801
CATEGORIES:Comarques centrals
ATTACH;FMTTYPE=image/jpeg:https://familiespelvalencia.org/wp-content/uploads/2025/12/Cartell-exposicio-Paraules-de-Nadal.-25-anys-de-Nadal-en-valencia.jpg
GEO:38.697146;-0.4752305
X-APPLE-STRUCTURED-LOCATION;VALUE=URI;X-ADDRESS=Centre Cultural.- Alcoi Av. País Valencià 1 Alcoi L'Alcoià 03801;X-APPLE-RADIUS=500;X-TITLE=Av. País Valencià\, 1:geo:-0.4752305,38.697146
END:VEVENT
BEGIN:VEVENT
DTSTART;TZID=Europe/Paris:20251229T180000
DTEND;TZID=Europe/Paris:20251229T180500
DTSTAMP:20260424T044426
CREATED:20251224T170613Z
LAST-MODIFIED:20251224T173445Z
UID:10000678-1767031200-1767031500@familiespelvalencia.org
SUMMARY:Teatre: Alícia al vaixell de les meravelles\, el musical
DESCRIPTION:De Trencadís Produccions \nIntèrprets: María Bruñó\, Andreu Beltrán i Héctor González Martí. Direcció: Jose Tomàs Chàfer. Text i lletres: Josep Mollà. Música original: Paco Iváñez. Coreografia: Pachi G. Fenollar. \nGènere: Teatre musical\nPúblic: Familiar\nDurada: 65 min. \nSinopsi \nAlícia al Vaixell de les Meravelles és unespectacle musical que explora el temauniversal del viatge i l’adaptació a través dedues històries entrellaçades. Per una banda\, elviatge real que recorda el iaio Cristóbal\, qui alsanys 60 va partir des de Cuba cap a Europacercant la llibertat\, i per altra banda\, el viatgeimaginari que fa la seua neta\, Alícia\, a travésde la lectura d’Alícia al País de les Meravelles. \nAquesta proposta vol mostrar com\, tant el iaioCristóbal com Alícia\, s’enfronten a monsdesconeguts\, on han de trobar la manerad’adaptar-se a nous entorns culturals\,lingüístics i socials\, sense oblidar les arrels i laidentitat. A través de la paraula\, la música i ladansa\, l’espectacle busca connectar amb elpúblic més jove\, fent-los reflexionar sobre lesdificultats i les oportunitats que suposen elscanvis en les nostres vides. \nMés informació: Ajuntament de Benigànim
URL:https://familiespelvalencia.org/activitat/teatre-alicia-al-vaixell-de-les-meravelles-el-musical-2/
LOCATION:Auditori Municipal Paco Salvador\, Av. L´Ortisa\, 54\, Benigànim\, Vall d'Albaida\, 46830
CATEGORIES:Comarques centrals
ATTACH;FMTTYPE=image/jpeg:https://familiespelvalencia.org/wp-content/uploads/2025/10/alicia.jpg
GEO:38.9447912;-0.4510181
X-APPLE-STRUCTURED-LOCATION;VALUE=URI;X-ADDRESS=Auditori Municipal Paco Salvador Av. L´Ortisa 54 Benigànim Vall d'Albaida 46830;X-APPLE-RADIUS=500;X-TITLE=Av. L´Ortisa\, 54:geo:-0.4510181,38.9447912
END:VEVENT
BEGIN:VEVENT
DTSTART;TZID=Europe/Paris:20251229T190000
DTEND;TZID=Europe/Paris:20251229T203000
DTSTAMP:20260424T044426
CREATED:20251204T164442Z
LAST-MODIFIED:20251204T164442Z
UID:10000569-1767034800-1767040200@familiespelvalencia.org
SUMMARY:Teatre: Pinotxo\, un musical d'aventures
DESCRIPTION:La última producció de Trencadis Produccions. \nDurada: 80 min. \nSinopsi \nAmb text i lletres de Josep Mollà\, el teatre dins del teatre és la clau per poder explicar les aventures de Pinotxo en aquesta nova proposta de Trencadís. Qui no ha jugat mai a ser actor o actriu? A través de les il·lusions de Laura\, una nena apassionada pel món del teatre\, farem un viatge a través de les aventures més conegudes de l’estimadíssim titella\, amb una partitura fantàstica\, veus en rigorós directe i grans coreografies. \nVídeo romocional: Pinotxo\, un musical d’aventures\nEntrades: Enllaç plataforma compra \nDirecció: JosepTomàs Chàfer / text i lletres: Josep Mollà / Música original: Francis J. / Creacióde cors i assistència vocal: Mary Porcar / Veus en off:  Adrián Romero / Coreografia: Pachi G. Fenollar/ Disseny d’il·luminació: Ximo Rojo i Mari Benavent / Perruqueria icaracterització: Inma Fuentes / Adaptació de vestuari: Reme Bufante / Escenografia:Doménec Mezquita / Material gràfic: Mónica Zamora
URL:https://familiespelvalencia.org/activitat/teatre-pinotxo-un-musical-daventures-3/
LOCATION:Teatre Goya.- L’Olleria\, Carrer Batle\, 28\, L'Olleria\, Vall d'Albaida\, 46850
CATEGORIES:Comarques centrals
ATTACH;FMTTYPE=image/jpeg:https://familiespelvalencia.org/wp-content/uploads/2025/10/CARTELL-PINOTXO-val-A3.jpg
GEO:38.9138477;-0.5488472
X-APPLE-STRUCTURED-LOCATION;VALUE=URI;X-ADDRESS=Teatre Goya.- L’Olleria Carrer Batle 28 L'Olleria Vall d'Albaida 46850;X-APPLE-RADIUS=500;X-TITLE=Carrer Batle\, 28:geo:-0.5488472,38.9138477
END:VEVENT
BEGIN:VEVENT
DTSTART;TZID=Europe/Paris:20251230T120000
DTEND;TZID=Europe/Paris:20251230T133000
DTSTAMP:20260424T044426
CREATED:20251211T101802Z
LAST-MODIFIED:20251211T101802Z
UID:10000598-1767096000-1767101400@familiespelvalencia.org
SUMMARY:Contacontes infantil: el trencanous
DESCRIPTION:Contacontes i taller d’animació lectora per a xiquets i xiquetes de 4 a 12 anys. \n 
URL:https://familiespelvalencia.org/activitat/contacontes-infantil-el-trencanous/
LOCATION:Plaça Major\, Algemesí\, Plaça Major\, Algemesí\, Ribera Alta
CATEGORIES:Comarques centrals
ATTACH;FMTTYPE=image/jpeg:https://familiespelvalencia.org/wp-content/uploads/2025/12/ANIMACIO-LECTORA-30_0.jpeg
GEO:39.1889105;-0.4369245
X-APPLE-STRUCTURED-LOCATION;VALUE=URI;X-ADDRESS=Plaça Major Algemesí Plaça Major Algemesí Ribera Alta;X-APPLE-RADIUS=500;X-TITLE=Plaça Major:geo:-0.4369245,39.1889105
END:VEVENT
BEGIN:VEVENT
DTSTART;TZID=Europe/Paris:20251230T180000
DTEND;TZID=Europe/Paris:20251230T193000
DTSTAMP:20260424T044426
CREATED:20251204T170214Z
LAST-MODIFIED:20251204T170214Z
UID:10000570-1767117600-1767123000@familiespelvalencia.org
SUMMARY:Teatre. Fabulant
DESCRIPTION:Cia. JM Gestión Cultural \nJoan i Greta\, dos germans de tretze i huit anys respectivament\, queden tancats en un teatre durant una visita guiada. De sobte\, es troben amb Jacobo i Guillem\, altres dos germans que també estan perduts. Molt prompte descobriran que les dues parelles de germans comparteixen el mateix espai i els mateixos problemes\, però provenen d’èpoques molt separades: més de dos segles de diferència! A partir d’eixe moment\, entendran que la millor manera de solucionar els problemes en comú és unir forces i utilitzar la imaginació com la millor de les eines. Potser no siga massa tard per adonar-se que\, malgrat les diferències\, els uneixen moltes coses. Un espectacle musical divertit\, sorprenent i que emocionarà menuts i grans! \nLa vida és com un conte. No permetes que ningú l’escriga per tu. \nPensada per a públic infantil a partir de 4 anys
URL:https://familiespelvalencia.org/activitat/teatre-fabulant/
LOCATION:Saló Social.- Callosa d’en Sarrià\, C. Colon\, 37\, Callosa d'en Sarrià\, Marina Baixa\, 03510
CATEGORIES:Comarques centrals
ATTACH;FMTTYPE=image/jpeg:https://familiespelvalencia.org/wp-content/uploads/2025/12/fabulant.jpg
GEO:38.6485539;-0.1200796
X-APPLE-STRUCTURED-LOCATION;VALUE=URI;X-ADDRESS=Saló Social.- Callosa d’en Sarrià C. Colon 37 Callosa d'en Sarrià Marina Baixa 03510;X-APPLE-RADIUS=500;X-TITLE=C. Colon\, 37:geo:-0.1200796,38.6485539
END:VEVENT
BEGIN:VEVENT
DTSTART;TZID=Europe/Paris:20251231T100000
DTEND;TZID=Europe/Paris:20251231T140000
DTSTAMP:20260424T044426
CREATED:20251212T082133Z
LAST-MODIFIED:20251212T082133Z
UID:10000605-1767175200-1767189600@familiespelvalencia.org
SUMMARY:Sabeu què passa el 31 de desembre a l'Hostalet? L'home de les orelles
DESCRIPTION:Una tradició on els més menuts busquen un home que té una orella més que dies li queden a l’any. \nEls actes de l’Home de les Orelles començaran amb una cercavila a càrrec de la colla Mal Passet\, que acompanyaran al pregoner fins al Pla de la Font\, a partir de les deu del matí. \nA partir de les onze del matí\, jocs tradicionals valencians al Pla De la Font. \nAjudeu-nos a trobar a l’Home de les Orelles el pròxim 31 de desembre a Cocentaina!
URL:https://familiespelvalencia.org/activitat/sabeu-que-passa-el-31-de-desembre-a-lhostalet-lhome-de-les-orelles/
LOCATION:Passeig del Comtat\, Passeig del Comtat\, Cocentaina\, El Comtat
CATEGORIES:Comarques centrals
ATTACH;FMTTYPE=image/jpeg:https://familiespelvalencia.org/wp-content/uploads/2025/12/Cartell-de-lHome-de-les-Orelles.jpeg
GEO:38.7403263;-0.4402566
X-APPLE-STRUCTURED-LOCATION;VALUE=URI;X-ADDRESS=Passeig del Comtat Passeig del Comtat Cocentaina El Comtat;X-APPLE-RADIUS=500;X-TITLE=Passeig del Comtat:geo:-0.4402566,38.7403263
END:VEVENT
BEGIN:VEVENT
DTSTART;TZID=Europe/Paris:20251231T113000
DTEND;TZID=Europe/Paris:20251231T123000
DTSTAMP:20260424T044426
CREATED:20251203T121339Z
LAST-MODIFIED:20251203T121339Z
UID:10000543-1767180600-1767184200@familiespelvalencia.org
SUMMARY:Concert Dani Miquel
DESCRIPTION:Concert Dani Miquel a Gandia.
URL:https://familiespelvalencia.org/activitat/concert-dani-miquel-17/
LOCATION:Plaça Tirant\, Plaça Tirant\, Gandia\, La Safor
CATEGORIES:Comarques centrals
ATTACH;FMTTYPE=image/jpeg:https://familiespelvalencia.org/wp-content/uploads/2025/12/dani-miquel-desembre-1.jpg
GEO:38.9649215;-0.1800918
X-APPLE-STRUCTURED-LOCATION;VALUE=URI;X-ADDRESS=Plaça Tirant Plaça Tirant Gandia La Safor;X-APPLE-RADIUS=500;X-TITLE=Plaça Tirant:geo:-0.1800918,38.9649215
END:VEVENT
BEGIN:VEVENT
DTSTART;TZID=Europe/Paris:20251231T120000
DTEND;TZID=Europe/Paris:20251231T130000
DTSTAMP:20260424T044426
CREATED:20251216T214226Z
LAST-MODIFIED:20251216T214226Z
UID:10000629-1767182400-1767186000@familiespelvalencia.org
SUMMARY:Teatre infantil i familiar: Atrapats al 2025
DESCRIPTION:Molts menuts i menudes esperen impacients l’arribada de les campanades. Pilot\, Argantol i Lucer són els Trufians\, els éssers encarregats de baixar una vegada a l’any des de la muntanya per donar pas al nou any. \nPerò sembla que algú ha amagat la campana perquè no vol passar d’any… i si no s’afanyen a trobar-la\, quedarem atrapats en 2025 per sempre. Ens ajudes a buscar-la? \n 
URL:https://familiespelvalencia.org/activitat/teatre-infantil-i-familiar-atrapats-al-2025-3/
LOCATION:Casa de la Cultura\, Palma de Gandia\, Carrer Constitució\, 53\, Palma de Gandia\, La Safor\, 46724
CATEGORIES:Comarques centrals
ATTACH;FMTTYPE=image/jpeg:https://familiespelvalencia.org/wp-content/uploads/2025/12/atrapats-al-2025.jpg
GEO:38.9232885;-0.222993
X-APPLE-STRUCTURED-LOCATION;VALUE=URI;X-ADDRESS=Casa de la Cultura Palma de Gandia Carrer Constitució 53 Palma de Gandia La Safor 46724;X-APPLE-RADIUS=500;X-TITLE=Carrer Constitució\, 53:geo:-0.222993,38.9232885
END:VEVENT
BEGIN:VEVENT
DTSTART;TZID=Europe/Paris:20260102T183000
DTEND;TZID=Europe/Paris:20260102T200000
DTSTAMP:20260424T044426
CREATED:20251211T100616Z
LAST-MODIFIED:20251211T100616Z
UID:10000597-1767378600-1767384000@familiespelvalencia.org
SUMMARY:Cinema en valencià: Gru 4
DESCRIPTION:Gru\, Lucy i les xiquetes -Margo\, Edith i Agnes- donen la benvinguda a un nou membre en la familia: Gru Júnior\, que sembla arribar amb el propòsit de ser un suplici per al seu pare. Gru haurà d’enfrontar-se en aquesta ocasió a la seua nova nèmesis Maxime Le Mal i la seua sofisticada i malévola núvia Valentina\, la qual cosa obligarà la familia a haber de fugir.
URL:https://familiespelvalencia.org/activitat/cinema-en-valencia-gru-4/
LOCATION:Biblioteca d’Altea\, casa de la cultura\, Costera Pont del Montcau\, 14\, Altea\, Marina Baixa
CATEGORIES:Comarques centrals
ATTACH;FMTTYPE=image/jpeg:https://familiespelvalencia.org/wp-content/uploads/2025/12/gru-4.jpg
GEO:38.6003995;-0.0491725
X-APPLE-STRUCTURED-LOCATION;VALUE=URI;X-ADDRESS=Biblioteca d’Altea casa de la cultura Costera Pont del Montcau 14 Altea Marina Baixa;X-APPLE-RADIUS=500;X-TITLE=Costera Pont del Montcau\, 14:geo:-0.0491725,38.6003995
END:VEVENT
BEGIN:VEVENT
DTSTART;TZID=Europe/Paris:20260102T190000
DTEND;TZID=Europe/Paris:20260102T203000
DTSTAMP:20260424T044426
CREATED:20251212T080338Z
LAST-MODIFIED:20251212T080338Z
UID:10000603-1767380400-1767385800@familiespelvalencia.org
SUMMARY:Musical "El llibre màgic"
DESCRIPTION:Musical El llibre Màgic\, d’Ave Fénix Produccions. \nDivendres 02 \n19.00 h \n Saló Cultural. \nAforament limitat. Entrades gratuïtes que podran arreplegar-se en la consergeria de les Cases del Batlle.
URL:https://familiespelvalencia.org/activitat/musical-el-llibre-magic/
LOCATION:Saló Cultural\, Benissa\, C/Pere Andrés\, 21\, Benissa\, Marina Alta
CATEGORIES:Comarques centrals
ATTACH;FMTTYPE=image/jpeg:https://familiespelvalencia.org/wp-content/uploads/2025/12/el-llibre-magic.jpg
GEO:38.7148966;0.0503046
X-APPLE-STRUCTURED-LOCATION;VALUE=URI;X-ADDRESS=Saló Cultural Benissa C/Pere Andrés 21 Benissa Marina Alta;X-APPLE-RADIUS=500;X-TITLE=C/Pere Andrés\, 21:geo:0.0503046,38.7148966
END:VEVENT
BEGIN:VEVENT
DTSTART;TZID=Europe/Paris:20260103T120000
DTEND;TZID=Europe/Paris:20260103T130000
DTSTAMP:20260424T044426
CREATED:20260102T215939Z
LAST-MODIFIED:20260102T215939Z
UID:10000695-1767441600-1767445200@familiespelvalencia.org
SUMMARY:Contacontes. Un conte gens tradicional
DESCRIPTION:L’Escola de Teatre de Pego presenta una sessió molt especial de contacontes amb el títol “Un conte gens tradicional”\, una història inspirada en una rondalla popular del Camerun i dirigida per César Monsonís. Una oportunitat perfecta per descobrir nous mons i gaudir del teatre en família. \n 
URL:https://familiespelvalencia.org/activitat/contacontes-un-conte-gens-tradicional/
LOCATION:Seu Falla Plaça i Natzaré.- Pego\, Pego\, Marina Alta\, 03780
CATEGORIES:Comarques centrals
ATTACH;FMTTYPE=image/jpeg:https://familiespelvalencia.org/wp-content/uploads/2026/01/Un-conte-gens-tradicional.jpg
GEO:38.8429394;-0.1156439
END:VEVENT
BEGIN:VEVENT
DTSTART;TZID=Europe/Paris:20260103T120000
DTEND;TZID=Europe/Paris:20260103T140000
DTSTAMP:20260424T044426
CREATED:20260103T083119Z
LAST-MODIFIED:20260103T083543Z
UID:10000696-1767441600-1767448800@familiespelvalencia.org
SUMMARY:XOCOROCK. Festa presentació
DESCRIPTION:Bocairent acull la festa de presentació de Xocorock a la Plaça de l’Ajuntament\, una cita musical per començar l’any amb energia. L’esdeveniment comptarà amb l’actuació de La Trocamba Matanusca\, que portarà la seua fusió vibrant de ritmes balcànics i festius\, i amb DJ Santy Mataix\, que posarà el punt electrònic per a tancar la jornada amb la millor selecció musical. Una proposta gratuïta i oberta a tots els públics per gaudir de bona música i ambient festiu en un entorn únic.
URL:https://familiespelvalencia.org/activitat/xocorock-festa-presentacio/
LOCATION:Plaça Ajuntament.- Bocairent\, Plaça Ajuntament\, Bocairent\, Vall d'Albaida\, 46880
CATEGORIES:Comarques centrals
ATTACH;FMTTYPE=image/jpeg:https://familiespelvalencia.org/wp-content/uploads/2026/01/La-Trocamba-Matanusca.jpg
GEO:38.7675526;-0.6099131
X-APPLE-STRUCTURED-LOCATION;VALUE=URI;X-ADDRESS=Plaça Ajuntament.- Bocairent Plaça Ajuntament Bocairent Vall d'Albaida 46880;X-APPLE-RADIUS=500;X-TITLE=Plaça Ajuntament:geo:-0.6099131,38.7675526
END:VEVENT
END:VCALENDAR