BEGIN:VCALENDAR
VERSION:2.0
PRODID:-//FAMÍLIES PEL VALENCIÀ - ECPv6.15.20//NONSGML v1.0//EN
CALSCALE:GREGORIAN
METHOD:PUBLISH
X-WR-CALNAME:FAMÍLIES PEL VALENCIÀ
X-ORIGINAL-URL:https://familiespelvalencia.org
X-WR-CALDESC:Esdeveniments per FAMÍLIES PEL VALENCIÀ
REFRESH-INTERVAL;VALUE=DURATION:PT1H
X-Robots-Tag:noindex
X-PUBLISHED-TTL:PT1H
BEGIN:VTIMEZONE
TZID:Europe/Paris
BEGIN:DAYLIGHT
TZOFFSETFROM:+0100
TZOFFSETTO:+0200
TZNAME:CEST
DTSTART:20250330T010000
END:DAYLIGHT
BEGIN:STANDARD
TZOFFSETFROM:+0200
TZOFFSETTO:+0100
TZNAME:CET
DTSTART:20251026T010000
END:STANDARD
BEGIN:DAYLIGHT
TZOFFSETFROM:+0100
TZOFFSETTO:+0200
TZNAME:CEST
DTSTART:20260329T010000
END:DAYLIGHT
BEGIN:STANDARD
TZOFFSETFROM:+0200
TZOFFSETTO:+0100
TZNAME:CET
DTSTART:20261025T010000
END:STANDARD
BEGIN:DAYLIGHT
TZOFFSETFROM:+0100
TZOFFSETTO:+0200
TZNAME:CEST
DTSTART:20270328T010000
END:DAYLIGHT
BEGIN:STANDARD
TZOFFSETFROM:+0200
TZOFFSETTO:+0100
TZNAME:CET
DTSTART:20271031T010000
END:STANDARD
END:VTIMEZONE
BEGIN:VEVENT
DTSTART;TZID=Europe/Paris:20260426T090000
DTEND;TZID=Europe/Paris:20260426T110000
DTSTAMP:20260424T032619
CREATED:20260213T213102Z
LAST-MODIFIED:20260213T213102Z
UID:10000961-1777194000-1777201200@familiespelvalencia.org
SUMMARY:Passejada ETNOBOTÀNICA URBANA. Endèmica Natura. Senders\, sabers i sabors.
DESCRIPTION:Caminada etnobotànica familiar pel poble i els seus voltants on trobarem espècies comestibles\, medicinals\, vegetació exòtica… Aprendrem a identificar-les i diferenciar-les. Combatem el canvi climàtic amb el consum de les herbes de temporada i compartim un grapat d’idees de receptes per a preparar a casa plats exquisits amb productes KM 0. \nPlaces limitades. No es poden portar animals de companyia
URL:https://familiespelvalencia.org/activitat/passejada-etnobotanica-urbana-endemica-natura-senders-sabers-i-sabors/
LOCATION:Porta de Torrecremada\, Passeig de Ricardo Ortega\, 2\, Dénia\, Marina Alta\, 03749
CATEGORIES:Comarques centrals
ATTACH;FMTTYPE=image/png:https://familiespelvalencia.org/wp-content/uploads/2026/02/passejada-etnobotanica.png
GEO:38.8363376;0.0991483
X-APPLE-STRUCTURED-LOCATION;VALUE=URI;X-ADDRESS=Porta de Torrecremada Passeig de Ricardo Ortega 2 Dénia Marina Alta 03749;X-APPLE-RADIUS=500;X-TITLE=Passeig de Ricardo Ortega\, 2:geo:0.0991483,38.8363376
END:VEVENT
BEGIN:VEVENT
DTSTART;TZID=Europe/Paris:20260426T090000
DTEND;TZID=Europe/Paris:20260426T160000
DTSTAMP:20260424T032619
CREATED:20260417T205137Z
LAST-MODIFIED:20260417T205137Z
UID:10001233-1777194000-1777219200@familiespelvalencia.org
SUMMARY:Arribada de la flama del Correllengua a Pego
DESCRIPTION:🔥🔥🔥La flama de la llengua arriba a Pego i amb ella una jornada plena d’activitats. \nVine a gaudir d’una diada en defensa de la nostra llengua\, apunta’t a https://correllenguaagermanat.cat/reserva per córrer amb la flama de la llengua i recorda comprar el teu tiquet (*Cafetí*) per dinar a la Plaça del Mercat.🔥🔥🔥 \n🚨🚨Apunta’t al Correllengua Agermanat 2026🚨🚨
URL:https://familiespelvalencia.org/activitat/arribada-de-la-flama-del-correllengua-a-pego/
LOCATION:Plaça del Mercat\, Pego
CATEGORIES:Comarques centrals
ATTACH;FMTTYPE=image/jpeg:https://familiespelvalencia.org/wp-content/uploads/2026/04/5981315540137479255.jpg
END:VEVENT
BEGIN:VEVENT
DTSTART;TZID=Europe/Paris:20260426T113000
DTEND;TZID=Europe/Paris:20260426T130000
DTSTAMP:20260424T032619
CREATED:20260210T213506Z
LAST-MODIFIED:20260210T213506Z
UID:10000948-1777203000-1777208400@familiespelvalencia.org
SUMMARY:Cinema. Salvatges
DESCRIPTION:A Borneo\, al límit de la gran selva tropical\, Keria acull un bebé orangutan\, trobat a la plantació de palmeres d’oli en la qual treballa son pare. Amb l’ajuda del seu cosí Selaï i l’orangutan\, Keria lluitarà contra la destrucció del bosc\, aventura que li permetrà connectar amb els seus orígens. \nDurada: 87 min \nSuïsa | 2024 // Direcció: Claude Barras
URL:https://familiespelvalencia.org/activitat/cinema-salvatges/
LOCATION:Teatre Serrano\, Gandia\, Pg. de les Germanies\, 29\, Gandia\, La Safor\, 46702
CATEGORIES:Comarques centrals
ATTACH;FMTTYPE=image/jpeg:https://familiespelvalencia.org/wp-content/uploads/2026/02/Salvatges.jpg
GEO:38.9655571;-0.1841386
X-APPLE-STRUCTURED-LOCATION;VALUE=URI;X-ADDRESS=Teatre Serrano Gandia Pg. de les Germanies 29 Gandia La Safor 46702;X-APPLE-RADIUS=500;X-TITLE=Pg. de les Germanies\, 29:geo:-0.1841386,38.9655571
END:VEVENT
BEGIN:VEVENT
DTSTART;TZID=Europe/Paris:20260426T130000
DTEND;TZID=Europe/Paris:20260426T180000
DTSTAMP:20260424T032619
CREATED:20260405T210252Z
LAST-MODIFIED:20260405T210252Z
UID:10001193-1777208400-1777226400@familiespelvalencia.org
SUMMARY:Correllengua Agermanat a Pedreguer
DESCRIPTION:El pròxim Diumenge 26 d’Abril arriba el Correllengua Agermanat a Pedreguer. \n🔥L’activitat consisteix a portar la Flama al llarg d’un recorregut compartit\, que es dividirà en diferents trams. En cada tram\, la Flama anirà passant de mà en mà fent relleus entre les persones participants. \n🎯Per a poder coordinar-nos bé entre ciclistes\, corredors/es i l’organització\, necessitem que feu el formulari que hem preparat. Haureu de posar el vostre nom\, edat\, un número de contacte i si considereu que sou experimentats o no en córrer/anar en bici. Així\, vos podrem assignar els trams i els relleus de la Flama. \n🏁El tram a què us apuntaríeu és de Pedreguer al Mascarat: comença al Polovella\, segueix pel carrer la Rosa\, carrer Roser\, Empecinado (rep. de la bufa)\, fins l’Ajuntament\, Plaça Major avall\, Mestre Serrano\, Plaça de l’Amistat (on fa parada de 20 min)\, segueix Mestre Serrano avall\, Avinguda Jaume I\, carretera de Gata (CV-732) i la nacional (n-332) fins al Mascarat sense passar per dins de Benissa. \nSi hi vols participar\, emplena el formulari que n’hi ha a la descripció del nostre compte. \n🍴Podeu adquirir els tiquets del dinar al Pub Verdolaga\, Pub Quatre Estacions i al Casal Jaume I. \nVos esperem i bona cursa!!🚴‍♂️
URL:https://familiespelvalencia.org/activitat/correllengua-agermanat-a-pedreguer/
LOCATION:Plaça de l’amistat\, Plaça de l'Amistat\, Pedreguer\, La Marina Alta\, 03750
CATEGORIES:Comarques centrals
ATTACH;FMTTYPE=image/jpeg:https://familiespelvalencia.org/wp-content/uploads/2026/04/images.jpg
GEO:38.7945461;0.0346863
X-APPLE-STRUCTURED-LOCATION;VALUE=URI;X-ADDRESS=Plaça de l’amistat Plaça de l'Amistat Pedreguer La Marina Alta 03750;X-APPLE-RADIUS=500;X-TITLE=Plaça de l'Amistat:geo:0.0346863,38.7945461
END:VEVENT
END:VCALENDAR