BEGIN:VCALENDAR
VERSION:2.0
PRODID:-//FAMÍLIES PEL VALENCIÀ - ECPv6.15.20//NONSGML v1.0//EN
CALSCALE:GREGORIAN
METHOD:PUBLISH
X-ORIGINAL-URL:https://familiespelvalencia.org
X-WR-CALDESC:Esdeveniments per FAMÍLIES PEL VALENCIÀ
REFRESH-INTERVAL;VALUE=DURATION:PT1H
X-Robots-Tag:noindex
X-PUBLISHED-TTL:PT1H
BEGIN:VTIMEZONE
TZID:Europe/Paris
BEGIN:DAYLIGHT
TZOFFSETFROM:+0100
TZOFFSETTO:+0200
TZNAME:CEST
DTSTART:20250330T010000
END:DAYLIGHT
BEGIN:STANDARD
TZOFFSETFROM:+0200
TZOFFSETTO:+0100
TZNAME:CET
DTSTART:20251026T010000
END:STANDARD
BEGIN:DAYLIGHT
TZOFFSETFROM:+0100
TZOFFSETTO:+0200
TZNAME:CEST
DTSTART:20260329T010000
END:DAYLIGHT
BEGIN:STANDARD
TZOFFSETFROM:+0200
TZOFFSETTO:+0100
TZNAME:CET
DTSTART:20261025T010000
END:STANDARD
BEGIN:DAYLIGHT
TZOFFSETFROM:+0100
TZOFFSETTO:+0200
TZNAME:CEST
DTSTART:20270328T010000
END:DAYLIGHT
BEGIN:STANDARD
TZOFFSETFROM:+0200
TZOFFSETTO:+0100
TZNAME:CET
DTSTART:20271031T010000
END:STANDARD
END:VTIMEZONE
BEGIN:VEVENT
DTSTART;TZID=Europe/Paris:20260417T100000
DTEND;TZID=Europe/Paris:20260419T200000
DTSTAMP:20260424T032416
CREATED:20260417T165725Z
LAST-MODIFIED:20260417T165725Z
UID:10001226-1776420000-1776628800@familiespelvalencia.org
SUMMARY:FirAll. Fira de l'all tendre
DESCRIPTION:El FirAll de Xàtiva 2026 és una fira dedicada a l’all tendre i a les tradicions agrícoles\, gastronòmiques i culturals vinculades al territori\, que ompli la ciutat d’activitat i ambient festiu durant diversos dies. La programació inclou propostes per a tots els públics\, on es poden trobra també activitats pensades especialment per a famílies i joves\, com tallers infantils\, cuina participativa\, música en directe\, espais de joc\, concursos i experiències culturals i gastronòmiques. Una celebració popular que posa en valor el producte local\, la cultura i la participació. \nPrograma complet
URL:https://familiespelvalencia.org/activitat/firall-fira-de-lall-tendre/
LOCATION:Xàtiva.- Avinguda de Selgas\, Avinguda de Selgas\, 9\, Xàtiva\, La Costera\, 46800
CATEGORIES:Comarques centrals
ATTACH;FMTTYPE=image/jpeg:https://familiespelvalencia.org/wp-content/uploads/2026/04/FirAll.jpg
GEO:38.9905344;-0.5145633
X-APPLE-STRUCTURED-LOCATION;VALUE=URI;X-ADDRESS=Xàtiva.- Avinguda de Selgas Avinguda de Selgas 9 Xàtiva La Costera 46800;X-APPLE-RADIUS=500;X-TITLE=Avinguda de Selgas\, 9:geo:-0.5145633,38.9905344
END:VEVENT
BEGIN:VEVENT
DTSTART;TZID=Europe/Paris:20260418T103000
DTEND;TZID=Europe/Paris:20260419T170000
DTSTAMP:20260424T032416
CREATED:20260323T215615Z
LAST-MODIFIED:20260323T215615Z
UID:10001103-1776508200-1776618000@familiespelvalencia.org
SUMMARY:Mitja Fava Fest
DESCRIPTION:Mitja Fava Fest arriba amb dos dies de festa\, música i cultura popular al Poble Nou de Benitatxell. El dissabte 18 d’abril\, el festival combina tradició i música actual amb danses populars\, muixeranga de la Marina Alta i concerts de grups com Spicy Cherries\, Tres fan ball\, La Xe-ranga\, Bèrnia i Esther\, amb tancament a càrrec de Fiona Ònix DJ set.\nEl diumenge 19 d’abril està dedicat a un ambient més familiar\, amb Canta Canalla i músiques de carrer\, pensades especialment per als més menuts. Una cita ideal per a gaudir en família de la música en valencià\, la cultura popular i el carrer com a espai de trobada.
URL:https://familiespelvalencia.org/activitat/mitja-fava-fest/
LOCATION:Poble Nou de Benitatxell.- Pàrquing Av. València\, Avinguda València\, Poble Nou de Benitatxell\, Marina Alta\, 03726
CATEGORIES:Comarques centrals
ATTACH;FMTTYPE=image/jpeg:https://familiespelvalencia.org/wp-content/uploads/2026/03/Mitja-fava-fest.jpg
GEO:38.7321911;0.1423731
X-APPLE-STRUCTURED-LOCATION;VALUE=URI;X-ADDRESS=Poble Nou de Benitatxell.- Pàrquing Av. València Avinguda València Poble Nou de Benitatxell Marina Alta 03726;X-APPLE-RADIUS=500;X-TITLE=Avinguda València:geo:0.1423731,38.7321911
END:VEVENT
BEGIN:VEVENT
DTSTART;TZID=Europe/Paris:20260418T113000
DTEND;TZID=Europe/Paris:20260418T123000
DTSTAMP:20260424T032416
CREATED:20260417T171451Z
LAST-MODIFIED:20260417T171451Z
UID:10001228-1776511800-1776515400@familiespelvalencia.org
SUMMARY:Contacontes. Dissabte divertits. Sant Jordi
DESCRIPTION:cal inscripció prèvia
URL:https://familiespelvalencia.org/activitat/contacontes-dissabte-divertits-sant-jordi/
LOCATION:Biblioteca Tirisiti\, Av. País Valencià\, 1\, Alcoi\, L'Alcoià\, 03801
CATEGORIES:Comarques centrals
ATTACH;FMTTYPE=image/jpeg:https://familiespelvalencia.org/wp-content/uploads/2026/04/Alcoi.-dissabtes-divertits.-Sant-Jordi.jpg
GEO:38.697146;-0.4752305
X-APPLE-STRUCTURED-LOCATION;VALUE=URI;X-ADDRESS=Biblioteca Tirisiti Av. País Valencià 1 Alcoi L'Alcoià 03801;X-APPLE-RADIUS=500;X-TITLE=Av. País Valencià\, 1:geo:-0.4752305,38.697146
END:VEVENT
BEGIN:VEVENT
DTSTART;TZID=Europe/Paris:20260418T120000
DTEND;TZID=Europe/Paris:20260418T130000
DTSTAMP:20260424T032416
CREATED:20260414T152226Z
LAST-MODIFIED:20260414T152856Z
UID:10001220-1776513600-1776517200@familiespelvalencia.org
SUMMARY:Contacontes. "La llegenda de Sant Jordi" del Gran Jordiet Cia.
DESCRIPTION:Dins del festival Fora d’Òrbita d’Orba\, una cita cultural que converteix el poble en un espai de trobada al voltant de les arts escèniques contemporànies\, arriba aquesta proposta pensada especialment per al públic infantil i familiar: el contacontes La llegenda de Sant Jordi\, del Gran Jordiet Cia. Amb una mirada fresca\, divertida i pròxima\, l’espectacle revisita una de les llegendes més estimades de la nostra tradició\, apropant-la a les xiquetes i els xiquets a través de la narració oral\, l’humor i la participació del públic. Una manera viva i creativa de connectar amb el patrimoni cultural i fomentar l’amor pels contes i l’imaginari popular. El festival Fora d’Òrbita aposta per una programació diversa i de qualitat\, amb propostes que dialoguen amb l’espai públic\, el territori i els diferents públics\, i que converteixen Orba en un referent cultural de proximitat. Aquesta actuació s’emmarca plenament en l’esperit del festival: cultura accessible\, creadora i compartida. Una activitat ideal per gaudir en família i deixar-se portar per la màgia dels contes… fora d’òrbita i ben a prop. \nPrograma complet Fora d’Òrbita:
URL:https://familiespelvalencia.org/activitat/contacontes-la-llegenda-de-sant-jordi-del-gran-jordiet-cia/
LOCATION:Orba.- Plaça de l’Ajuntament\, Plaça de l'Ajuntament\, Orba\, Marina Alta\, 03790
CATEGORIES:Comarques centrals
ATTACH;FMTTYPE=image/jpeg:https://familiespelvalencia.org/wp-content/uploads/2026/04/Fora-dOrbita.jpeg
GEO:38.8419491;-0.1172883
X-APPLE-STRUCTURED-LOCATION;VALUE=URI;X-ADDRESS=Orba.- Plaça de l’Ajuntament Plaça de l'Ajuntament Orba Marina Alta 03790;X-APPLE-RADIUS=500;X-TITLE=Plaça de l'Ajuntament:geo:-0.1172883,38.8419491
END:VEVENT
BEGIN:VEVENT
DTSTART;TZID=Europe/Paris:20260418T120000
DTEND;TZID=Europe/Paris:20260418T230000
DTSTAMP:20260424T032416
CREATED:20260409T065502Z
LAST-MODIFIED:20260409T065502Z
UID:10001208-1776513600-1776553200@familiespelvalencia.org
SUMMARY:Rabat Fest
DESCRIPTION:Amb l’arribada de la primavera\, torna el Rabat Fest\, una cita festiva que ompli d’energia\, música i bon ambient aquesta jornada especial. Una proposta per a celebrar el canvi d’estació i gaudir d’una experiència oberta i vibrant. \nHoraris per confirmar.
URL:https://familiespelvalencia.org/activitat/rabat-fest/
LOCATION:Parc del Poliesportiu.- Rafelcofer\, Carrer de Sant Diego\, Rafelcofer\, La Safor\, 46716
CATEGORIES:Comarques centrals
ATTACH;FMTTYPE=image/jpeg:https://familiespelvalencia.org/wp-content/uploads/2026/04/Rabat-Fest-2026.jpeg
GEO:38.932317;-0.1688388
X-APPLE-STRUCTURED-LOCATION;VALUE=URI;X-ADDRESS=Parc del Poliesportiu.- Rafelcofer Carrer de Sant Diego Rafelcofer La Safor 46716;X-APPLE-RADIUS=500;X-TITLE=Carrer de Sant Diego:geo:-0.1688388,38.932317
END:VEVENT
END:VCALENDAR