BEGIN:VCALENDAR
VERSION:2.0
PRODID:-//FAMÍLIES PEL VALENCIÀ - ECPv6.15.20//NONSGML v1.0//EN
CALSCALE:GREGORIAN
METHOD:PUBLISH
X-WR-CALNAME:FAMÍLIES PEL VALENCIÀ
X-ORIGINAL-URL:https://familiespelvalencia.org
X-WR-CALDESC:Esdeveniments per FAMÍLIES PEL VALENCIÀ
REFRESH-INTERVAL;VALUE=DURATION:PT1H
X-Robots-Tag:noindex
X-PUBLISHED-TTL:PT1H
BEGIN:VTIMEZONE
TZID:Europe/Paris
BEGIN:DAYLIGHT
TZOFFSETFROM:+0100
TZOFFSETTO:+0200
TZNAME:CEST
DTSTART:20250330T010000
END:DAYLIGHT
BEGIN:STANDARD
TZOFFSETFROM:+0200
TZOFFSETTO:+0100
TZNAME:CET
DTSTART:20251026T010000
END:STANDARD
BEGIN:DAYLIGHT
TZOFFSETFROM:+0100
TZOFFSETTO:+0200
TZNAME:CEST
DTSTART:20260329T010000
END:DAYLIGHT
BEGIN:STANDARD
TZOFFSETFROM:+0200
TZOFFSETTO:+0100
TZNAME:CET
DTSTART:20261025T010000
END:STANDARD
BEGIN:DAYLIGHT
TZOFFSETFROM:+0100
TZOFFSETTO:+0200
TZNAME:CEST
DTSTART:20270328T010000
END:DAYLIGHT
BEGIN:STANDARD
TZOFFSETFROM:+0200
TZOFFSETTO:+0100
TZNAME:CET
DTSTART:20271031T010000
END:STANDARD
END:VTIMEZONE
BEGIN:VEVENT
DTSTART;TZID=Europe/Paris:20260228T110000
DTEND;TZID=Europe/Paris:20260228T120000
DTSTAMP:20260424T035601
CREATED:20260205T092205Z
LAST-MODIFIED:20260205T092205Z
UID:10000912-1772276400-1772280000@familiespelvalencia.org
SUMMARY:Contacontes a càrrec d'Andreu Bernabeu
DESCRIPTION:La Llibreria Detroit\, ha organitzat dins de la seua programació de foment lector per als més menuts\, una nova edició del contacontes. En aquesta ocasió\, Andreu Bernabeu\, de El Sarnatxo Animació\, aproparà històries i personatges a xiquets i xiquetes.
URL:https://familiespelvalencia.org/activitat/contacontes-a-carrec-dandreu-bernabeu/
LOCATION:Detroit llibres\, Carrer Oliver\, 5\, Alcoi\, L'Alcoià\, 03802
CATEGORIES:Comarques centrals
ATTACH;FMTTYPE=image/jpeg:https://familiespelvalencia.org/wp-content/uploads/2026/02/ANDREU-BERNABEU.jpg
GEO:38.6948508;-0.4812384
X-APPLE-STRUCTURED-LOCATION;VALUE=URI;X-ADDRESS=Detroit llibres Carrer Oliver 5 Alcoi L'Alcoià 03802;X-APPLE-RADIUS=500;X-TITLE=Carrer Oliver\, 5:geo:-0.4812384,38.6948508
END:VEVENT
BEGIN:VEVENT
DTSTART;TZID=Europe/Paris:20260228T113000
DTEND;TZID=Europe/Paris:20260228T123000
DTSTAMP:20260424T035601
CREATED:20260213T173012Z
LAST-MODIFIED:20260213T173012Z
UID:10000954-1772278200-1772281800@familiespelvalencia.org
SUMMARY:Dissabtes Divertits.- Biblioteca Tirisiti
DESCRIPTION:La Biblioteca Tirisiti d’Alcoi presenta una nova edició dels “Dissabtes Divertits”\, una proposta mensual d’activitats gratuïtes per a xiquetes i xiquets de 5 a 12 anys que combina creativitat\, lectura i descobriment cultural. Al febrer\, les famílies podran gaudir de manualitats per Carnestoltes i d’un conte contat\, mentre que al març les sessions se centraran en les dones referents i en donar la benvinguda a la primavera a la biblioteca. Totes les activitats se celebren els dissabtes a les 11:30 h i requereixen inscripció prèvia a la Biblioteca Tirisiti. Una oportunitat fantàstica perquè els més menuts visquen la cultura en valencià d’una manera lúdica i propera!
URL:https://familiespelvalencia.org/activitat/dissabtes-divertits-biblioteca-tirisiti/2026-02-28/
LOCATION:Biblioteca Tirisiti\, Av. País Valencià\, 1\, Alcoi\, L'Alcoià\, 03801
CATEGORIES:Comarques centrals
ATTACH;FMTTYPE=image/jpeg:https://familiespelvalencia.org/wp-content/uploads/2026/02/DISSABTES-DIVERTITS.jpeg
GEO:38.697146;-0.4752305
X-APPLE-STRUCTURED-LOCATION;VALUE=URI;X-ADDRESS=Biblioteca Tirisiti Av. País Valencià 1 Alcoi L'Alcoià 03801;X-APPLE-RADIUS=500;X-TITLE=Av. País Valencià\, 1:geo:-0.4752305,38.697146
END:VEVENT
END:VCALENDAR