BEGIN:VCALENDAR
VERSION:2.0
PRODID:-//FAMÍLIES PEL VALENCIÀ - ECPv6.15.20//NONSGML v1.0//EN
CALSCALE:GREGORIAN
METHOD:PUBLISH
X-WR-CALNAME:FAMÍLIES PEL VALENCIÀ
X-ORIGINAL-URL:https://familiespelvalencia.org
X-WR-CALDESC:Esdeveniments per FAMÍLIES PEL VALENCIÀ
REFRESH-INTERVAL;VALUE=DURATION:PT1H
X-Robots-Tag:noindex
X-PUBLISHED-TTL:PT1H
BEGIN:VTIMEZONE
TZID:Europe/Paris
BEGIN:DAYLIGHT
TZOFFSETFROM:+0100
TZOFFSETTO:+0200
TZNAME:CEST
DTSTART:20250330T010000
END:DAYLIGHT
BEGIN:STANDARD
TZOFFSETFROM:+0200
TZOFFSETTO:+0100
TZNAME:CET
DTSTART:20251026T010000
END:STANDARD
BEGIN:DAYLIGHT
TZOFFSETFROM:+0100
TZOFFSETTO:+0200
TZNAME:CEST
DTSTART:20260329T010000
END:DAYLIGHT
BEGIN:STANDARD
TZOFFSETFROM:+0200
TZOFFSETTO:+0100
TZNAME:CET
DTSTART:20261025T010000
END:STANDARD
BEGIN:DAYLIGHT
TZOFFSETFROM:+0100
TZOFFSETTO:+0200
TZNAME:CEST
DTSTART:20270328T010000
END:DAYLIGHT
BEGIN:STANDARD
TZOFFSETFROM:+0200
TZOFFSETTO:+0100
TZNAME:CET
DTSTART:20271031T010000
END:STANDARD
END:VTIMEZONE
BEGIN:VEVENT
DTSTART;TZID=Europe/Paris:20260124T120000
DTEND;TZID=Europe/Paris:20260124T130000
DTSTAMP:20260424T044116
CREATED:20260110T071340Z
LAST-MODIFIED:20260110T071340Z
UID:10000703-1769256000-1769259600@familiespelvalencia.org
SUMMARY:Contacontes. Teixint ponts
DESCRIPTION:La Biblioteca de Dénia acull el contacontes infantil “Teixint ponts”\, a càrrec de Xelo Ribes\, amb els contes de Ca la Bassa. Una proposta pensada per a xiquets i xiquetes\, on la narració oral es converteix en un fil que uneix històries\, emocions i imaginació\, tot creant espais de trobada i aprenentatge en valencià.
URL:https://familiespelvalencia.org/activitat/contacontes-teixint-ponts/
LOCATION:Biblioteca Municipal de Dénia\, c/ de Sant Josep\, 6\, Dénia\, Marina Alta\, 03700
CATEGORIES:Comarques centrals
ATTACH;FMTTYPE=application/pdf:https://familiespelvalencia.org/wp-content/uploads/2026/01/20260124-ccinf-Xelo.pdf
GEO:38.8389127;0.1076852
X-APPLE-STRUCTURED-LOCATION;VALUE=URI;X-ADDRESS=Biblioteca Municipal de Dénia c/ de Sant Josep 6 Dénia Marina Alta 03700;X-APPLE-RADIUS=500;X-TITLE=c/ de Sant Josep\, 6:geo:0.1076852,38.8389127
END:VEVENT
BEGIN:VEVENT
DTSTART;TZID=Europe/Paris:20260124T183000
DTEND;TZID=Europe/Paris:20260124T193500
DTSTAMP:20260424T044116
CREATED:20260117T073450Z
LAST-MODIFIED:20260117T073450Z
UID:10000737-1769279400-1769283300@familiespelvalencia.org
SUMMARY:Teatre: Alícia al vaixell de les meravelles\, el musical
DESCRIPTION:De Trencadís Produccions \nIntèrprets: María Bruñó\, Andreu Beltrán i Héctor González Martí. Direcció: Jose Tomàs Chàfer. Text i lletres: Josep Mollà. Música original: Paco Iváñez. Coreografia: Pachi G. Fenollar. \nGènere: Teatre musical\nPúblic: Familiar\nDurada: 65 min. \nSinopsi \nAlícia al Vaixell de les Meravelles és unespectacle musical que explora el temauniversal del viatge i l’adaptació a través dedues històries entrellaçades. Per una banda\, elviatge real que recorda el iaio Cristóbal\, qui alsanys 60 va partir des de Cuba cap a Europacercant la llibertat\, i per altra banda\, el viatgeimaginari que fa la seua neta\, Alícia\, a travésde la lectura d’Alícia al País de les Meravelles. \nAquesta proposta vol mostrar com\, tant el iaio Cristóbal com Alícia\, s’enfronten a monsdesconeguts\, on han de trobar la manerad’adaptar-se a nous entorns culturals\,lingüístics i socials\, sense oblidar les arrels i laidentitat. A través de la paraula\, la música i ladansa\, l’espectacle busca connectar amb elpúblic més jove\, fent-los reflexionar sobre lesdificultats i les oportunitats que suposen elscanvis en les nostres vides. \nTràiler Alícia al Vaixell de les Meravelles
URL:https://familiespelvalencia.org/activitat/teatre-alicia-al-vaixell-de-les-meravelles-el-musical-6/
LOCATION:Teatre Principal.- Banyeres de Mariola\, Carrer del Castell\, 8\, Banyeres de Mariola\, L'Alcoià\, 03450
CATEGORIES:Comarques centrals
ATTACH;FMTTYPE=image/jpeg:https://familiespelvalencia.org/wp-content/uploads/2026/01/alicia-banyeres.jpg
GEO:38.7156181;-0.6573104
X-APPLE-STRUCTURED-LOCATION;VALUE=URI;X-ADDRESS=Teatre Principal.- Banyeres de Mariola Carrer del Castell 8 Banyeres de Mariola L'Alcoià 03450;X-APPLE-RADIUS=500;X-TITLE=Carrer del Castell\, 8:geo:-0.6573104,38.7156181
END:VEVENT
END:VCALENDAR