BEGIN:VCALENDAR
VERSION:2.0
PRODID:-//FAMÍLIES PEL VALENCIÀ - ECPv6.15.20//NONSGML v1.0//EN
CALSCALE:GREGORIAN
METHOD:PUBLISH
X-ORIGINAL-URL:https://familiespelvalencia.org
X-WR-CALDESC:Esdeveniments per FAMÍLIES PEL VALENCIÀ
REFRESH-INTERVAL;VALUE=DURATION:PT1H
X-Robots-Tag:noindex
X-PUBLISHED-TTL:PT1H
BEGIN:VTIMEZONE
TZID:Europe/Paris
BEGIN:DAYLIGHT
TZOFFSETFROM:+0100
TZOFFSETTO:+0200
TZNAME:CEST
DTSTART:20240331T010000
END:DAYLIGHT
BEGIN:STANDARD
TZOFFSETFROM:+0200
TZOFFSETTO:+0100
TZNAME:CET
DTSTART:20241027T010000
END:STANDARD
BEGIN:DAYLIGHT
TZOFFSETFROM:+0100
TZOFFSETTO:+0200
TZNAME:CEST
DTSTART:20250330T010000
END:DAYLIGHT
BEGIN:STANDARD
TZOFFSETFROM:+0200
TZOFFSETTO:+0100
TZNAME:CET
DTSTART:20251026T010000
END:STANDARD
BEGIN:DAYLIGHT
TZOFFSETFROM:+0100
TZOFFSETTO:+0200
TZNAME:CEST
DTSTART:20260329T010000
END:DAYLIGHT
BEGIN:STANDARD
TZOFFSETFROM:+0200
TZOFFSETTO:+0100
TZNAME:CET
DTSTART:20261025T010000
END:STANDARD
BEGIN:DAYLIGHT
TZOFFSETFROM:+0100
TZOFFSETTO:+0200
TZNAME:CEST
DTSTART:20270328T010000
END:DAYLIGHT
BEGIN:STANDARD
TZOFFSETFROM:+0200
TZOFFSETTO:+0100
TZNAME:CET
DTSTART:20271031T010000
END:STANDARD
END:VTIMEZONE
BEGIN:VEVENT
DTSTART;VALUE=DATE:20251210
DTEND;VALUE=DATE:20260104
DTSTAMP:20260424T044215
CREATED:20251202T164819Z
LAST-MODIFIED:20251202T164819Z
UID:10000531-1765324800-1767484799@familiespelvalencia.org
SUMMARY:Exposició. Paraules de Nadal. 35 anys de Nadal en valencià
DESCRIPTION:Entra en el fantàstic món de les paraules i les imatges de Nadal! Vine a fer-te fotos\, pintar\, llegir\, conéixer la història de les cartes màgiques als Reis de l’Orient\, resoldre enigmes musimàgics i matemàgics i\, sobretot\, t’espera el camell Cagacartes: «Per Nadal\, utilitza la llengua i tindràs un regal!». \nExposició retrospectiva i interactiva dels materials de Nadal creats pel Gabinet de Normalització Lingüística de l’Ajuntament d’Alcoi i la il·lustradora Rosanna Crespo al llarg de 35 anys i amb la col·laboració especial dels xiquets i xiquetes alumnes de l’Escola Municipal de Belles Arts i de moltes altres entitats alcoianes. \nHorari. De dilluns a divendres: de 10h a 13.30h i de 17h a 20h. Dissabtes: de 10h a 13.30h (tancada els dies 24\, 25 i 31 de desembre i l’1 de gener)
URL:https://familiespelvalencia.org/activitat/exposicio-paraules-de-nadal-35-anys-de-nadal-en-valencia/
LOCATION:Centre Cultural.- Alcoi\, Av. País Valencià\, 1\, Alcoi\, L'Alcoià\, 03801
CATEGORIES:Comarques centrals
ATTACH;FMTTYPE=image/jpeg:https://familiespelvalencia.org/wp-content/uploads/2025/12/Cartell-exposicio-Paraules-de-Nadal.-25-anys-de-Nadal-en-valencia.jpg
GEO:38.697146;-0.4752305
X-APPLE-STRUCTURED-LOCATION;VALUE=URI;X-ADDRESS=Centre Cultural.- Alcoi Av. País Valencià 1 Alcoi L'Alcoià 03801;X-APPLE-RADIUS=500;X-TITLE=Av. País Valencià\, 1:geo:-0.4752305,38.697146
END:VEVENT
BEGIN:VEVENT
DTSTART;TZID=Europe/Paris:20260103T120000
DTEND;TZID=Europe/Paris:20260103T130000
DTSTAMP:20260424T044215
CREATED:20260102T215939Z
LAST-MODIFIED:20260102T215939Z
UID:10000695-1767441600-1767445200@familiespelvalencia.org
SUMMARY:Contacontes. Un conte gens tradicional
DESCRIPTION:L’Escola de Teatre de Pego presenta una sessió molt especial de contacontes amb el títol “Un conte gens tradicional”\, una història inspirada en una rondalla popular del Camerun i dirigida per César Monsonís. Una oportunitat perfecta per descobrir nous mons i gaudir del teatre en família. \n 
URL:https://familiespelvalencia.org/activitat/contacontes-un-conte-gens-tradicional/
LOCATION:Seu Falla Plaça i Natzaré.- Pego\, Pego\, Marina Alta\, 03780
CATEGORIES:Comarques centrals
ATTACH;FMTTYPE=image/jpeg:https://familiespelvalencia.org/wp-content/uploads/2026/01/Un-conte-gens-tradicional.jpg
GEO:38.8429394;-0.1156439
END:VEVENT
BEGIN:VEVENT
DTSTART;TZID=Europe/Paris:20260103T120000
DTEND;TZID=Europe/Paris:20260103T140000
DTSTAMP:20260424T044215
CREATED:20260103T083119Z
LAST-MODIFIED:20260103T083543Z
UID:10000696-1767441600-1767448800@familiespelvalencia.org
SUMMARY:XOCOROCK. Festa presentació
DESCRIPTION:Bocairent acull la festa de presentació de Xocorock a la Plaça de l’Ajuntament\, una cita musical per començar l’any amb energia. L’esdeveniment comptarà amb l’actuació de La Trocamba Matanusca\, que portarà la seua fusió vibrant de ritmes balcànics i festius\, i amb DJ Santy Mataix\, que posarà el punt electrònic per a tancar la jornada amb la millor selecció musical. Una proposta gratuïta i oberta a tots els públics per gaudir de bona música i ambient festiu en un entorn únic.
URL:https://familiespelvalencia.org/activitat/xocorock-festa-presentacio/
LOCATION:Plaça Ajuntament.- Bocairent\, Plaça Ajuntament\, Bocairent\, Vall d'Albaida\, 46880
CATEGORIES:Comarques centrals
ATTACH;FMTTYPE=image/jpeg:https://familiespelvalencia.org/wp-content/uploads/2026/01/La-Trocamba-Matanusca.jpg
GEO:38.7675526;-0.6099131
X-APPLE-STRUCTURED-LOCATION;VALUE=URI;X-ADDRESS=Plaça Ajuntament.- Bocairent Plaça Ajuntament Bocairent Vall d'Albaida 46880;X-APPLE-RADIUS=500;X-TITLE=Plaça Ajuntament:geo:-0.6099131,38.7675526
END:VEVENT
END:VCALENDAR