BEGIN:VCALENDAR
VERSION:2.0
PRODID:-//FAMÍLIES PEL VALENCIÀ - ECPv6.15.20//NONSGML v1.0//EN
CALSCALE:GREGORIAN
METHOD:PUBLISH
X-WR-CALNAME:FAMÍLIES PEL VALENCIÀ
X-ORIGINAL-URL:https://familiespelvalencia.org
X-WR-CALDESC:Esdeveniments per FAMÍLIES PEL VALENCIÀ
REFRESH-INTERVAL;VALUE=DURATION:PT1H
X-Robots-Tag:noindex
X-PUBLISHED-TTL:PT1H
BEGIN:VTIMEZONE
TZID:Europe/Paris
BEGIN:DAYLIGHT
TZOFFSETFROM:+0100
TZOFFSETTO:+0200
TZNAME:CEST
DTSTART:20250330T010000
END:DAYLIGHT
BEGIN:STANDARD
TZOFFSETFROM:+0200
TZOFFSETTO:+0100
TZNAME:CET
DTSTART:20251026T010000
END:STANDARD
BEGIN:DAYLIGHT
TZOFFSETFROM:+0100
TZOFFSETTO:+0200
TZNAME:CEST
DTSTART:20260329T010000
END:DAYLIGHT
BEGIN:STANDARD
TZOFFSETFROM:+0200
TZOFFSETTO:+0100
TZNAME:CET
DTSTART:20261025T010000
END:STANDARD
BEGIN:DAYLIGHT
TZOFFSETFROM:+0100
TZOFFSETTO:+0200
TZNAME:CEST
DTSTART:20270328T010000
END:DAYLIGHT
BEGIN:STANDARD
TZOFFSETFROM:+0200
TZOFFSETTO:+0100
TZNAME:CET
DTSTART:20271031T010000
END:STANDARD
END:VTIMEZONE
BEGIN:VEVENT
DTSTART;TZID=Europe/Paris:20260424T173000
DTEND;TZID=Europe/Paris:20260424T180000
DTSTAMP:20260424T032205
CREATED:20260423T075230Z
LAST-MODIFIED:20260423T075230Z
UID:10001242-1777051800-1777053600@familiespelvalencia.org
SUMMARY:L’Hora del conte a la biblioteca
DESCRIPTION:La Biblioteca de Gata de Gorgos ofereix setmanalment L’Hora del Conte\, on els menuts gaudeixen d’un conte i una activitat de dibuix. Aquesta setmana el conte serà:  “Es busca culpable!” ede Fran Pintadera amb il·lustracions de Christian Inaraja 𝗟’𝗛𝗼𝗿𝗮 𝗱𝗲𝗹 𝗖𝗼𝗻𝘁𝗲 ️//  Divendres 24 d’abril //  a les 17:30h
URL:https://familiespelvalencia.org/activitat/lhora-del-conte-a-la-biblioteca-10/
LOCATION:Biblioteca Carme Miquel.- Gata de Gorgos\, C/ De la Bassa s/n\, Gata de Gorgos\, Marina Alta\, 03740
CATEGORIES:Comarques centrals
ATTACH;FMTTYPE=image/jpeg:https://familiespelvalencia.org/wp-content/uploads/2026/04/677357558_1372355164926374_6855472722046818089_n.jpg
ORGANIZER;CN="Biblioteca P%C3%BAblica Municipal de Gata de Gorgos":MAILTO:biblioteca@gatadegorgos.org
GEO:38.7747015;0.0836837
X-APPLE-STRUCTURED-LOCATION;VALUE=URI;X-ADDRESS=Biblioteca Carme Miquel.- Gata de Gorgos C/ De la Bassa s/n Gata de Gorgos Marina Alta 03740;X-APPLE-RADIUS=500;X-TITLE=C/ De la Bassa s/n:geo:0.0836837,38.7747015
END:VEVENT
BEGIN:VEVENT
DTSTART;TZID=Europe/Paris:20260424T173000
DTEND;TZID=Europe/Paris:20260424T183000
DTSTAMP:20260424T032205
CREATED:20260405T214045Z
LAST-MODIFIED:20260405T214045Z
UID:10001201-1777051800-1777055400@familiespelvalencia.org
SUMMARY:Mr Fem i els besos perduts
DESCRIPTION:Espectacle Familiar Impartit per Mr. Fem \nOn van els besos que no donem durant el dia? Això és del que parlarem! Una història divertida carregada de cançons populars amb un toc d’ska i rock.
URL:https://familiespelvalencia.org/activitat/mr-fem-i-els-besos-perduts-5/
LOCATION:Biblioteca Benipeixcar-Raval\, Carrer Ferrocarril d'Alcoi\, 3\, Gandia\, La Safor\, 46702
CATEGORIES:Comarques centrals
ATTACH;FMTTYPE=image/jpeg:https://familiespelvalencia.org/wp-content/uploads/2026/04/WEB-FC-MR-FEM-I-ELS-BESOS-PERDUTS.jpg
GEO:38.9629617;-0.18621
X-APPLE-STRUCTURED-LOCATION;VALUE=URI;X-ADDRESS=Biblioteca Benipeixcar-Raval Carrer Ferrocarril d'Alcoi 3 Gandia La Safor 46702;X-APPLE-RADIUS=500;X-TITLE=Carrer Ferrocarril d'Alcoi\, 3:geo:-0.18621,38.9629617
END:VEVENT
BEGIN:VEVENT
DTSTART;TZID=Europe/Paris:20260424T183000
DTEND;TZID=Europe/Paris:20260424T193000
DTSTAMP:20260424T032205
CREATED:20260421T162105Z
LAST-MODIFIED:20260421T162300Z
UID:10001241-1777055400-1777059000@familiespelvalencia.org
SUMMARY:Benvinguda a la lectura
DESCRIPTION:Si tens filles o fills 𝗻𝗮𝘀𝗰𝘂𝘁𝘀 𝗲𝗻𝘁𝗿𝗲 𝗼𝗰𝘁𝘂𝗯𝗿𝗲 𝗱𝗲 𝟮𝟬𝟮𝟱 𝗶 𝗮𝗯𝗿𝗶𝗹 𝗱𝗲 𝟮𝟬𝟮𝟲 la 𝗕𝗶𝗯𝗹𝗶𝗼𝘁𝗲𝗰𝗮 “𝗖𝗮𝗿𝗺𝗲 𝗠𝗶𝗾𝘂𝗲𝗹” 𝗱𝗲 𝗚𝗮𝘁𝗮 𝗱𝗲 𝗚𝗼𝗿𝗴𝗼𝘀 t’espera per donar -li la Benvinguda al món de la lectura amb un regal i molta informació.
URL:https://familiespelvalencia.org/activitat/benvinguda-a-la-lectura/
LOCATION:Biblioteca Carme Miquel.- Gata de Gorgos\, C/ De la Bassa s/n\, Gata de Gorgos\, Marina Alta\, 03740
CATEGORIES:Comarques centrals
ATTACH;FMTTYPE=image/jpeg:https://familiespelvalencia.org/wp-content/uploads/2026/04/Benvinguda-lectura.-Gata.jpg
ORGANIZER;CN="Ajuntament de Gata de Gorgos":MAILTO:info@gatadegorgos.org
GEO:38.7747015;0.0836837
X-APPLE-STRUCTURED-LOCATION;VALUE=URI;X-ADDRESS=Biblioteca Carme Miquel.- Gata de Gorgos C/ De la Bassa s/n Gata de Gorgos Marina Alta 03740;X-APPLE-RADIUS=500;X-TITLE=C/ De la Bassa s/n:geo:0.0836837,38.7747015
END:VEVENT
END:VCALENDAR