BEGIN:VCALENDAR
VERSION:2.0
PRODID:-//FAMÍLIES PEL VALENCIÀ - ECPv6.15.20//NONSGML v1.0//EN
CALSCALE:GREGORIAN
METHOD:PUBLISH
X-WR-CALNAME:FAMÍLIES PEL VALENCIÀ
X-ORIGINAL-URL:https://familiespelvalencia.org
X-WR-CALDESC:Esdeveniments per FAMÍLIES PEL VALENCIÀ
REFRESH-INTERVAL;VALUE=DURATION:PT1H
X-Robots-Tag:noindex
X-PUBLISHED-TTL:PT1H
BEGIN:VTIMEZONE
TZID:Europe/Paris
BEGIN:DAYLIGHT
TZOFFSETFROM:+0100
TZOFFSETTO:+0200
TZNAME:CEST
DTSTART:20250330T010000
END:DAYLIGHT
BEGIN:STANDARD
TZOFFSETFROM:+0200
TZOFFSETTO:+0100
TZNAME:CET
DTSTART:20251026T010000
END:STANDARD
BEGIN:DAYLIGHT
TZOFFSETFROM:+0100
TZOFFSETTO:+0200
TZNAME:CEST
DTSTART:20260329T010000
END:DAYLIGHT
BEGIN:STANDARD
TZOFFSETFROM:+0200
TZOFFSETTO:+0100
TZNAME:CET
DTSTART:20261025T010000
END:STANDARD
BEGIN:DAYLIGHT
TZOFFSETFROM:+0100
TZOFFSETTO:+0200
TZNAME:CEST
DTSTART:20270328T010000
END:DAYLIGHT
BEGIN:STANDARD
TZOFFSETFROM:+0200
TZOFFSETTO:+0100
TZNAME:CET
DTSTART:20271031T010000
END:STANDARD
END:VTIMEZONE
BEGIN:VEVENT
DTSTART;TZID=Europe/Paris:20260502T120000
DTEND;TZID=Europe/Paris:20260502T133000
DTSTAMP:20260424T052726
CREATED:20260423T132504Z
LAST-MODIFIED:20260423T132504Z
UID:10001250-1777723200-1777728600@familiespelvalencia.org
SUMMARY:Espectacle. Què li ha passat al monstre Petorro?
DESCRIPTION:Xàbia acull la preestrena exclusiva del nou espectacle familiar Què li ha passat al monstre Petorro?\, una proposta que amplia l’univers d’aquest personatge tan estimat pel públic infantil. L’espectacle combina teatre\, música i humor a partir del nou llibre i la nova cançó\, en un format dinàmic i participatiu pensat per a gaudir en família. Amb la creativitat de Paco Cholbi i les il·lustracions de Carles Arbat\, el Monstre Petorro torna amb una història plena de fantasia\, complicitat i situacions divertides que connecten amb xiquetes i xiquets. Una cita ideal per a viure cultura en valencià i compartir una experiència única\, amb entrada gratuïta.
URL:https://familiespelvalencia.org/activitat/espectacle-que-li-ha-passat-al-monstre-petorro/
LOCATION:Xàbia.- Plaça de la Cosntitució\, Plaça de la Constitució\, Xàbia\, Marina Alta\, 03730
CATEGORIES:Comarques centrals
ATTACH;FMTTYPE=image/jpeg:https://familiespelvalencia.org/wp-content/uploads/2026/04/Monstre-Petorro-Xabia.jpeg
GEO:38.7897733;0.1609423
X-APPLE-STRUCTURED-LOCATION;VALUE=URI;X-ADDRESS=Xàbia.- Plaça de la Cosntitució Plaça de la Constitució Xàbia Marina Alta 03730;X-APPLE-RADIUS=500;X-TITLE=Plaça de la Constitució:geo:0.1609423,38.7897733
END:VEVENT
BEGIN:VEVENT
DTSTART;TZID=Europe/Paris:20260509T223000
DTEND;TZID=Europe/Paris:20260509T235900
DTSTAMP:20260424T052726
CREATED:20260417T163555Z
LAST-MODIFIED:20260417T163624Z
UID:10001224-1778365800-1778371140@familiespelvalencia.org
SUMMARY:Concert. Trobadorets
DESCRIPTION:El festival Xàbia Folk 2026 en la seua 24a edició acull\, entre altres fomacions\, a les Pitxorines. Un grup musical de huit al·lotes mallorquines\, que naix el 2023\, per compartir les cançons populars de Mallorca que escoltaven des de ben menudes. Les seues cançons reviscolades aporten una visió nova a aquest repertori amb uns arranjaments propis que beuen de la música tradicional\, jazz i clàssica. Amb el seu nou disc “Sa falda girada”\, les cançons reflecteixen la complicitat guanyada i exploren nous camins sonors\, sense perdre l’essència que les ha convertides en una proposta única i vibrant. \nPúblic jove i públic en general. \nMés informació: Ajuntament de Xàbia
URL:https://familiespelvalencia.org/activitat/concert-trobadorets-16/
LOCATION:Plaça de l’esglesia.- Xàbia\, Plaça de l'esglesia\, Xàbia\, Marina Alta\, 03730
CATEGORIES:Comarques centrals
ATTACH;FMTTYPE=image/jpeg:https://familiespelvalencia.org/wp-content/uploads/2026/03/Xabia-Folk.jpg
GEO:38.78908;0.1635105
X-APPLE-STRUCTURED-LOCATION;VALUE=URI;X-ADDRESS=Plaça de l’esglesia.- Xàbia Plaça de l'esglesia Xàbia Marina Alta 03730;X-APPLE-RADIUS=500;X-TITLE=Plaça de l'esglesia:geo:0.1635105,38.78908
END:VEVENT
BEGIN:VEVENT
DTSTART;TZID=Europe/Paris:20260516T103000
DTEND;TZID=Europe/Paris:20260517T193000
DTSTAMP:20260424T052726
CREATED:20260417T164250Z
LAST-MODIFIED:20260417T164451Z
UID:10001225-1778927400-1779046200@familiespelvalencia.org
SUMMARY:Xalònia
DESCRIPTION:Xalònia 2026 torna a convertir-se en una gran cita cultural oberta a tota la ciutadania\, amb una programació variada i participativa pensada per a tots els públics. Al llarg de l’esdeveniment\, es podran gaudir de nombroses propostes artístiques\, culturals i lúdiques que omplin els carrers i espais del municipi de vida i creativitat. Entre el conjunt d’activitats previstes\, el públic podrà trobar propostes específiques per a famílies i per a joves\, fomentant la participació intergeneracional i l’accés a la cultura en un ambient festiu\, inclusiu i proper. Xalònia 2026 es presenta així com una celebració col·lectiva que combina diversió\, cultura i convivència.
URL:https://familiespelvalencia.org/activitat/xalonia/
LOCATION:Xaló\, Xaló\, Marina Alta\, 03727
CATEGORIES:Comarques centrals
ATTACH;FMTTYPE=image/jpeg:https://familiespelvalencia.org/wp-content/uploads/2026/04/Xalonia.jpg
END:VEVENT
BEGIN:VEVENT
DTSTART;TZID=Europe/Paris:20260516T220000
DTEND;TZID=Europe/Paris:20260516T235900
DTSTAMP:20260424T052726
CREATED:20260323T212324Z
LAST-MODIFIED:20260323T213100Z
UID:10001098-1778968800-1778975940@familiespelvalencia.org
SUMMARY:Al SomSella 2026 Festival
DESCRIPTION:Al SomSella 2026 torna a omplir el poble de música en valencià\, cultura i bon ambient\, amb una proposta arrelada al territori i pensada per a tots els públics. El festival aposta per una programació de qualitat en un entorn proper i acollidor. Entre els noms destacats hi ha Malifeta\, que arriba presentant nou disc\, amb noves cançons plenes d’energia\, compromís i esperit festiu. Una cita perfecta per a gaudir de la música feta des d’ací. \nPúblic jove i públic en general
URL:https://familiespelvalencia.org/activitat/al-somsella-2026-festival/
LOCATION:Poliesportiu Les Saleres\, Sella\, Marina Baixa\, 03579
CATEGORIES:Comarques centrals
ATTACH;FMTTYPE=image/jpeg:https://familiespelvalencia.org/wp-content/uploads/2026/03/al-som-sella-2026.jpg
END:VEVENT
BEGIN:VEVENT
DTSTART;TZID=Europe/Paris:20260524T113000
DTEND;TZID=Europe/Paris:20260524T130000
DTSTAMP:20260424T052726
CREATED:20260210T214006Z
LAST-MODIFIED:20260210T214006Z
UID:10000949-1779622200-1779627600@familiespelvalencia.org
SUMMARY:Cinema. L'incident alienígena del petit Alan
DESCRIPTION:Alan té 11 anys i un estiu acaba exercint d’antena humana per al seu veí obsessionat amb els ovnis. Però el que es troben és tan sols a Britney\, una xiqueta extraterrestre que està fent un treball per a l’escola sobre la primitiva raça humana. Alan l’ha d’ajudar a tornar a casa mentre un col·leccionista va darrere d’ella perquè vol una resposta a la gran pregunta de la història: hi ha vida a l’espai? \nDurada: 82 min \nDinamarca | 2022 // Direcció: Amalie Næsby Fick
URL:https://familiespelvalencia.org/activitat/cinema-lincident-alienigena-del-petit-alan/
LOCATION:Teatre Serrano\, Gandia\, Pg. de les Germanies\, 29\, Gandia\, La Safor\, 46702
CATEGORIES:Comarques centrals
ATTACH;FMTTYPE=image/jpeg:https://familiespelvalencia.org/wp-content/uploads/2026/02/Lincident-alienigena.jpg
GEO:38.9655571;-0.1841386
X-APPLE-STRUCTURED-LOCATION;VALUE=URI;X-ADDRESS=Teatre Serrano Gandia Pg. de les Germanies 29 Gandia La Safor 46702;X-APPLE-RADIUS=500;X-TITLE=Pg. de les Germanies\, 29:geo:-0.1841386,38.9655571
END:VEVENT
BEGIN:VEVENT
DTSTART;TZID=Europe/Paris:20260531T183000
DTEND;TZID=Europe/Paris:20260531T193500
DTSTAMP:20260424T052726
CREATED:20260325T120739Z
LAST-MODIFIED:20260325T120813Z
UID:10001109-1780252200-1780256100@familiespelvalencia.org
SUMMARY:Teatre: Alícia al vaixell de les meravelles\, el musical
DESCRIPTION:De Trencadís Produccions \nIntèrprets: María Bruñó\, Andreu Beltrán i Héctor González Martí. Direcció: Jose Tomàs Chàfer. Text i lletres: Josep Mollà. Música original: Paco Iváñez. Coreografia: Pachi G. Fenollar. \nGènere: Teatre musical\nPúblic: Familiar\nDurada: 65 min. \nSinopsi \nAlícia al Vaixell de les Meravelles és unespectacle musical que explora el temauniversal del viatge i l’adaptació a través dedues històries entrellaçades. Per una banda\, elviatge real que recorda el iaio Cristóbal\, qui alsanys 60 va partir des de Cuba cap a Europacercant la llibertat\, i per altra banda\, el viatgeimaginari que fa la seua neta\, Alícia\, a travésde la lectura d’Alícia al País de les Meravelles. \nAquesta proposta vol mostrar com\, tant el iaio Cristóbal com Alícia\, s’enfronten a monsdesconeguts\, on han de trobar la manerad’adaptar-se a nous entorns culturals\,lingüístics i socials\, sense oblidar les arrels i laidentitat. A través de la paraula\, la música i ladansa\, l’espectacle busca connectar amb elpúblic més jove\, fent-los reflexionar sobre lesdificultats i les oportunitats que suposen elscanvis en les nostres vides. \nTràiler Alícia al Vaixell de les Meravelles
URL:https://familiespelvalencia.org/activitat/teatre-alicia-al-vaixell-de-les-meravelles-el-musical-7/
LOCATION:Centre Cultural Papa Calixte III\, C/ Frai Maties Ferrer\, 1\, Canals\, La Costera\, 46650
CATEGORIES:Comarques centrals
ATTACH;FMTTYPE=image/jpeg:https://familiespelvalencia.org/wp-content/uploads/2025/10/alicia.jpg
GEO:38.9622878;-0.5848192
X-APPLE-STRUCTURED-LOCATION;VALUE=URI;X-ADDRESS=Centre Cultural Papa Calixte III C/ Frai Maties Ferrer 1 Canals La Costera 46650;X-APPLE-RADIUS=500;X-TITLE=C/ Frai Maties Ferrer\, 1:geo:-0.5848192,38.9622878
END:VEVENT
END:VCALENDAR