BEGIN:VCALENDAR
VERSION:2.0
PRODID:-//FAMÍLIES PEL VALENCIÀ - ECPv6.15.20//NONSGML v1.0//EN
CALSCALE:GREGORIAN
METHOD:PUBLISH
X-ORIGINAL-URL:https://familiespelvalencia.org
X-WR-CALDESC:Esdeveniments per FAMÍLIES PEL VALENCIÀ
REFRESH-INTERVAL;VALUE=DURATION:PT1H
X-Robots-Tag:noindex
X-PUBLISHED-TTL:PT1H
BEGIN:VTIMEZONE
TZID:Europe/Paris
BEGIN:DAYLIGHT
TZOFFSETFROM:+0100
TZOFFSETTO:+0200
TZNAME:CEST
DTSTART:20250330T010000
END:DAYLIGHT
BEGIN:STANDARD
TZOFFSETFROM:+0200
TZOFFSETTO:+0100
TZNAME:CET
DTSTART:20251026T010000
END:STANDARD
BEGIN:DAYLIGHT
TZOFFSETFROM:+0100
TZOFFSETTO:+0200
TZNAME:CEST
DTSTART:20260329T010000
END:DAYLIGHT
BEGIN:STANDARD
TZOFFSETFROM:+0200
TZOFFSETTO:+0100
TZNAME:CET
DTSTART:20261025T010000
END:STANDARD
BEGIN:DAYLIGHT
TZOFFSETFROM:+0100
TZOFFSETTO:+0200
TZNAME:CEST
DTSTART:20270328T010000
END:DAYLIGHT
BEGIN:STANDARD
TZOFFSETFROM:+0200
TZOFFSETTO:+0100
TZNAME:CET
DTSTART:20271031T010000
END:STANDARD
END:VTIMEZONE
BEGIN:VEVENT
DTSTART;TZID=Europe/Paris:20260424T103000
DTEND;TZID=Europe/Paris:20260425T190000
DTSTAMP:20260420T192030
CREATED:20260325T213858Z
LAST-MODIFIED:20260325T213858Z
UID:10001117-1777026600-1777143600@familiespelvalencia.org
SUMMARY:Un poble una flama. La festa del correllengua
DESCRIPTION:
URL:https://familiespelvalencia.org/activitat/un-poble-una-flama-la-festa-del-correllengua/
LOCATION:La Pobla de Tornesa\, La Pobla de Tornesa\, Plana Alta\, 12191
CATEGORIES:Comarques del nord
ATTACH;FMTTYPE=image/jpeg:https://familiespelvalencia.org/wp-content/uploads/2026/03/Un-poble-una-flama.jpg
END:VEVENT
BEGIN:VEVENT
DTSTART;TZID=Europe/Paris:20260425T110000
DTEND;TZID=Europe/Paris:20260425T123000
DTSTAMP:20260420T192030
CREATED:20260405T211914Z
LAST-MODIFIED:20260417T203228Z
UID:10001195-1777114800-1777120200@familiespelvalencia.org
SUMMARY:Jornada 25 d'abril. Fira d'entitats\, Concert de Trobadorets\, Contacontes i altres activitats.
DESCRIPTION:Trobadorets farà vibrar Paiporta dins dels actes del 25 d’abril\, amb Anem de festa: un espectacle alegre i participatiu que farà cantar i ballar la menudalla i les seues famílies\, omplint el poble de música i bon humor.
URL:https://familiespelvalencia.org/activitat/concert-de-trobadorets-8/
LOCATION:Museu de la Rajoleria\, Carrer Enrique Reig\, 3\, Paiporta\, Horta Sud\, 46200
CATEGORIES:Comarques Túria–Xúquer
ATTACH;FMTTYPE=image/webp:https://familiespelvalencia.org/wp-content/uploads/2026/04/191758c3-0ea4-49db-b08d-d95bc46fd2eb.webp
END:VEVENT
BEGIN:VEVENT
DTSTART;TZID=Europe/Paris:20260425T113000
DTEND;TZID=Europe/Paris:20260425T122000
DTSTAMP:20260420T192030
CREATED:20260202T213919Z
LAST-MODIFIED:20260202T213919Z
UID:10000901-1777116600-1777119600@familiespelvalencia.org
SUMMARY:Teatre.- La rateta Marieta
DESCRIPTION:Coneixeu Marieta? Marieta és una rateta molt curiosa i valenta. No para mai quieta. La rata Marieta va nàixer en un full i d’un full eixirà per a omplir l’escenari. Aquest personatge fa 35 anys que acompanya els i les primeres lectores; és el moment de retre-li un homenatge. Un espectacle a partir del personatge creat per Lourdes Bellver i Fina Masgrau que posa en valor la creació literària per a la infància. \nEdat: De 3 a 8 anys // Durada: 50 minuts aproximadament \nCompanyia: L’Horta Teatre; Direcció i autoria: Kika Garcelán \nMés informació i venda d’entrades: Escalante \n 
URL:https://familiespelvalencia.org/activitat/teatre-la-rateta-marieta/2026-04-25/
LOCATION:Ribes Espai Cultural\, Carrer de les Filipines\, 2 (Barri de Russafa)\, València\, L'Horta\, 46004
CATEGORIES:València - districte capital
ATTACH;FMTTYPE=image/jpeg:https://familiespelvalencia.org/wp-content/uploads/2026/02/La-rateta-marieta.jpg
GEO:39.4582381;-0.3772651
X-APPLE-STRUCTURED-LOCATION;VALUE=URI;X-ADDRESS=Ribes Espai Cultural Carrer de les Filipines 2 (Barri de Russafa) València L'Horta 46004;X-APPLE-RADIUS=500;X-TITLE=Carrer de les Filipines\, 2 (Barri de Russafa):geo:-0.3772651,39.4582381
END:VEVENT
BEGIN:VEVENT
DTSTART;TZID=Europe/Paris:20260425T113000
DTEND;TZID=Europe/Paris:20260425T123000
DTSTAMP:20260420T192030
CREATED:20260405T213447Z
LAST-MODIFIED:20260405T213447Z
UID:10001196-1777116600-1777120200@familiespelvalencia.org
SUMMARY:Paco Bancal i el tresor perdut
DESCRIPTION:Paco Bancal ha perdut una cosa molt important: una llavor especial que li va regalar el iaio. \nPer sort\, compta amb el seu fidel amic\, Maulet. Junts es convertiran en una parella de detectius que recorrerà cada racó de la casa per trobar el tresor perdut. \nDescobriu quina gran lliçó ens ensenya el xicotet Maulet sobre no rendir-se mai. Seran capaços de resoldre el misteri? \nUna història tendra sobre la paciência\, la perseverança i el valor dels records que ens deixen les persones que estimem. Amb il-lustracions encantadores que tocaran el cor dels lectors.
URL:https://familiespelvalencia.org/activitat/paco-bancal-i-el-tresor-perdut/
LOCATION:Biblioteca Infantil\, Gandia\, Plaça del Rei en Jaume I\, 9\, Gandia\, La Safor\, 46701
CATEGORIES:Comarques centrals
ATTACH;FMTTYPE=image/jpeg:https://familiespelvalencia.org/wp-content/uploads/2026/04/PACO-BANCAL-I-EL-TRESOR-PERDUT.-JPG-370x358-1.jpg
END:VEVENT
BEGIN:VEVENT
DTSTART;TZID=Europe/Paris:20260425T120000
DTEND;TZID=Europe/Paris:20260425T123000
DTSTAMP:20260420T192030
CREATED:20260315T153103Z
LAST-MODIFIED:20260331T150203Z
UID:10001154-1777118400-1777120200@familiespelvalencia.org
SUMMARY:Documental al Planetari. La xiqueta que sabia caminar al revés
DESCRIPTION:La xiqueta que sabia caminar al revés és un personatge molt especial. Coneix els secrets que guarda la Lluna\, sap escoltar les marees i sol parlar amb els arbres\, però el que més li agrada fer és menjar pastissos amb els seus amics mentre contempla el cel estrelat. Potser per això fa temps que va aprendre a caminar al revés\, per a poder tindre sempre el cel sota els peus. És un conte capgirat\, una història que vol convidar-nos a contemplar el que ens envolta des d’un nou punt de vista. Ací tot és diferent\, i allí on abans només véiem sòl\, ara potser podrem veure el cel. \nPúblic: infantil i jove // Durada: 27 minuts \nMés informació i venda d’entrades: Planetari de Castelló
URL:https://familiespelvalencia.org/activitat/documental-al-planetari-la-xiqueta-que-sabia-caminar-al-reves-7/2026-04-25/
LOCATION:Planetari de Castelló\, Passeig Marítim\, 1 (Grau de Castelló)\, Castelló\, Plana Alta\, 12100
CATEGORIES:Comarques del nord
ATTACH;FMTTYPE=image/jpeg:https://familiespelvalencia.org/wp-content/uploads/2025/12/La-xiqueta-que-sabia-caminar-al-reves.jpg
GEO:39.9793318;0.022053
X-APPLE-STRUCTURED-LOCATION;VALUE=URI;X-ADDRESS=Planetari de Castelló Passeig Marítim 1 (Grau de Castelló) Castelló Plana Alta 12100;X-APPLE-RADIUS=500;X-TITLE=Passeig Marítim\, 1 (Grau de Castelló):geo:0.022053,39.9793318
END:VEVENT
BEGIN:VEVENT
DTSTART;TZID=Europe/Paris:20260425T120000
DTEND;TZID=Europe/Paris:20260425T130000
DTSTAMP:20260420T192030
CREATED:20260405T090439Z
LAST-MODIFIED:20260405T090439Z
UID:10001191-1777118400-1777122000@familiespelvalencia.org
SUMMARY:Abril de contes: Contes en valencià\, de Júlia Cantavella.
DESCRIPTION:A l’abril\, cada conte val per mil! 🌸 \nAmb la primavera tornen les animacions lectores! Vols crear un conte amb mi? Apunta\, apunta: \n👉 25 d’abril a les 12h a @llibreriacampanar a València.
URL:https://familiespelvalencia.org/activitat/abril-de-contes-contes-en-valencia-de-julia-cantavella-3/
LOCATION:Lliberia Campanar\, València\, Carrer d'Aparicio Albiñana\, 13\, Campanar\,\, València\, 46015
CATEGORIES:València - districte capital
ATTACH;FMTTYPE=image/jpeg:https://familiespelvalencia.org/wp-content/uploads/2026/04/contes-en-valencia.jpg
END:VEVENT
BEGIN:VEVENT
DTSTART;TZID=Europe/Paris:20260425T120000
DTEND;TZID=Europe/Paris:20260425T130000
DTSTAMP:20260420T192030
CREATED:20260417T210038Z
LAST-MODIFIED:20260417T210038Z
UID:10001236-1777118400-1777122000@familiespelvalencia.org
SUMMARY:Espectacle amb Dani Miquel a Dénia
DESCRIPTION:Espectacle Quin Guirigall!\, amb Dani Miquel. \nUs esperem el dissabte 25 d’abril\, a les 12 h\, a la Biblioteca Pública Juan Chabás (c/ de Sant Josep\, 6. Dénia 03700)
URL:https://familiespelvalencia.org/activitat/espectacle-amb-dani-miquel-a-denia/
LOCATION:Biblioteca Pública Juan Chabàs\, c/ de Sant Josep\, 6\, Dénia\, 03700
CATEGORIES:Comarques centrals
ATTACH;FMTTYPE=image/jpeg:https://familiespelvalencia.org/wp-content/uploads/2026/04/WhatsApp-Image-2026-04-17-at-22.58.59.jpeg
END:VEVENT
BEGIN:VEVENT
DTSTART;TZID=Europe/Paris:20260425T123000
DTEND;TZID=Europe/Paris:20260425T133000
DTSTAMP:20260420T192030
CREATED:20260405T084933Z
LAST-MODIFIED:20260405T084933Z
UID:10001186-1777120200-1777123800@familiespelvalencia.org
SUMMARY:El gran espectacle del monstre Petorro
DESCRIPTION:Un espectacle divertidíssim\, ple de música\, contes i màgia per a tota la família! \nPaco Cholbi és l’autor del llibre El monstre Petorro editat per Bromera i reconegut amb el Premi Internacional Enric Solbes d’Àlbum Il·lustrat. De les seues pàgines naix este espectacle per als més menuts.
URL:https://familiespelvalencia.org/activitat/el-gran-espectacle-del-monstre-petorro-3/
LOCATION:Casa de la Cultura\, Xàtiva\, Carrer Montcada\, 9\,\, Xàtiva\, La Costera\, 46800
CATEGORIES:Comarques centrals
ATTACH;FMTTYPE=image/jpeg:https://familiespelvalencia.org/wp-content/uploads/2026/04/WhatsApp-Image-2026-04-02-at-23.02.23.jpeg
END:VEVENT
BEGIN:VEVENT
DTSTART;TZID=Europe/Paris:20260425T174200
DTEND;TZID=Europe/Paris:20260425T180000
DTSTAMP:20260420T192030
CREATED:20260411T072652Z
LAST-MODIFIED:20260411T075818Z
UID:10001215-1777138920-1777140000@familiespelvalencia.org
SUMMARY:Correllengua Agermanat. Tram Famílies pel valencià
DESCRIPTION:Famílies pel Valencià se suma al Correllengua Agermanat corrent un tram molt especial\, pensat per a fer ben visible que les futures generacions també són protagonistes d’aquesta lluita col·lectiva. Ho fem per mostrar el nostre suport al Correllengua Agermanat\, però sobretot també per reivindicar el dret de les nostres criatures a viure\, créixer i somiar en valencià. Convidem totes les famílies a unir-se al nostre tram i a participar-hi d’una manera ben simbòlica i festiva: veniu amb bici\, patinets\, carrets o com vulgueu\, però vingueu amb ganes de fer-vos veure. Que el Correllengua s’ompliga de xiquets i xiquetes és una manera clara de dir que el valencià té futur i que aquest futur es construeix des de casa\, des de l’escola i des del carrer. Córrer aquest tram juntes i junts és molt més que un gest: és un compromís compartit perquè el valencià siga llengua viva ara i demà. És l’hora de córrer… i de no parar.
URL:https://familiespelvalencia.org/activitat/correllengua-agermanat-tram-families-pel-valencia/
LOCATION:València.- Plaça de Tetuan\, Plaça de Tetuan\, València\, L'Horta\, 46003
CATEGORIES:València - districte capital
ATTACH;FMTTYPE=image/jpeg:https://familiespelvalencia.org/wp-content/uploads/2026/04/Correllengua-Families.jpeg
GEO:39.47427;-0.369975
X-APPLE-STRUCTURED-LOCATION;VALUE=URI;X-ADDRESS=València.- Plaça de Tetuan Plaça de Tetuan València L'Horta 46003;X-APPLE-RADIUS=500;X-TITLE=Plaça de Tetuan:geo:-0.369975,39.47427
END:VEVENT
BEGIN:VEVENT
DTSTART;TZID=Europe/Paris:20260425T180000
DTEND;TZID=Europe/Paris:20260425T183000
DTSTAMP:20260420T192030
CREATED:20260315T154221Z
LAST-MODIFIED:20260331T150551Z
UID:10001158-1777140000-1777141800@familiespelvalencia.org
SUMMARY:Documental al Planetari. Dinosaures
DESCRIPTION:Com a quasi tots els xiquets\, a Celeste li fascinen els dinosaures. S’està preparant per a parlar en classe sobre la seua extinció quan Moon\, un màgic personatge replet de saviesa\, li planteja un dubte: i si et diguera que encara queden dinosaures entre nosaltres? Celeste acompanyarà a Moon en un viatge en el temps. Una apassionant aventura que els portarà a visitar la Terra en un passat molt\, molt remot. Veuran fascinants transformacions que han acompanyat a aquests éssers durant milions d’anys creant criatures gegants\, éssers cuirassats i super depredadors\, fins al dia en què el gran impacte va provocar una extinció massiva en la Terra. Però no tot està perdut. Celeste descobrirà la clau de la seua supervivència. \nPúblic: infantil i jove // Durada: 28 minuts \nMés informació i venda d’entrades: Planetari de Castelló
URL:https://familiespelvalencia.org/activitat/documental-al-planetari-dinosaures-10/2026-04-25/
LOCATION:Planetari de Castelló\, Passeig Marítim\, 1 (Grau de Castelló)\, Castelló\, Plana Alta\, 12100
CATEGORIES:Comarques del nord
ATTACH;FMTTYPE=image/jpeg:https://familiespelvalencia.org/wp-content/uploads/2025/12/dinosaures-castello.jpg
GEO:39.9793318;0.022053
X-APPLE-STRUCTURED-LOCATION;VALUE=URI;X-ADDRESS=Planetari de Castelló Passeig Marítim 1 (Grau de Castelló) Castelló Plana Alta 12100;X-APPLE-RADIUS=500;X-TITLE=Passeig Marítim\, 1 (Grau de Castelló):geo:0.022053,39.9793318
END:VEVENT
BEGIN:VEVENT
DTSTART;TZID=Europe/Paris:20260425T180000
DTEND;TZID=Europe/Paris:20260425T185000
DTSTAMP:20260420T192030
CREATED:20260202T142910Z
LAST-MODIFIED:20260202T142910Z
UID:10000860-1777140000-1777143000@familiespelvalencia.org
SUMMARY:Cinema concert: petits tresors de butxaca
DESCRIPTION:Vols gaudir d’una manera melòdica i creativa d’un conjunt de curtmetratges seleccionats especialment? Aquesta sessió de cinema concert ofereix una experiència sensorial que uneix el cinema i la música en directe. Un conjunt de sis curtmetratges seleccionats per a tota la família que es desplega com un viatge ple de faules màgiques\, emocions i missatges sensibles\, en els quals la música es converteix en el fil narratiu. \nProjecte a càrrec de Josep Maria Baldomà\, compositor barceloní especialitzat en bandes sonores per a cinema i televisió\, creador de la música original dels curtmetratges que conformen aquest cinema concert. \nDurada: 49 minuts // Edat recomanada: +3 anys \nMés informació\, fitxa educativa i venda d’entrades: Web CaixaFòrum
URL:https://familiespelvalencia.org/activitat/cinema-concert-petits-tresors-de-butxaca/
LOCATION:Caixa Forum\, Ciutat de les Arts i les Ciències\, C/ Eduardo Primo Yúfera\, 1A\, València\, 46013
CATEGORIES:València - districte capital
ATTACH;FMTTYPE=image/webp:https://familiespelvalencia.org/wp-content/uploads/2026/02/Petits-tresors-de-butxaca.webp
GEO:39.4538716;-0.3498098
X-APPLE-STRUCTURED-LOCATION;VALUE=URI;X-ADDRESS=Caixa Forum Ciutat de les Arts i les Ciències C/ Eduardo Primo Yúfera 1A València 46013;X-APPLE-RADIUS=500;X-TITLE=Ciutat de les Arts i les Ciències\, C/ Eduardo Primo Yúfera\, 1A:geo:-0.3498098,39.4538716
END:VEVENT
BEGIN:VEVENT
DTSTART;TZID=Europe/Paris:20260425T180000
DTEND;TZID=Europe/Paris:20260425T190000
DTSTAMP:20260420T192030
CREATED:20260405T085203Z
LAST-MODIFIED:20260405T085203Z
UID:10001187-1777140000-1777143600@familiespelvalencia.org
SUMMARY:El gran espectacle del monstre Petorro
DESCRIPTION:Un espectacle divertidíssim\, ple de música\, contes i màgia per a tota la família! \nPaco Cholbi és l’autor del llibre El monstre Petorro editat per Bromera i reconegut amb el Premi Internacional Enric Solbes d’Àlbum Il·lustrat. De les seues pàgines naix este espectacle per als més menuts.
URL:https://familiespelvalencia.org/activitat/el-gran-espectacle-del-monstre-petorro-4/
LOCATION:Parc Jaume I\, Vila-real\, Carrer Molí\, 12-36\, Vila-real\, Plana Baixa\, 12540
CATEGORIES:Comarques del nord
ATTACH;FMTTYPE=image/jpeg:https://familiespelvalencia.org/wp-content/uploads/2026/04/WhatsApp-Image-2026-04-02-at-23.02.23.jpeg
END:VEVENT
BEGIN:VEVENT
DTSTART;TZID=Europe/Paris:20260425T203000
DTEND;TZID=Europe/Paris:20260425T235900
DTSTAMP:20260420T192030
CREATED:20260331T151738Z
LAST-MODIFIED:20260402T115713Z
UID:10001163-1777149000-1777161540@familiespelvalencia.org
SUMMARY:Concert: La Gossa Sorda. Minigira "a Tornallom"
DESCRIPTION:🎶 La Gossa Sorda torna amb “a TORNALLOM”📅 El 24 i 25 d’abril\, Picassent acollirà el retorn d’una de les bandes més influents i estimades de la música en valencià: La Gossa Sorda. Amb una trajectòria que ha marcat generacions i ha posat banda sonora a les lluites socials del nostre país\, el grup inicia una minigira de tres dates sota el nom “A Tornallom”\, que també passarà per Palma (2 de maig\, Felanitx) i Cunit (23 de maig).🔧 Fidels als seus valors\, la banda aposta per un format autogestionat\, allunyat dels grans festivals. En aquesta línia\, la gira servirà per activar col·laboracions amb entitats cíviques i causes socials.💛 Al concert de Picassent\, es proposarà una microdonació d’1 euro per entrada per a Famílies pel Valencià\, que Caixa Popular igualarà amb un altre euro. Una manera directa de donar suport a la llengua i a les iniciatives que la defensen.🔥 No et quedes fora: vine a Picassent i forma part del retorn d’una banda que ha fet història i que torna per seguir transformant-la!Més informació:  La Gossa SordaENTRADES EXHAURIDES \nObertura portes: 20.30h
URL:https://familiespelvalencia.org/activitat/concert-la-gossa-sorda-minigira-a-tornallom-2/
LOCATION:Centre multiactivitats de Picassent\, Carrer Clara Campoamor s/n\, Picassent\, València\, 46220\, Spain
CATEGORIES:Comarques Túria–Xúquer
ATTACH;FMTTYPE=image/jpeg:https://familiespelvalencia.org/wp-content/uploads/2026/03/la-gossa-25.jpg
GEO:39.3670681;-0.4611044
X-APPLE-STRUCTURED-LOCATION;VALUE=URI;X-ADDRESS=Centre multiactivitats de Picassent Carrer Clara Campoamor s/n Picassent València 46220 Spain;X-APPLE-RADIUS=500;X-TITLE=Carrer Clara Campoamor s/n:geo:-0.4611044,39.3670681
END:VEVENT
BEGIN:VEVENT
DTSTART;TZID=Europe/Paris:20260425T213000
DTEND;TZID=Europe/Paris:20260425T230000
DTSTAMP:20260420T192030
CREATED:20260323T213902Z
LAST-MODIFIED:20260323T214133Z
UID:10001099-1777152600-1777158000@familiespelvalencia.org
SUMMARY:Concert. Bèrnia
DESCRIPTION:BÈRNIA és molt més que un grup: és la força creativa de huit dones que han deixat empremta en la indústria musical amb els seus projectes individuals. El que va començar com una experiència pedagògica inspirada en el poema Els amants de Vicent Andrés Estellés\, es va convertir en cançó i\, finalment\, en el primer single d’una banda que hui presenta el seu primer disc: Amb el cor plenet. Amb una combinació d’instruments tradicionals (guitarra\, baix\, vents\, percussions) i sons moderns (sintetitzadors\, electrònica)\, BÈRNIA crea un estil propi que convida a ballar i a gaudir de l’ací i ara. Concert per a tots els públics\, però destinat especialment a joves que busquen una proposta vibrant\, autèntica i plena de vida que no et pots perdre.
URL:https://familiespelvalencia.org/activitat/concert-bernia-2/
LOCATION:Casa de la Cultura Marqués de González Quirós\, Pg. de les Germanies\, 11\, Gandia\, La Safor\, 46702
CATEGORIES:Comarques centrals
ATTACH;FMTTYPE=image/jpeg:https://familiespelvalencia.org/wp-content/uploads/2026/03/Marquesa-Concerts.jpg
END:VEVENT
END:VCALENDAR