BEGIN:VCALENDAR
VERSION:2.0
PRODID:-//FAMÍLIES PEL VALENCIÀ - ECPv6.15.20//NONSGML v1.0//EN
CALSCALE:GREGORIAN
METHOD:PUBLISH
X-WR-CALNAME:FAMÍLIES PEL VALENCIÀ
X-ORIGINAL-URL:https://familiespelvalencia.org
X-WR-CALDESC:Esdeveniments per FAMÍLIES PEL VALENCIÀ
REFRESH-INTERVAL;VALUE=DURATION:PT1H
X-Robots-Tag:noindex
X-PUBLISHED-TTL:PT1H
BEGIN:VTIMEZONE
TZID:Europe/Paris
BEGIN:DAYLIGHT
TZOFFSETFROM:+0100
TZOFFSETTO:+0200
TZNAME:CEST
DTSTART:20250330T010000
END:DAYLIGHT
BEGIN:STANDARD
TZOFFSETFROM:+0200
TZOFFSETTO:+0100
TZNAME:CET
DTSTART:20251026T010000
END:STANDARD
BEGIN:DAYLIGHT
TZOFFSETFROM:+0100
TZOFFSETTO:+0200
TZNAME:CEST
DTSTART:20260329T010000
END:DAYLIGHT
BEGIN:STANDARD
TZOFFSETFROM:+0200
TZOFFSETTO:+0100
TZNAME:CET
DTSTART:20261025T010000
END:STANDARD
BEGIN:DAYLIGHT
TZOFFSETFROM:+0100
TZOFFSETTO:+0200
TZNAME:CEST
DTSTART:20270328T010000
END:DAYLIGHT
BEGIN:STANDARD
TZOFFSETFROM:+0200
TZOFFSETTO:+0100
TZNAME:CET
DTSTART:20271031T010000
END:STANDARD
END:VTIMEZONE
BEGIN:VEVENT
DTSTART;TZID=Europe/Paris:20260421T173000
DTEND;TZID=Europe/Paris:20260421T183000
DTSTAMP:20260420T191159
CREATED:20260223T124023Z
LAST-MODIFIED:20260223T124126Z
UID:10000984-1776792600-1776796200@familiespelvalencia.org
SUMMARY:Pissiganya 2026 .- Grups de joc i conversa en valencià per a famílies
DESCRIPTION:Pissiganya és un activitat grupal en què pares i mares\, juntament amb les seues criatures es reunixen una volta al mes per a jugar i conversar en valencià a partir d’una proposta ludicoartística dinamitzada per Maria Gargallo. Aquesta iniciativa s’emmarca dins del projecte Creixent al caliu (www.creixentalcaliu.com)\, a través del qual volen posar en valor\, promoure i facilitar la transmissió lingüística i la presència social del valencià en la primera infància. \nActivitat per a famílies amb xiquets i xiquetes de 0 a 5 anys \n IMPORTANT: Cal inscripció prèvia. Les inscripcions s’accepten per ordre d’arribada fins a completar-ne la capacitat. \nMés informació: Ajuntament de València | Creixent al caliu \n 
URL:https://familiespelvalencia.org/activitat/pissiganya-2026-grups-de-joc-i-conversa-en-valencia-per-a-families/2026-04-21/
LOCATION:Biblioteca de Na Rovella – Joaquim Martí i Gadea\, Avinguda. de l'Alcalde Gisbert Rico\, 20\, (Quatre Carreres)\, València\, València\, 46013
CATEGORIES:València - districte capital
ATTACH;FMTTYPE=image/gif:https://familiespelvalencia.org/wp-content/uploads/2026/02/Pissiganya-GIF.gif
GEO:39.4560973;-0.3604827
X-APPLE-STRUCTURED-LOCATION;VALUE=URI;X-ADDRESS=Biblioteca de Na Rovella – Joaquim Martí i Gadea Avinguda. de l'Alcalde Gisbert Rico 20 (Quatre Carreres) València València 46013;X-APPLE-RADIUS=500;X-TITLE=Avinguda. de l'Alcalde Gisbert Rico\, 20\, (Quatre Carreres):geo:-0.3604827,39.4560973
END:VEVENT
BEGIN:VEVENT
DTSTART;TZID=Europe/Paris:20260421T173000
DTEND;TZID=Europe/Paris:20260421T183000
DTSTAMP:20260420T191159
CREATED:20260405T213738Z
LAST-MODIFIED:20260405T213738Z
UID:10001198-1776792600-1776796200@familiespelvalencia.org
SUMMARY:Mr Fem i els besos perduts
DESCRIPTION:Espectacle Familiar Impartit per Mr. Fem \nOn van els besos que no donem durant el dia? Això és del que parlarem! Una història divertida carregada de cançons populars amb un toc d’ska i rock.
URL:https://familiespelvalencia.org/activitat/mr-fem-i-els-besos-perduts-2/
LOCATION:Biblioteca El Grau\, Gandia\, Carrer Mare de Déu Blanqueta\, 19\, 46730\, Gandia\, La Safor
CATEGORIES:Comarques centrals
ATTACH;FMTTYPE=image/jpeg:https://familiespelvalencia.org/wp-content/uploads/2026/04/WEB-FC-MR-FEM-I-ELS-BESOS-PERDUTS.jpg
END:VEVENT
BEGIN:VEVENT
DTSTART;TZID=Europe/Paris:20260421T173000
DTEND;TZID=Europe/Paris:20260421T183000
DTSTAMP:20260420T191159
CREATED:20260414T144143Z
LAST-MODIFIED:20260414T144143Z
UID:10001217-1776792600-1776796200@familiespelvalencia.org
SUMMARY:Bebeteca. La Bebeteca musical de Pepot
DESCRIPTION:Una activitat pensada per als més menuts! La Bebeteca musical de Pepot és una experiència sensorial i musical adreçada a bebés i xiquets de 1 a 36 mesos\, on la música es converteix en un joc compartit amb les famílies. Sons\, ritmes i cançons per despertar la curiositat i gaudir junts d’un moment especial. \n👉 Places limitades. Podrà accedir una adult acompanyant a la criatura.\n✅ Cal inscripció prèvia en l’Agència de Lectura de Museros. \nMés informació: Ajuntament de Museros
URL:https://familiespelvalencia.org/activitat/bebeteca-la-bebeteca-musical-de-pepot-3/
LOCATION:Agència de Lectura Municipal Museros\, Carrer de les Escoles Velles\, 1\, Museros\, L'Horta\, 46136\, Spain
CATEGORIES:Comarques Túria–Xúquer
ATTACH;FMTTYPE=image/jpeg:https://familiespelvalencia.org/wp-content/uploads/2026/04/Bebeteca-Pepot.jpg
GEO:39.5639725;-0.3407994
X-APPLE-STRUCTURED-LOCATION;VALUE=URI;X-ADDRESS=Agència de Lectura Municipal Museros Carrer de les Escoles Velles 1 Museros L'Horta 46136 Spain;X-APPLE-RADIUS=500;X-TITLE=Carrer de les Escoles Velles\, 1:geo:-0.3407994,39.5639725
END:VEVENT
BEGIN:VEVENT
DTSTART;TZID=Europe/Paris:20260421T180000
DTEND;TZID=Europe/Paris:20260421T183000
DTSTAMP:20260420T191159
CREATED:20260315T154502Z
LAST-MODIFIED:20260331T100934Z
UID:10001137-1776794400-1776796200@familiespelvalencia.org
SUMMARY:Documental al Planetari. Explorant el sistema solar
DESCRIPTION:Producció espectacular que ens mostra els planetes veïns de la Terra. Aquest documental ens transporta\, en un viatge extraordinari\, a diferents escenaris del sistema solar interior i aconsegueix despertar la curiositat en el públic a l’hora d’entendre i apreciar aspectes de cossos com la Lluna\, Venus\, Mart\, asteroides i estrelles\, fins ara desconeguts per a la gran majoria. El Món Anell no fa referència a una estructura artificial com en la novel·la de Larry Niven\, sinó a Gliese 581g\, un exoplaneta que podria tindre una zona habitable en forma d’anell en tota la franja del capvespre. \nPúblic: jove // Durada: 24 minuts \nMés informació i venda d’entrades: Planetari de Castelló
URL:https://familiespelvalencia.org/activitat/documental-al-planetari-explorant-el-sistema-solar-9/2026-04-21/
LOCATION:Planetari de Castelló\, Passeig Marítim\, 1 (Grau de Castelló)\, Castelló\, Plana Alta\, 12100
CATEGORIES:Comarques del nord
ATTACH;FMTTYPE=image/png:https://familiespelvalencia.org/wp-content/uploads/2026/02/Explorant.png
GEO:39.9793318;0.022053
X-APPLE-STRUCTURED-LOCATION;VALUE=URI;X-ADDRESS=Planetari de Castelló Passeig Marítim 1 (Grau de Castelló) Castelló Plana Alta 12100;X-APPLE-RADIUS=500;X-TITLE=Passeig Marítim\, 1 (Grau de Castelló):geo:0.022053,39.9793318
END:VEVENT
BEGIN:VEVENT
DTSTART;TZID=Europe/Paris:20260421T180000
DTEND;TZID=Europe/Paris:20260421T183000
DTSTAMP:20260420T191159
CREATED:20260315T154656Z
LAST-MODIFIED:20260331T145833Z
UID:10001148-1776794400-1776796200@familiespelvalencia.org
SUMMARY:Documental al Planetari. Cel profund
DESCRIPTION:Documental que descriu allò que s’amaga darrere del fons negre de la nit. Les persones assistents podran viatjar a través de les meravelles que s’han descobert darrere d’aquest llenç negre sobre el qual es dibuixa la nit estrelada. Al llarg de 30 minuts es presenten les imatges més espectaculars obtingudes pels grans observatoris del món\, tant des de la superfície de la Terra com des de l’espai. Aquestes imatges ens parlen d’un univers fascinant i complex\, però d’una bellesa indescriptible. (Públic jove i general) \nDurada: 30 min \nMés informació: Planetari de Castelló
URL:https://familiespelvalencia.org/activitat/documental-al-planetari-cel-profund-3/2026-04-21/
LOCATION:Planetari de Castelló\, Passeig Marítim\, 1 (Grau de Castelló)\, Castelló\, Plana Alta\, 12100
CATEGORIES:Comarques del nord
ATTACH;FMTTYPE=image/jpeg:https://familiespelvalencia.org/wp-content/uploads/2026/01/cel-profund.jpg
GEO:39.9793318;0.022053
X-APPLE-STRUCTURED-LOCATION;VALUE=URI;X-ADDRESS=Planetari de Castelló Passeig Marítim 1 (Grau de Castelló) Castelló Plana Alta 12100;X-APPLE-RADIUS=500;X-TITLE=Passeig Marítim\, 1 (Grau de Castelló):geo:0.022053,39.9793318
END:VEVENT
END:VCALENDAR