BEGIN:VCALENDAR
VERSION:2.0
PRODID:-//FAMÍLIES PEL VALENCIÀ - ECPv6.15.20//NONSGML v1.0//EN
CALSCALE:GREGORIAN
METHOD:PUBLISH
X-ORIGINAL-URL:https://familiespelvalencia.org
X-WR-CALDESC:Esdeveniments per FAMÍLIES PEL VALENCIÀ
REFRESH-INTERVAL;VALUE=DURATION:PT1H
X-Robots-Tag:noindex
X-PUBLISHED-TTL:PT1H
BEGIN:VTIMEZONE
TZID:Europe/Paris
BEGIN:DAYLIGHT
TZOFFSETFROM:+0100
TZOFFSETTO:+0200
TZNAME:CEST
DTSTART:20250330T010000
END:DAYLIGHT
BEGIN:STANDARD
TZOFFSETFROM:+0200
TZOFFSETTO:+0100
TZNAME:CET
DTSTART:20251026T010000
END:STANDARD
BEGIN:DAYLIGHT
TZOFFSETFROM:+0100
TZOFFSETTO:+0200
TZNAME:CEST
DTSTART:20260329T010000
END:DAYLIGHT
BEGIN:STANDARD
TZOFFSETFROM:+0200
TZOFFSETTO:+0100
TZNAME:CET
DTSTART:20261025T010000
END:STANDARD
BEGIN:DAYLIGHT
TZOFFSETFROM:+0100
TZOFFSETTO:+0200
TZNAME:CEST
DTSTART:20270328T010000
END:DAYLIGHT
BEGIN:STANDARD
TZOFFSETFROM:+0200
TZOFFSETTO:+0100
TZNAME:CET
DTSTART:20271031T010000
END:STANDARD
END:VTIMEZONE
BEGIN:VEVENT
DTSTART;TZID=Europe/Paris:20260415T180000
DTEND;TZID=Europe/Paris:20260415T183000
DTSTAMP:20260420T192030
CREATED:20260315T154656Z
LAST-MODIFIED:20260331T145833Z
UID:10001147-1776276000-1776277800@familiespelvalencia.org
SUMMARY:Documental al Planetari. Cel profund
DESCRIPTION:Documental que descriu allò que s’amaga darrere del fons negre de la nit. Les persones assistents podran viatjar a través de les meravelles que s’han descobert darrere d’aquest llenç negre sobre el qual es dibuixa la nit estrelada. Al llarg de 30 minuts es presenten les imatges més espectaculars obtingudes pels grans observatoris del món\, tant des de la superfície de la Terra com des de l’espai. Aquestes imatges ens parlen d’un univers fascinant i complex\, però d’una bellesa indescriptible. (Públic jove i general) \nDurada: 30 min \nMés informació: Planetari de Castelló
URL:https://familiespelvalencia.org/activitat/documental-al-planetari-cel-profund-3/2026-04-15/
LOCATION:Planetari de Castelló\, Passeig Marítim\, 1 (Grau de Castelló)\, Castelló\, Plana Alta\, 12100
CATEGORIES:Comarques del nord
ATTACH;FMTTYPE=image/jpeg:https://familiespelvalencia.org/wp-content/uploads/2026/01/cel-profund.jpg
GEO:39.9793318;0.022053
X-APPLE-STRUCTURED-LOCATION;VALUE=URI;X-ADDRESS=Planetari de Castelló Passeig Marítim 1 (Grau de Castelló) Castelló Plana Alta 12100;X-APPLE-RADIUS=500;X-TITLE=Passeig Marítim\, 1 (Grau de Castelló):geo:0.022053,39.9793318
END:VEVENT
BEGIN:VEVENT
DTSTART;TZID=Europe/Paris:20260415T180000
DTEND;TZID=Europe/Paris:20260415T190000
DTSTAMP:20260420T192030
CREATED:20260407T104736Z
LAST-MODIFIED:20260407T104736Z
UID:10001203-1776276000-1776279600@familiespelvalencia.org
SUMMARY:Contacontes. Allò que ens uneix
DESCRIPTION:A càrrec de Elisa M. Matallín \nAquesta activitat requereix d’inscripció prèvia
URL:https://familiespelvalencia.org/activitat/contacontes-allo-que-ens-uneix/
LOCATION:Biblioteca de Torrefiel.- Isabel de Villena\, Carrer de Domènec Gómez\, 35\, València\, L'Horta\, 46025
CATEGORIES:València - districte capital
ATTACH;FMTTYPE=image/jpeg:https://familiespelvalencia.org/wp-content/uploads/2026/04/Allo-que-ens-uneix.jpg
END:VEVENT
BEGIN:VEVENT
DTSTART;TZID=Europe/Paris:20260415T180000
DTEND;TZID=Europe/Paris:20260415T191000
DTSTAMP:20260420T192030
CREATED:20260402T114032Z
LAST-MODIFIED:20260402T114042Z
UID:10001183-1776276000-1776280200@familiespelvalencia.org
SUMMARY:Teatre. Garfio i el llegat de Peter Pan. El musical
DESCRIPTION:Garfio i el llegat de Peter Pan és un musical familiar en valencià de JM Gestió Teatral que revisita el món de Peter Pan des d’una nova aventura. Amb la desaparició de Peter Pan\, el capità Garfio intenta apoderar-se del País de Mai Més\, i dos joves protagonistes hauran d’enfrontar-s’hi per defensar la fantasia i la llibertat. L’espectacle combina música\, humor i acció\, amb una posada en escena dinàmica i un missatge clar a favor del coratge\, l’amistat i la imaginació. Una proposta ideal per a gaudir del teatre en família i apropar la cultura escènica en valencià al públic més menut. \nDurada: 70 minuts \nMés informació i venda d’entrades: Ajuntament de Cullera
URL:https://familiespelvalencia.org/activitat/teatre-garfio-i-el-llegat-de-peter-pan-el-musical-4/
LOCATION:Casa de la Cultura de Cullera\, C/ La Bega\, 14\, Cullera\, Ribera Baixa\, 46400
CATEGORIES:Comarques Túria–Xúquer
ATTACH;FMTTYPE=image/jpeg:https://familiespelvalencia.org/wp-content/uploads/2026/02/garfio-i-el-llegat-de-peter-pan.jpg
GEO:39.1436474;-0.2713944
X-APPLE-STRUCTURED-LOCATION;VALUE=URI;X-ADDRESS=Casa de la Cultura de Cullera C/ La Bega 14 Cullera Ribera Baixa 46400;X-APPLE-RADIUS=500;X-TITLE=C/ La Bega\, 14:geo:-0.2713944,39.1436474
END:VEVENT
END:VCALENDAR