BEGIN:VCALENDAR
VERSION:2.0
PRODID:-//FAMÍLIES PEL VALENCIÀ - ECPv6.15.20//NONSGML v1.0//EN
CALSCALE:GREGORIAN
METHOD:PUBLISH
X-ORIGINAL-URL:https://familiespelvalencia.org
X-WR-CALDESC:Esdeveniments per FAMÍLIES PEL VALENCIÀ
REFRESH-INTERVAL;VALUE=DURATION:PT1H
X-Robots-Tag:noindex
X-PUBLISHED-TTL:PT1H
BEGIN:VTIMEZONE
TZID:Europe/Paris
BEGIN:DAYLIGHT
TZOFFSETFROM:+0100
TZOFFSETTO:+0200
TZNAME:CEST
DTSTART:20250330T010000
END:DAYLIGHT
BEGIN:STANDARD
TZOFFSETFROM:+0200
TZOFFSETTO:+0100
TZNAME:CET
DTSTART:20251026T010000
END:STANDARD
BEGIN:DAYLIGHT
TZOFFSETFROM:+0100
TZOFFSETTO:+0200
TZNAME:CEST
DTSTART:20260329T010000
END:DAYLIGHT
BEGIN:STANDARD
TZOFFSETFROM:+0200
TZOFFSETTO:+0100
TZNAME:CET
DTSTART:20261025T010000
END:STANDARD
BEGIN:DAYLIGHT
TZOFFSETFROM:+0100
TZOFFSETTO:+0200
TZNAME:CEST
DTSTART:20270328T010000
END:DAYLIGHT
BEGIN:STANDARD
TZOFFSETFROM:+0200
TZOFFSETTO:+0100
TZNAME:CET
DTSTART:20271031T010000
END:STANDARD
END:VTIMEZONE
BEGIN:VEVENT
DTSTART;TZID=Europe/Paris:20260409T113000
DTEND;TZID=Europe/Paris:20260409T123000
DTSTAMP:20260420T191426
CREATED:20260129T215353Z
LAST-MODIFIED:20260129T215947Z
UID:10000815-1775734200-1775737800@familiespelvalencia.org
SUMMARY:Artefacte: Tots els cossos formen el paisatge. Taller
DESCRIPTION:Una obra d’art\, un moble versàtil o el material d’un taller. Artefacte és totes aquestes coses: un dispositiu mòbil\, a mig camí entre la instal·lació artística i el recurs pedagògic\, dissenyat específicament per acollir propostes de mediació i materials educatius\, creats per artistes i dinamitzats per un educador o educadora. Tots els cossos formen el paisatge és la proposta artística i de mediació dissenyada per l’artista Albert Potrony per a l’Artefacte. Aquest taller convida a imaginar i crear paisatges comuns a partir del propi cos amb relació als diferents elements escultòrics de l’Artefacte. Jugar es convertirà en una exploració individual i col·lectiva de disciplines artístiques com la instal·lació i la performance. Combina peces geomètriques rígides amb elements tous i flexibles per connectar els nostres cossos a través d’elles\, transformar-nos i transformar alhora l’espai. Prova\, construeix\, assaja\, fes\, desfés i refés. Reinventa amb cada participació les possibilitats infinites de l’Artefacte! \nA càrrec d’Albert Potrony\, artista multidisciplinari nascut a Catalunya i resident al Regne Unit que utilitza l’escultura\, la instal·lació i l’acció com a base per investigar sobre processos artístics participatius. Ha exposat en nombroses galeries i museus\, incloent-hi la Tate\, Serpentine Galleries\, Whitechapel Gallery\, South London Gallery\, Gasworks\, Camden Arts Centre\, V&A’s (Londres)\, Serralves Foundation (Porto) i el Centre d’Art La Panera (Lleida). \nActivitat recomanada a partir de 4 anys. \nImportant: Els xiquets i les xiquetes han d’anar acompanyats sempre d’un adult\, que també ha de reservar una entrada per a l’activitat \nMés informació i venda d’entrades: Web Caixa Fòrum
URL:https://familiespelvalencia.org/activitat/artefacte-tots-els-cossos-formen-el-paisatge/2026-04-09/
LOCATION:Caixa Forum\, Ciutat de les Arts i les Ciències\, C/ Eduardo Primo Yúfera\, 1A\, València\, 46013
CATEGORIES:València - districte capital
ATTACH;FMTTYPE=image/webp:https://familiespelvalencia.org/wp-content/uploads/2026/01/Artefacte.webp
GEO:39.4538716;-0.3498098
X-APPLE-STRUCTURED-LOCATION;VALUE=URI;X-ADDRESS=Caixa Forum Ciutat de les Arts i les Ciències C/ Eduardo Primo Yúfera 1A València 46013;X-APPLE-RADIUS=500;X-TITLE=Ciutat de les Arts i les Ciències\, C/ Eduardo Primo Yúfera\, 1A:geo:-0.3498098,39.4538716
END:VEVENT
BEGIN:VEVENT
DTSTART;TZID=Europe/Paris:20260409T120000
DTEND;TZID=Europe/Paris:20260409T130000
DTSTAMP:20260420T191426
CREATED:20260331T095119Z
LAST-MODIFIED:20260331T095119Z
UID:10001127-1775736000-1775739600@familiespelvalencia.org
SUMMARY:Pequeplanetari en viu
DESCRIPTION:En aquestes projeccions és el personal del planetari és qui\, des de la cúpula\, s’encarrega de recórrer el cel i proposar els continguts\, en lloc de les projeccions de planetari habituals. Descobrirem estrelles i constel·lacions del cel de Pasqua\, així com espectaculars recorreguts per la galàxia. No és necessari inscriure’s prèviament en l’activitat\, però sí que s’ha d’arreplegar l’entrada en taquilla des de mitja hora abans de l’inici. Aforament limitat \nEls menors han d’accedir a la sala acompanyats. | Activitat dirigida a públic infantil i familiar. Especialment dedicada a xiquets i xiquetes de fins a uns 10-12 anys \nMés informació: Planetari de Castelló
URL:https://familiespelvalencia.org/activitat/pequeplanetari-en-viu/2026-04-09/
LOCATION:Planetari de Castelló\, Passeig Marítim\, 1 (Grau de Castelló)\, Castelló\, Plana Alta\, 12100
CATEGORIES:Comarques del nord
ATTACH;FMTTYPE=image/png:https://familiespelvalencia.org/wp-content/uploads/2026/03/Pequeplanetari-val.png
GEO:39.9793318;0.022053
X-APPLE-STRUCTURED-LOCATION;VALUE=URI;X-ADDRESS=Planetari de Castelló Passeig Marítim 1 (Grau de Castelló) Castelló Plana Alta 12100;X-APPLE-RADIUS=500;X-TITLE=Passeig Marítim\, 1 (Grau de Castelló):geo:0.022053,39.9793318
END:VEVENT
BEGIN:VEVENT
DTSTART;TZID=Europe/Paris:20260409T170000
DTEND;TZID=Europe/Paris:20260409T173000
DTSTAMP:20260420T191426
CREATED:20260315T152755Z
LAST-MODIFIED:20260331T145353Z
UID:10001144-1775754000-1775755800@familiespelvalencia.org
SUMMARY:Documental al Planetari. Viatjant amb la llum
DESCRIPTION:A través de la conversa entre un xiquet i la seua mare\, Viatjant amb Llum aborda la importància de la llum en tots els àmbits de la nostra vida. La pel·lícula presenta diferents escenaris que revelen la complexitat de la llum i la seua influència directa en el nostre planeta. El Sol és l’estrela més pròxima a la Terra i genera l’energia que proporciona la llum i la calor necessaris per a la vida. L’estudi de la llum del Sol i d’altres estreles i galàxies permet desenvolupar diversos models que expliquen l’origen\, estructura i evolució de l’univers. No obstant això\, el Sol no és l’única font de llum natural. El foc ha acompanyat a la Terra des dels seus inicis i ha jugat un paper molt important en l’evolució de l’ésser humà\, tant és així que el seu descobriment per part de les societats primitives va canviar la seua forma de vida. Fins i tot la llum artificial i les seues aplicacions en medicina o comunicació revelen la relació entre humanitat\, vida i llum. \nPúblic: infantil i jove // Durada: 29 minuts \nMés informació i venda d’entrades: Planetari de Castelló
URL:https://familiespelvalencia.org/activitat/documental-al-planetari-viatjant-amb-la-llum-3/2026-04-09/
LOCATION:Planetari de Castelló\, Passeig Marítim\, 1 (Grau de Castelló)\, Castelló\, Plana Alta\, 12100
CATEGORIES:Comarques del nord
ATTACH;FMTTYPE=image/jpeg:https://familiespelvalencia.org/wp-content/uploads/2025/12/Viatjant-amb-la-llum.jpg
GEO:39.9793318;0.022053
X-APPLE-STRUCTURED-LOCATION;VALUE=URI;X-ADDRESS=Planetari de Castelló Passeig Marítim 1 (Grau de Castelló) Castelló Plana Alta 12100;X-APPLE-RADIUS=500;X-TITLE=Passeig Marítim\, 1 (Grau de Castelló):geo:0.022053,39.9793318
END:VEVENT
BEGIN:VEVENT
DTSTART;TZID=Europe/Paris:20260409T180000
DTEND;TZID=Europe/Paris:20260409T233000
DTSTAMP:20260420T191426
CREATED:20260331T160156Z
LAST-MODIFIED:20260331T160549Z
UID:10001169-1775757600-1775777400@familiespelvalencia.org
SUMMARY:Cinema. Mar i Cel
DESCRIPTION:Mar i Cel\, la producció de Dagoll Dagom més emblemàtica\, fa el salt a la gran pantalla gràcies a una coproducció amb 3Cat. La pel·lícula ofereix una nova manera de viure l’espectacle com mai s’ha vist. Dirigida per Paulí Subirà Claramunt\, la pel·lícula combina la força de l’espectacle teatral amb un llenguatge cinematogràfic espectacular. Rodada íntegrament en 4K HDR i Dolby Vision\, mostra imatges inèdites i noves perspectives —com càmeres situades sobre el vaixell— que permeten submergir-se encara més en la història de Saïd i Blanca. La banda sonora compta amb la participació de 53 músics de l’Orquestra Simfònica del Vallès\, dirigits per Sergi Cuenca amb la supervisió de Joan Vives\, i amb Albert Guinovart al piano. La pel·lícula reuneix la companyia de la producció del 2024\, protagonitzada per Alèxia Pascual i Jordi Garreta\, i arriba als cinemes de la mà de la distribuïdora Alfa Pictures. \nRecomanada a partir de 12 anys | Durada 128 min \nDiverses sessions: 18h | 20:15h | 22:30h \nMés informació i venda d’entrades: Utiye Cinema \nTràiler oficial
URL:https://familiespelvalencia.org/activitat/cinema-mar-i-cel/2026-04-09/
LOCATION:Cine Club Utiye\, Carrer Pintor Segrelles\, 1 (Centre Comercial el Teler)\, Ontinyent\, Vall d'Albaida\, 46870
CATEGORIES:Comarques centrals
ATTACH;FMTTYPE=image/jpeg:https://familiespelvalencia.org/wp-content/uploads/2026/03/Mar-i-Cel.jpg
GEO:38.8244707;-0.6028774
X-APPLE-STRUCTURED-LOCATION;VALUE=URI;X-ADDRESS=Cine Club Utiye Carrer Pintor Segrelles 1 (Centre Comercial el Teler) Ontinyent Vall d'Albaida 46870;X-APPLE-RADIUS=500;X-TITLE=Carrer Pintor Segrelles\, 1 (Centre Comercial el Teler):geo:-0.6028774,38.8244707
END:VEVENT
END:VCALENDAR