BEGIN:VCALENDAR
VERSION:2.0
PRODID:-//FAMÍLIES PEL VALENCIÀ - ECPv6.15.20//NONSGML v1.0//EN
CALSCALE:GREGORIAN
METHOD:PUBLISH
X-WR-CALNAME:FAMÍLIES PEL VALENCIÀ
X-ORIGINAL-URL:https://familiespelvalencia.org
X-WR-CALDESC:Esdeveniments per FAMÍLIES PEL VALENCIÀ
REFRESH-INTERVAL;VALUE=DURATION:PT1H
X-Robots-Tag:noindex
X-PUBLISHED-TTL:PT1H
BEGIN:VTIMEZONE
TZID:Europe/Paris
BEGIN:DAYLIGHT
TZOFFSETFROM:+0100
TZOFFSETTO:+0200
TZNAME:CEST
DTSTART:20250330T010000
END:DAYLIGHT
BEGIN:STANDARD
TZOFFSETFROM:+0200
TZOFFSETTO:+0100
TZNAME:CET
DTSTART:20251026T010000
END:STANDARD
BEGIN:DAYLIGHT
TZOFFSETFROM:+0100
TZOFFSETTO:+0200
TZNAME:CEST
DTSTART:20260329T010000
END:DAYLIGHT
BEGIN:STANDARD
TZOFFSETFROM:+0200
TZOFFSETTO:+0100
TZNAME:CET
DTSTART:20261025T010000
END:STANDARD
BEGIN:DAYLIGHT
TZOFFSETFROM:+0100
TZOFFSETTO:+0200
TZNAME:CEST
DTSTART:20270328T010000
END:DAYLIGHT
BEGIN:STANDARD
TZOFFSETFROM:+0200
TZOFFSETTO:+0100
TZNAME:CET
DTSTART:20271031T010000
END:STANDARD
END:VTIMEZONE
BEGIN:VEVENT
DTSTART;TZID=Europe/Paris:20260408T120000
DTEND;TZID=Europe/Paris:20260408T123000
DTSTAMP:20260420T191130
CREATED:20260331T100226Z
LAST-MODIFIED:20260331T100226Z
UID:10001131-1775649600-1775651400@familiespelvalencia.org
SUMMARY:Planetari. Viatge de les Estreles
DESCRIPTION:Astéria\, una adorable estreleta de mar\, somia amb viure una aventura\, igual que el seu heroi\, el Capità Octopus. Un matí\, mentre contempla el cel estrelat que dóna pas a l’alba\, una nau espacial s’estavella al seu costat. A bord es troba Stella\, una intrèpida estrela fugaç que necessita urgentment combustible per a poder tornar a l’espai. Juntes\, s’embarquen en una emocionant cerca de metà en les profunditats de l’oceà. Durant el seu viatge\, Astéria li mostra a Stella la fascinant diversitat d’espècies marines\, mentre que Stella comparteix els seus coneixements sobre la Terra\, la Lluna i el Sol. A poc a poc\, descobreixen la màgica connexió que uneix la vida submarina amb la immensitat de l’espai. \nDurada 34 minuts \nMés informació i venda d’entrades: Planetari de Castelló
URL:https://familiespelvalencia.org/activitat/planetari-viatge-de-les-estreles/2026-04-08/
LOCATION:Planetari de Castelló\, Passeig Marítim\, 1 (Grau de Castelló)\, Castelló\, Plana Alta\, 12100
CATEGORIES:Comarques del nord
ATTACH;FMTTYPE=image/png:https://familiespelvalencia.org/wp-content/uploads/2026/03/Viatge-de-les-Estreles.png
GEO:39.9793318;0.022053
X-APPLE-STRUCTURED-LOCATION;VALUE=URI;X-ADDRESS=Planetari de Castelló Passeig Marítim 1 (Grau de Castelló) Castelló Plana Alta 12100;X-APPLE-RADIUS=500;X-TITLE=Passeig Marítim\, 1 (Grau de Castelló):geo:0.022053,39.9793318
END:VEVENT
BEGIN:VEVENT
DTSTART;TZID=Europe/Paris:20260408T170000
DTEND;TZID=Europe/Paris:20260408T173000
DTSTAMP:20260420T191130
CREATED:20260315T154656Z
LAST-MODIFIED:20260331T145833Z
UID:10001146-1775667600-1775669400@familiespelvalencia.org
SUMMARY:Documental al Planetari. Cel profund
DESCRIPTION:Documental que descriu allò que s’amaga darrere del fons negre de la nit. Les persones assistents podran viatjar a través de les meravelles que s’han descobert darrere d’aquest llenç negre sobre el qual es dibuixa la nit estrelada. Al llarg de 30 minuts es presenten les imatges més espectaculars obtingudes pels grans observatoris del món\, tant des de la superfície de la Terra com des de l’espai. Aquestes imatges ens parlen d’un univers fascinant i complex\, però d’una bellesa indescriptible. (Públic jove i general) \nDurada: 30 min \nMés informació: Planetari de Castelló
URL:https://familiespelvalencia.org/activitat/documental-al-planetari-cel-profund-3/2026-04-08/
LOCATION:Planetari de Castelló\, Passeig Marítim\, 1 (Grau de Castelló)\, Castelló\, Plana Alta\, 12100
CATEGORIES:Comarques del nord
ATTACH;FMTTYPE=image/jpeg:https://familiespelvalencia.org/wp-content/uploads/2026/01/cel-profund.jpg
GEO:39.9793318;0.022053
X-APPLE-STRUCTURED-LOCATION;VALUE=URI;X-ADDRESS=Planetari de Castelló Passeig Marítim 1 (Grau de Castelló) Castelló Plana Alta 12100;X-APPLE-RADIUS=500;X-TITLE=Passeig Marítim\, 1 (Grau de Castelló):geo:0.022053,39.9793318
END:VEVENT
BEGIN:VEVENT
DTSTART;TZID=Europe/Paris:20260408T173000
DTEND;TZID=Europe/Paris:20260408T183000
DTSTAMP:20260420T191130
CREATED:20260405T205435Z
LAST-MODIFIED:20260405T205435Z
UID:10001192-1775669400-1775673000@familiespelvalencia.org
SUMMARY:Contacontes familiar amb Almudena Francés
DESCRIPTION:Més enllà del bosc\nDels boscos sempre ixen els monstres més terribles\, les foscors mes profundes\, els sorolls més inquientants… Et puc contar una història i una altra de tot allò que passa dins del bosc. Però saps que hi ha més enllà del bosc? i si mirem junts?
URL:https://familiespelvalencia.org/activitat/contacontes-familiar-amb-almudena-frances/
LOCATION:Centre Cultural l’Escorxador\, C/ de Sant Pere\, 37\, Poblats Marítims\, València\, 46011
CATEGORIES:València - districte capital
ATTACH;FMTTYPE=image/jpeg:https://familiespelvalencia.org/wp-content/uploads/2026/04/IMG_2208.jpg
END:VEVENT
BEGIN:VEVENT
DTSTART;TZID=Europe/Paris:20260408T180000
DTEND;TZID=Europe/Paris:20260408T213000
DTSTAMP:20260420T191130
CREATED:20260331T160348Z
LAST-MODIFIED:20260331T160628Z
UID:10001176-1775671200-1775683800@familiespelvalencia.org
SUMMARY:Cinema. Mar i Cel
DESCRIPTION:Mar i Cel\, la producció de Dagoll Dagom més emblemàtica\, fa el salt a la gran pantalla gràcies a una coproducció amb 3Cat. La pel·lícula ofereix una nova manera de viure l’espectacle com mai s’ha vist. Dirigida per Paulí Subirà Claramunt\, la pel·lícula combina la força de l’espectacle teatral amb un llenguatge cinematogràfic espectacular. Rodada íntegrament en 4K HDR i Dolby Vision\, mostra imatges inèdites i noves perspectives —com càmeres situades sobre el vaixell— que permeten submergir-se encara més en la història de Saïd i Blanca. La banda sonora compta amb la participació de 53 músics de l’Orquestra Simfònica del Vallès\, dirigits per Sergi Cuenca amb la supervisió de Joan Vives\, i amb Albert Guinovart al piano. La pel·lícula reuneix la companyia de la producció del 2024\, protagonitzada per Alèxia Pascual i Jordi Garreta\, i arriba als cinemes de la mà de la distribuïdora Alfa Pictures. \nRecomanada a partir de 12 anys | Durada 128 min \nDiverses sessions: 18h | 20:15h \nMés informació i venda d’entrades: Utiye Cinema \nTràiler oficial
URL:https://familiespelvalencia.org/activitat/cinema-mar-i-cel-2/2026-04-08/
LOCATION:Cine Club Utiye\, Carrer Pintor Segrelles\, 1 (Centre Comercial el Teler)\, Ontinyent\, Vall d'Albaida\, 46870
CATEGORIES:Comarques centrals
ATTACH;FMTTYPE=image/jpeg:https://familiespelvalencia.org/wp-content/uploads/2026/03/Mar-i-Cel.jpg
GEO:38.8244707;-0.6028774
X-APPLE-STRUCTURED-LOCATION;VALUE=URI;X-ADDRESS=Cine Club Utiye Carrer Pintor Segrelles 1 (Centre Comercial el Teler) Ontinyent Vall d'Albaida 46870;X-APPLE-RADIUS=500;X-TITLE=Carrer Pintor Segrelles\, 1 (Centre Comercial el Teler):geo:-0.6028774,38.8244707
END:VEVENT
END:VCALENDAR