BEGIN:VCALENDAR
VERSION:2.0
PRODID:-//FAMÍLIES PEL VALENCIÀ - ECPv6.15.20//NONSGML v1.0//EN
CALSCALE:GREGORIAN
METHOD:PUBLISH
X-WR-CALNAME:FAMÍLIES PEL VALENCIÀ
X-ORIGINAL-URL:https://familiespelvalencia.org
X-WR-CALDESC:Esdeveniments per FAMÍLIES PEL VALENCIÀ
REFRESH-INTERVAL;VALUE=DURATION:PT1H
X-Robots-Tag:noindex
X-PUBLISHED-TTL:PT1H
BEGIN:VTIMEZONE
TZID:Europe/Paris
BEGIN:DAYLIGHT
TZOFFSETFROM:+0100
TZOFFSETTO:+0200
TZNAME:CEST
DTSTART:20250330T010000
END:DAYLIGHT
BEGIN:STANDARD
TZOFFSETFROM:+0200
TZOFFSETTO:+0100
TZNAME:CET
DTSTART:20251026T010000
END:STANDARD
BEGIN:DAYLIGHT
TZOFFSETFROM:+0100
TZOFFSETTO:+0200
TZNAME:CEST
DTSTART:20260329T010000
END:DAYLIGHT
BEGIN:STANDARD
TZOFFSETFROM:+0200
TZOFFSETTO:+0100
TZNAME:CET
DTSTART:20261025T010000
END:STANDARD
BEGIN:DAYLIGHT
TZOFFSETFROM:+0100
TZOFFSETTO:+0200
TZNAME:CEST
DTSTART:20270328T010000
END:DAYLIGHT
BEGIN:STANDARD
TZOFFSETFROM:+0200
TZOFFSETTO:+0100
TZNAME:CET
DTSTART:20271031T010000
END:STANDARD
END:VTIMEZONE
BEGIN:VEVENT
DTSTART;TZID=Europe/Paris:20260405T113000
DTEND;TZID=Europe/Paris:20260405T123000
DTSTAMP:20260420T192406
CREATED:20260129T205808Z
LAST-MODIFIED:20260129T205808Z
UID:10000778-1775388600-1775392200@familiespelvalencia.org
SUMMARY:Calaix de sons. Taller per descobrir el món del so
DESCRIPTION:Si tanques els ulls i pares atenció\, descobriràs una pila de coses que pots identificar només pel so. Però saps què és el so i com s’ho fa per arribar fins a les teves orelles? Acompanya’ns i\, experimentant amb eines i materials molt coneguts\, descobriràs que tot comença amb una petita vibració i també com n’és\, de fascinant\, el món que s’amaga rere el “calaix” de sons. \nActivitat recomanada a partir de 5 anys. \nImportant: Els xiquets i les xiquetes han d’anar acompanyats sempre d’un adult\, que també haurà de reservar una entrada per a l’activitat. \nMés informació i venda d’entrades: web de caixaforum
URL:https://familiespelvalencia.org/activitat/calaix-de-sons-taller-per-descobrir-el-mon-del-so/2026-04-05/
LOCATION:Caixa Forum\, Ciutat de les Arts i les Ciències\, C/ Eduardo Primo Yúfera\, 1A\, València\, 46013
CATEGORIES:València - districte capital
ATTACH;FMTTYPE=image/webp:https://familiespelvalencia.org/wp-content/uploads/2026/01/calaix-de-sons.webp
GEO:39.4538716;-0.3498098
X-APPLE-STRUCTURED-LOCATION;VALUE=URI;X-ADDRESS=Caixa Forum Ciutat de les Arts i les Ciències C/ Eduardo Primo Yúfera 1A València 46013;X-APPLE-RADIUS=500;X-TITLE=Ciutat de les Arts i les Ciències\, C/ Eduardo Primo Yúfera\, 1A:geo:-0.3498098,39.4538716
END:VEVENT
BEGIN:VEVENT
DTSTART;TZID=Europe/Paris:20260405T113000
DTEND;TZID=Europe/Paris:20260405T123000
DTSTAMP:20260420T192406
CREATED:20260202T210419Z
LAST-MODIFIED:20260202T210419Z
UID:10000878-1775388600-1775392200@familiespelvalencia.org
SUMMARY:Visita en família: Petits músics a la recerca de les matemàtiques
DESCRIPTION:I si la música i les matemàtiques són més semblants del que sembla? I si són tan i tan semblants que per inventar-nos una melodia hem de parlar d’ones sonores\, de proporcions i de càlculs? En aquesta visita dinamitzada\, les matemàtiques ens ajudaran a entendre\, crear i compondre música. Ho farem amb el guiatge d’una persona educadora\, tot experimentant amb els interactius de l’exposició i a partir d’un joc de construcció sonora. Cantar i sumar\, tocar i multiplicar\, compondre i calcular… T’hi atreveixes? \nPetits músics a la recerca de les matemàtiques\, a partir de 4 anys. \nMés informació i venda d’entrades: Web Caixa Fòrum \nEls xiquets i xiquetes han d’anar acompanyats sempre d’un adult\, que també ha de reservar una entrada per a l’activitat.
URL:https://familiespelvalencia.org/activitat/visita-en-familia-petits-musics-a-la-recerca-de-les-matematiques/2026-04-05/
LOCATION:Caixa Forum\, Ciutat de les Arts i les Ciències\, C/ Eduardo Primo Yúfera\, 1A\, València\, 46013
CATEGORIES:València - districte capital
ATTACH;FMTTYPE=image/webp:https://familiespelvalencia.org/wp-content/uploads/2026/02/petits-musics-a-la-recerca-de-les-matematiques.webp
GEO:39.4538716;-0.3498098
X-APPLE-STRUCTURED-LOCATION;VALUE=URI;X-ADDRESS=Caixa Forum Ciutat de les Arts i les Ciències C/ Eduardo Primo Yúfera 1A València 46013;X-APPLE-RADIUS=500;X-TITLE=Ciutat de les Arts i les Ciències\, C/ Eduardo Primo Yúfera\, 1A:geo:-0.3498098,39.4538716
END:VEVENT
BEGIN:VEVENT
DTSTART;TZID=Europe/Paris:20260405T120000
DTEND;TZID=Europe/Paris:20260405T123000
DTSTAMP:20260420T192406
CREATED:20260331T100226Z
LAST-MODIFIED:20260331T100226Z
UID:10001129-1775390400-1775392200@familiespelvalencia.org
SUMMARY:Planetari. Viatge de les Estreles
DESCRIPTION:Astéria\, una adorable estreleta de mar\, somia amb viure una aventura\, igual que el seu heroi\, el Capità Octopus. Un matí\, mentre contempla el cel estrelat que dóna pas a l’alba\, una nau espacial s’estavella al seu costat. A bord es troba Stella\, una intrèpida estrela fugaç que necessita urgentment combustible per a poder tornar a l’espai. Juntes\, s’embarquen en una emocionant cerca de metà en les profunditats de l’oceà. Durant el seu viatge\, Astéria li mostra a Stella la fascinant diversitat d’espècies marines\, mentre que Stella comparteix els seus coneixements sobre la Terra\, la Lluna i el Sol. A poc a poc\, descobreixen la màgica connexió que uneix la vida submarina amb la immensitat de l’espai. \nDurada 34 minuts \nMés informació i venda d’entrades: Planetari de Castelló
URL:https://familiespelvalencia.org/activitat/planetari-viatge-de-les-estreles/2026-04-05/
LOCATION:Planetari de Castelló\, Passeig Marítim\, 1 (Grau de Castelló)\, Castelló\, Plana Alta\, 12100
CATEGORIES:Comarques del nord
ATTACH;FMTTYPE=image/png:https://familiespelvalencia.org/wp-content/uploads/2026/03/Viatge-de-les-Estreles.png
GEO:39.9793318;0.022053
X-APPLE-STRUCTURED-LOCATION;VALUE=URI;X-ADDRESS=Planetari de Castelló Passeig Marítim 1 (Grau de Castelló) Castelló Plana Alta 12100;X-APPLE-RADIUS=500;X-TITLE=Passeig Marítim\, 1 (Grau de Castelló):geo:0.022053,39.9793318
END:VEVENT
BEGIN:VEVENT
DTSTART;TZID=Europe/Paris:20260405T180000
DTEND;TZID=Europe/Paris:20260405T213000
DTSTAMP:20260420T192406
CREATED:20260331T160348Z
LAST-MODIFIED:20260331T160628Z
UID:10001173-1775412000-1775424600@familiespelvalencia.org
SUMMARY:Cinema. Mar i Cel
DESCRIPTION:Mar i Cel\, la producció de Dagoll Dagom més emblemàtica\, fa el salt a la gran pantalla gràcies a una coproducció amb 3Cat. La pel·lícula ofereix una nova manera de viure l’espectacle com mai s’ha vist. Dirigida per Paulí Subirà Claramunt\, la pel·lícula combina la força de l’espectacle teatral amb un llenguatge cinematogràfic espectacular. Rodada íntegrament en 4K HDR i Dolby Vision\, mostra imatges inèdites i noves perspectives —com càmeres situades sobre el vaixell— que permeten submergir-se encara més en la història de Saïd i Blanca. La banda sonora compta amb la participació de 53 músics de l’Orquestra Simfònica del Vallès\, dirigits per Sergi Cuenca amb la supervisió de Joan Vives\, i amb Albert Guinovart al piano. La pel·lícula reuneix la companyia de la producció del 2024\, protagonitzada per Alèxia Pascual i Jordi Garreta\, i arriba als cinemes de la mà de la distribuïdora Alfa Pictures. \nRecomanada a partir de 12 anys | Durada 128 min \nDiverses sessions: 18h | 20:15h \nMés informació i venda d’entrades: Utiye Cinema \nTràiler oficial
URL:https://familiespelvalencia.org/activitat/cinema-mar-i-cel-2/2026-04-05/
LOCATION:Cine Club Utiye\, Carrer Pintor Segrelles\, 1 (Centre Comercial el Teler)\, Ontinyent\, Vall d'Albaida\, 46870
CATEGORIES:Comarques centrals
ATTACH;FMTTYPE=image/jpeg:https://familiespelvalencia.org/wp-content/uploads/2026/03/Mar-i-Cel.jpg
GEO:38.8244707;-0.6028774
X-APPLE-STRUCTURED-LOCATION;VALUE=URI;X-ADDRESS=Cine Club Utiye Carrer Pintor Segrelles 1 (Centre Comercial el Teler) Ontinyent Vall d'Albaida 46870;X-APPLE-RADIUS=500;X-TITLE=Carrer Pintor Segrelles\, 1 (Centre Comercial el Teler):geo:-0.6028774,38.8244707
END:VEVENT
END:VCALENDAR