BEGIN:VCALENDAR
VERSION:2.0
PRODID:-//FAMÍLIES PEL VALENCIÀ - ECPv6.15.20//NONSGML v1.0//EN
CALSCALE:GREGORIAN
METHOD:PUBLISH
X-WR-CALNAME:FAMÍLIES PEL VALENCIÀ
X-ORIGINAL-URL:https://familiespelvalencia.org
X-WR-CALDESC:Esdeveniments per FAMÍLIES PEL VALENCIÀ
REFRESH-INTERVAL;VALUE=DURATION:PT1H
X-Robots-Tag:noindex
X-PUBLISHED-TTL:PT1H
BEGIN:VTIMEZONE
TZID:Europe/Paris
BEGIN:DAYLIGHT
TZOFFSETFROM:+0100
TZOFFSETTO:+0200
TZNAME:CEST
DTSTART:20250330T010000
END:DAYLIGHT
BEGIN:STANDARD
TZOFFSETFROM:+0200
TZOFFSETTO:+0100
TZNAME:CET
DTSTART:20251026T010000
END:STANDARD
BEGIN:DAYLIGHT
TZOFFSETFROM:+0100
TZOFFSETTO:+0200
TZNAME:CEST
DTSTART:20260329T010000
END:DAYLIGHT
BEGIN:STANDARD
TZOFFSETFROM:+0200
TZOFFSETTO:+0100
TZNAME:CET
DTSTART:20261025T010000
END:STANDARD
BEGIN:DAYLIGHT
TZOFFSETFROM:+0100
TZOFFSETTO:+0200
TZNAME:CEST
DTSTART:20270328T010000
END:DAYLIGHT
BEGIN:STANDARD
TZOFFSETFROM:+0200
TZOFFSETTO:+0100
TZNAME:CET
DTSTART:20271031T010000
END:STANDARD
END:VTIMEZONE
BEGIN:VEVENT
DTSTART;TZID=Europe/Paris:20260404T110000
DTEND;TZID=Europe/Paris:20260404T120000
DTSTAMP:20260420T191806
CREATED:20260309T212647Z
LAST-MODIFIED:20260309T212647Z
UID:10001038-1775300400-1775304000@familiespelvalencia.org
SUMMARY:Una visiteta a l’IVAM (Territoris en trànsit)
DESCRIPTION:Visites per a adults amb bebés a las exposicions de l’IVAM \nUna visiteta a l’IVAM posa el focus en les persones adultes que estan criant i que volen continuar gaudint de propostes d’oci cultural sense renunciar a estar amb els seus bebés. És una resposta de l’IVAM a la necessitat de les mares i pares més fans de visitar museus: una visita comentada per les exposicions més recents\, on s’assistisca en parella adult-bebé. En finalitzar el recorregut\, adaptat en temps al grup\, donarem pas a un moment de descans en la nova Sala Blanda de l’IVAM. \nExplorarem les exposicions a través de sessions de mediació artística condicionades especialment per a poder realitzar còmodament la lactància\, alimentació o canvi de bolquers sense interrupció\, ni eixir expressament a espais específics\, mentre es realitza l’activitat. Pauses\, racons de descans\, cuidat de les llums\, els sons i la veu. Tot perquè\, a més de cuidar el contingut\, cuidem el benestar dels bebés\, facilitant que les adultes donen de mamar\, portegen o adormen als nounats durant el recorregut. \nAnna Talens & Mar Guerrero. Projecte Territoris en trànsit \nMés informació: IVAM
URL:https://familiespelvalencia.org/activitat/una-visiteta-a-livam-territoris-en-transit/
LOCATION:IVAM\, Carrer Guillem de Castro\, 118\, València\, València\, 46003
CATEGORIES:València - districte capital
ATTACH;FMTTYPE=image/jpeg:https://familiespelvalencia.org/wp-content/uploads/2026/03/Territoris-en-transit.jpg
ORGANIZER;CN="Institut Valenci%C3%A0 d'Art Modern (IVAM)":MAILTO:ivam@ivam.es
GEO:39.4781991;-0.3833337
X-APPLE-STRUCTURED-LOCATION;VALUE=URI;X-ADDRESS=IVAM Carrer Guillem de Castro 118 València València 46003;X-APPLE-RADIUS=500;X-TITLE=Carrer Guillem de Castro\, 118:geo:-0.3833337,39.4781991
END:VEVENT
BEGIN:VEVENT
DTSTART;TZID=Europe/Paris:20260404T113000
DTEND;TZID=Europe/Paris:20260404T123000
DTSTAMP:20260420T191806
CREATED:20260129T215353Z
LAST-MODIFIED:20260129T215947Z
UID:10000813-1775302200-1775305800@familiespelvalencia.org
SUMMARY:Artefacte: Tots els cossos formen el paisatge. Taller
DESCRIPTION:Una obra d’art\, un moble versàtil o el material d’un taller. Artefacte és totes aquestes coses: un dispositiu mòbil\, a mig camí entre la instal·lació artística i el recurs pedagògic\, dissenyat específicament per acollir propostes de mediació i materials educatius\, creats per artistes i dinamitzats per un educador o educadora. Tots els cossos formen el paisatge és la proposta artística i de mediació dissenyada per l’artista Albert Potrony per a l’Artefacte. Aquest taller convida a imaginar i crear paisatges comuns a partir del propi cos amb relació als diferents elements escultòrics de l’Artefacte. Jugar es convertirà en una exploració individual i col·lectiva de disciplines artístiques com la instal·lació i la performance. Combina peces geomètriques rígides amb elements tous i flexibles per connectar els nostres cossos a través d’elles\, transformar-nos i transformar alhora l’espai. Prova\, construeix\, assaja\, fes\, desfés i refés. Reinventa amb cada participació les possibilitats infinites de l’Artefacte! \nA càrrec d’Albert Potrony\, artista multidisciplinari nascut a Catalunya i resident al Regne Unit que utilitza l’escultura\, la instal·lació i l’acció com a base per investigar sobre processos artístics participatius. Ha exposat en nombroses galeries i museus\, incloent-hi la Tate\, Serpentine Galleries\, Whitechapel Gallery\, South London Gallery\, Gasworks\, Camden Arts Centre\, V&A’s (Londres)\, Serralves Foundation (Porto) i el Centre d’Art La Panera (Lleida). \nActivitat recomanada a partir de 4 anys. \nImportant: Els xiquets i les xiquetes han d’anar acompanyats sempre d’un adult\, que també ha de reservar una entrada per a l’activitat \nMés informació i venda d’entrades: Web Caixa Fòrum
URL:https://familiespelvalencia.org/activitat/artefacte-tots-els-cossos-formen-el-paisatge/2026-04-04/
LOCATION:Caixa Forum\, Ciutat de les Arts i les Ciències\, C/ Eduardo Primo Yúfera\, 1A\, València\, 46013
CATEGORIES:València - districte capital
ATTACH;FMTTYPE=image/webp:https://familiespelvalencia.org/wp-content/uploads/2026/01/Artefacte.webp
GEO:39.4538716;-0.3498098
X-APPLE-STRUCTURED-LOCATION;VALUE=URI;X-ADDRESS=Caixa Forum Ciutat de les Arts i les Ciències C/ Eduardo Primo Yúfera 1A València 46013;X-APPLE-RADIUS=500;X-TITLE=Ciutat de les Arts i les Ciències\, C/ Eduardo Primo Yúfera\, 1A:geo:-0.3498098,39.4538716
END:VEVENT
BEGIN:VEVENT
DTSTART;TZID=Europe/Paris:20260404T120000
DTEND;TZID=Europe/Paris:20260404T123000
DTSTAMP:20260420T191806
CREATED:20260315T153103Z
LAST-MODIFIED:20260331T150203Z
UID:10001151-1775304000-1775305800@familiespelvalencia.org
SUMMARY:Documental al Planetari. La xiqueta que sabia caminar al revés
DESCRIPTION:La xiqueta que sabia caminar al revés és un personatge molt especial. Coneix els secrets que guarda la Lluna\, sap escoltar les marees i sol parlar amb els arbres\, però el que més li agrada fer és menjar pastissos amb els seus amics mentre contempla el cel estrelat. Potser per això fa temps que va aprendre a caminar al revés\, per a poder tindre sempre el cel sota els peus. És un conte capgirat\, una història que vol convidar-nos a contemplar el que ens envolta des d’un nou punt de vista. Ací tot és diferent\, i allí on abans només véiem sòl\, ara potser podrem veure el cel. \nPúblic: infantil i jove // Durada: 27 minuts \nMés informació i venda d’entrades: Planetari de Castelló
URL:https://familiespelvalencia.org/activitat/documental-al-planetari-la-xiqueta-que-sabia-caminar-al-reves-7/2026-04-04/
LOCATION:Planetari de Castelló\, Passeig Marítim\, 1 (Grau de Castelló)\, Castelló\, Plana Alta\, 12100
CATEGORIES:Comarques del nord
ATTACH;FMTTYPE=image/jpeg:https://familiespelvalencia.org/wp-content/uploads/2025/12/La-xiqueta-que-sabia-caminar-al-reves.jpg
GEO:39.9793318;0.022053
X-APPLE-STRUCTURED-LOCATION;VALUE=URI;X-ADDRESS=Planetari de Castelló Passeig Marítim 1 (Grau de Castelló) Castelló Plana Alta 12100;X-APPLE-RADIUS=500;X-TITLE=Passeig Marítim\, 1 (Grau de Castelló):geo:0.022053,39.9793318
END:VEVENT
BEGIN:VEVENT
DTSTART;TZID=Europe/Paris:20260404T163000
DTEND;TZID=Europe/Paris:20260404T233000
DTSTAMP:20260420T191806
CREATED:20260223T210213Z
LAST-MODIFIED:20260223T210213Z
UID:10001003-1775320200-1775345400@familiespelvalencia.org
SUMMARY:Xocorock
DESCRIPTION:El XocoRock 2026 consolida Bocairent com un dels grans punts de trobada de la música i de la cultura popular al nostre territori. Més que un festival\, el XocoRock s’ha convertit en una festa col·lectiva i intergeneracional\, on conviuen música\, identitat\, arrelament i una clara voluntat de fer poble.
URL:https://familiespelvalencia.org/activitat/xocorock/
LOCATION:Bocairent.- Recinte Xocorock\, Carrer Dorotea i Margarida\, Bocairent\, Vall d'Albaida\, 46880
CATEGORIES:Comarques centrals
ATTACH;FMTTYPE=image/jpeg:https://familiespelvalencia.org/wp-content/uploads/2026/02/Xocorock.jpg
END:VEVENT
BEGIN:VEVENT
DTSTART;TZID=Europe/Paris:20260404T180000
DTEND;TZID=Europe/Paris:20260404T183000
DTSTAMP:20260420T191806
CREATED:20260315T154221Z
LAST-MODIFIED:20260331T150551Z
UID:10001155-1775325600-1775327400@familiespelvalencia.org
SUMMARY:Documental al Planetari. Dinosaures
DESCRIPTION:Com a quasi tots els xiquets\, a Celeste li fascinen els dinosaures. S’està preparant per a parlar en classe sobre la seua extinció quan Moon\, un màgic personatge replet de saviesa\, li planteja un dubte: i si et diguera que encara queden dinosaures entre nosaltres? Celeste acompanyarà a Moon en un viatge en el temps. Una apassionant aventura que els portarà a visitar la Terra en un passat molt\, molt remot. Veuran fascinants transformacions que han acompanyat a aquests éssers durant milions d’anys creant criatures gegants\, éssers cuirassats i super depredadors\, fins al dia en què el gran impacte va provocar una extinció massiva en la Terra. Però no tot està perdut. Celeste descobrirà la clau de la seua supervivència. \nPúblic: infantil i jove // Durada: 28 minuts \nMés informació i venda d’entrades: Planetari de Castelló
URL:https://familiespelvalencia.org/activitat/documental-al-planetari-dinosaures-10/2026-04-04/
LOCATION:Planetari de Castelló\, Passeig Marítim\, 1 (Grau de Castelló)\, Castelló\, Plana Alta\, 12100
CATEGORIES:Comarques del nord
ATTACH;FMTTYPE=image/jpeg:https://familiespelvalencia.org/wp-content/uploads/2025/12/dinosaures-castello.jpg
GEO:39.9793318;0.022053
X-APPLE-STRUCTURED-LOCATION;VALUE=URI;X-ADDRESS=Planetari de Castelló Passeig Marítim 1 (Grau de Castelló) Castelló Plana Alta 12100;X-APPLE-RADIUS=500;X-TITLE=Passeig Marítim\, 1 (Grau de Castelló):geo:0.022053,39.9793318
END:VEVENT
BEGIN:VEVENT
DTSTART;TZID=Europe/Paris:20260404T180000
DTEND;TZID=Europe/Paris:20260404T233000
DTSTAMP:20260420T191806
CREATED:20260331T160156Z
LAST-MODIFIED:20260331T160549Z
UID:10001168-1775325600-1775345400@familiespelvalencia.org
SUMMARY:Cinema. Mar i Cel
DESCRIPTION:Mar i Cel\, la producció de Dagoll Dagom més emblemàtica\, fa el salt a la gran pantalla gràcies a una coproducció amb 3Cat. La pel·lícula ofereix una nova manera de viure l’espectacle com mai s’ha vist. Dirigida per Paulí Subirà Claramunt\, la pel·lícula combina la força de l’espectacle teatral amb un llenguatge cinematogràfic espectacular. Rodada íntegrament en 4K HDR i Dolby Vision\, mostra imatges inèdites i noves perspectives —com càmeres situades sobre el vaixell— que permeten submergir-se encara més en la història de Saïd i Blanca. La banda sonora compta amb la participació de 53 músics de l’Orquestra Simfònica del Vallès\, dirigits per Sergi Cuenca amb la supervisió de Joan Vives\, i amb Albert Guinovart al piano. La pel·lícula reuneix la companyia de la producció del 2024\, protagonitzada per Alèxia Pascual i Jordi Garreta\, i arriba als cinemes de la mà de la distribuïdora Alfa Pictures. \nRecomanada a partir de 12 anys | Durada 128 min \nDiverses sessions: 18h | 20:15h | 22:30h \nMés informació i venda d’entrades: Utiye Cinema \nTràiler oficial
URL:https://familiespelvalencia.org/activitat/cinema-mar-i-cel/2026-04-04/
LOCATION:Cine Club Utiye\, Carrer Pintor Segrelles\, 1 (Centre Comercial el Teler)\, Ontinyent\, Vall d'Albaida\, 46870
CATEGORIES:Comarques centrals
ATTACH;FMTTYPE=image/jpeg:https://familiespelvalencia.org/wp-content/uploads/2026/03/Mar-i-Cel.jpg
GEO:38.8244707;-0.6028774
X-APPLE-STRUCTURED-LOCATION;VALUE=URI;X-ADDRESS=Cine Club Utiye Carrer Pintor Segrelles 1 (Centre Comercial el Teler) Ontinyent Vall d'Albaida 46870;X-APPLE-RADIUS=500;X-TITLE=Carrer Pintor Segrelles\, 1 (Centre Comercial el Teler):geo:-0.6028774,38.8244707
END:VEVENT
END:VCALENDAR