BEGIN:VCALENDAR
VERSION:2.0
PRODID:-//FAMÍLIES PEL VALENCIÀ - ECPv6.15.20//NONSGML v1.0//EN
CALSCALE:GREGORIAN
METHOD:PUBLISH
X-WR-CALNAME:FAMÍLIES PEL VALENCIÀ
X-ORIGINAL-URL:https://familiespelvalencia.org
X-WR-CALDESC:Esdeveniments per FAMÍLIES PEL VALENCIÀ
REFRESH-INTERVAL;VALUE=DURATION:PT1H
X-Robots-Tag:noindex
X-PUBLISHED-TTL:PT1H
BEGIN:VTIMEZONE
TZID:Europe/Paris
BEGIN:DAYLIGHT
TZOFFSETFROM:+0100
TZOFFSETTO:+0200
TZNAME:CEST
DTSTART:20250330T010000
END:DAYLIGHT
BEGIN:STANDARD
TZOFFSETFROM:+0200
TZOFFSETTO:+0100
TZNAME:CET
DTSTART:20251026T010000
END:STANDARD
BEGIN:DAYLIGHT
TZOFFSETFROM:+0100
TZOFFSETTO:+0200
TZNAME:CEST
DTSTART:20260329T010000
END:DAYLIGHT
BEGIN:STANDARD
TZOFFSETFROM:+0200
TZOFFSETTO:+0100
TZNAME:CET
DTSTART:20261025T010000
END:STANDARD
BEGIN:DAYLIGHT
TZOFFSETFROM:+0100
TZOFFSETTO:+0200
TZNAME:CEST
DTSTART:20270328T010000
END:DAYLIGHT
BEGIN:STANDARD
TZOFFSETFROM:+0200
TZOFFSETTO:+0100
TZNAME:CET
DTSTART:20271031T010000
END:STANDARD
END:VTIMEZONE
BEGIN:VEVENT
DTSTART;TZID=Europe/Paris:20260401T110000
DTEND;TZID=Europe/Paris:20260401T113000
DTSTAMP:20260420T191806
CREATED:20260315T154502Z
LAST-MODIFIED:20260331T100934Z
UID:10001135-1775041200-1775043000@familiespelvalencia.org
SUMMARY:Documental al Planetari. Explorant el sistema solar
DESCRIPTION:Producció espectacular que ens mostra els planetes veïns de la Terra. Aquest documental ens transporta\, en un viatge extraordinari\, a diferents escenaris del sistema solar interior i aconsegueix despertar la curiositat en el públic a l’hora d’entendre i apreciar aspectes de cossos com la Lluna\, Venus\, Mart\, asteroides i estrelles\, fins ara desconeguts per a la gran majoria. El Món Anell no fa referència a una estructura artificial com en la novel·la de Larry Niven\, sinó a Gliese 581g\, un exoplaneta que podria tindre una zona habitable en forma d’anell en tota la franja del capvespre. \nPúblic: jove // Durada: 24 minuts \nMés informació i venda d’entrades: Planetari de Castelló
URL:https://familiespelvalencia.org/activitat/documental-al-planetari-explorant-el-sistema-solar-9/2026-04-01/
LOCATION:Planetari de Castelló\, Passeig Marítim\, 1 (Grau de Castelló)\, Castelló\, Plana Alta\, 12100
CATEGORIES:Comarques del nord
ATTACH;FMTTYPE=image/png:https://familiespelvalencia.org/wp-content/uploads/2026/02/Explorant.png
GEO:39.9793318;0.022053
X-APPLE-STRUCTURED-LOCATION;VALUE=URI;X-ADDRESS=Planetari de Castelló Passeig Marítim 1 (Grau de Castelló) Castelló Plana Alta 12100;X-APPLE-RADIUS=500;X-TITLE=Passeig Marítim\, 1 (Grau de Castelló):geo:0.022053,39.9793318
END:VEVENT
BEGIN:VEVENT
DTSTART;TZID=Europe/Paris:20260401T170000
DTEND;TZID=Europe/Paris:20260401T173000
DTSTAMP:20260420T191806
CREATED:20260315T154656Z
LAST-MODIFIED:20260331T145833Z
UID:10001145-1775062800-1775064600@familiespelvalencia.org
SUMMARY:Documental al Planetari. Cel profund
DESCRIPTION:Documental que descriu allò que s’amaga darrere del fons negre de la nit. Les persones assistents podran viatjar a través de les meravelles que s’han descobert darrere d’aquest llenç negre sobre el qual es dibuixa la nit estrelada. Al llarg de 30 minuts es presenten les imatges més espectaculars obtingudes pels grans observatoris del món\, tant des de la superfície de la Terra com des de l’espai. Aquestes imatges ens parlen d’un univers fascinant i complex\, però d’una bellesa indescriptible. (Públic jove i general) \nDurada: 30 min \nMés informació: Planetari de Castelló
URL:https://familiespelvalencia.org/activitat/documental-al-planetari-cel-profund-3/2026-04-01/
LOCATION:Planetari de Castelló\, Passeig Marítim\, 1 (Grau de Castelló)\, Castelló\, Plana Alta\, 12100
CATEGORIES:Comarques del nord
ATTACH;FMTTYPE=image/jpeg:https://familiespelvalencia.org/wp-content/uploads/2026/01/cel-profund.jpg
GEO:39.9793318;0.022053
X-APPLE-STRUCTURED-LOCATION;VALUE=URI;X-ADDRESS=Planetari de Castelló Passeig Marítim 1 (Grau de Castelló) Castelló Plana Alta 12100;X-APPLE-RADIUS=500;X-TITLE=Passeig Marítim\, 1 (Grau de Castelló):geo:0.022053,39.9793318
END:VEVENT
END:VCALENDAR