BEGIN:VCALENDAR
VERSION:2.0
PRODID:-//FAMÍLIES PEL VALENCIÀ - ECPv6.15.20//NONSGML v1.0//EN
CALSCALE:GREGORIAN
METHOD:PUBLISH
X-WR-CALNAME:FAMÍLIES PEL VALENCIÀ
X-ORIGINAL-URL:https://familiespelvalencia.org
X-WR-CALDESC:Esdeveniments per FAMÍLIES PEL VALENCIÀ
REFRESH-INTERVAL;VALUE=DURATION:PT1H
X-Robots-Tag:noindex
X-PUBLISHED-TTL:PT1H
BEGIN:VTIMEZONE
TZID:Europe/Paris
BEGIN:DAYLIGHT
TZOFFSETFROM:+0100
TZOFFSETTO:+0200
TZNAME:CEST
DTSTART:20250330T010000
END:DAYLIGHT
BEGIN:STANDARD
TZOFFSETFROM:+0200
TZOFFSETTO:+0100
TZNAME:CET
DTSTART:20251026T010000
END:STANDARD
BEGIN:DAYLIGHT
TZOFFSETFROM:+0100
TZOFFSETTO:+0200
TZNAME:CEST
DTSTART:20260329T010000
END:DAYLIGHT
BEGIN:STANDARD
TZOFFSETFROM:+0200
TZOFFSETTO:+0100
TZNAME:CET
DTSTART:20261025T010000
END:STANDARD
BEGIN:DAYLIGHT
TZOFFSETFROM:+0100
TZOFFSETTO:+0200
TZNAME:CEST
DTSTART:20270328T010000
END:DAYLIGHT
BEGIN:STANDARD
TZOFFSETFROM:+0200
TZOFFSETTO:+0100
TZNAME:CET
DTSTART:20271031T010000
END:STANDARD
END:VTIMEZONE
BEGIN:VEVENT
DTSTART;TZID=Europe/Paris:20260328T090000
DTEND;TZID=Europe/Paris:20260328T140000
DTSTAMP:20260420T204941
CREATED:20260322T145526Z
LAST-MODIFIED:20260322T145526Z
UID:10001094-1774688400-1774706400@familiespelvalencia.org
SUMMARY:Trobades 2026. La Vall d'Albaida (Infantil i Primària)
DESCRIPTION:Arriba una nova edició de les Trobades a la comarca! \nLes Trobades 2026 són la gran festa educativa i cultural que\, any rere any\, recorre diferents comarques del país per celebrar l’escola en valencià i  la llengua al carrer. Cada trobada esdevé un punt de trobada per a famílies\, centres educatius\, alumnat i entitats\, amb una jornada plena d’activitats pensades per compartir\, aprendre i gaudir col·lectivament.\nAl llarg del dia\, les Trobades ofereixen tallers\, actuacions\, jocs\, cercaviles i propostes culturals adreçades a xiquets\, xiquetes i públic familiar\, sempre amb el valencià com a eix vertebrador. Més enllà del caràcter festiu\, aquestes trobades són també un espai de reivindicació i de convivència\, on es posa en valor el paper de l’escola\, la cultura i la llengua com a eines de cohesió social i de futur compartit. Una cita imprescindible per viure el valencià amb normalitat\, alegria i compromís\, adaptada a cada comarca però amb un esperit comú que uneix tot el territori. \nMés informació: Escola valenciana \nCançó Trobades 2026 \nPrograma
URL:https://familiespelvalencia.org/activitat/trobades-2026-la-vall-dalbaida-infantil-i-primaria/
LOCATION:Castelló de Rugat.- Av. de la Vall d’Albaida\, Av. de la Vall d'Albaida\, Castelló de Rugat\, Vall d'Albaida\, 46841
CATEGORIES:Comarques centrals
ATTACH;FMTTYPE=image/jpeg:https://familiespelvalencia.org/wp-content/uploads/2026/03/CASTELLO_DE_RUGAT_Trobades2026-scaled-1.jpg
END:VEVENT
BEGIN:VEVENT
DTSTART;TZID=Europe/Paris:20260328T100000
DTEND;TZID=Europe/Paris:20260328T140000
DTSTAMP:20260420T204941
CREATED:20260325T214717Z
LAST-MODIFIED:20260325T214717Z
UID:10001118-1774692000-1774706400@familiespelvalencia.org
SUMMARY:Lloquetes Festival
DESCRIPTION:Un any més\, el festival albalatenc dedicat a la infància i la família t’espera per a gaudir de bons moments. Viu l’oci infantil i juvenil a Albalat!
URL:https://familiespelvalencia.org/activitat/lloquetes-festival/
LOCATION:Albalat de la Ribera.- Plaça de la Cort\, Plaça de la Cort\, Albalat de la Ribera\, Ribera Baixa\, 46687
CATEGORIES:Comarques Túria–Xúquer
ATTACH;FMTTYPE=image/jpeg:https://familiespelvalencia.org/wp-content/uploads/2026/03/Lloquetes.jpg
END:VEVENT
BEGIN:VEVENT
DTSTART;TZID=Europe/Paris:20260328T100000
DTEND;TZID=Europe/Paris:20260329T190000
DTSTAMP:20260420T204941
CREATED:20260309T214631Z
LAST-MODIFIED:20260309T214631Z
UID:10001039-1774692000-1774810800@familiespelvalencia.org
SUMMARY:Festivalet Sona Baixet
DESCRIPTION:Sona Baixet és un festival familiar pensat per a gaudir de la música i les arts escèniques amb els més menuts\, en un ambient proper\, cuidat i ple de sensibilitat. Durant dos dies\, el Teatre del Raval de Gandia acull una programació diversa amb propostes musicals i escèniques de qualitat\, adreçades a la primera infància i al públic familiar.\nAmb actuacions de Rodamons\, Jaume Barri\, Petita Música\, La Cris\, Martí Guillem\, La Canela Titelles\, Cia. Maria Andrés\, El Triangulista i Els Fantasmes del Raval\, Sona Baixet es consolida com una cita imprescindible per descobrir\, escoltar i viure la cultura des de ben menuts. Un festival acollidor\, creatiu i amb una clara aposta per l’educació artística i l’oci familiar compartit. \nMés informació: Web Sona Baixet
URL:https://familiespelvalencia.org/activitat/festivalet-sona-baixet/
LOCATION:Teatre del Raval – Gandia\, Carrer Sant Ramon\, 8\, Gandia\, La Safor\, 46702
CATEGORIES:Comarques centrals
ATTACH;FMTTYPE=image/png:https://familiespelvalencia.org/wp-content/uploads/2026/03/Sona-baixet.png
END:VEVENT
BEGIN:VEVENT
DTSTART;TZID=Europe/Paris:20260328T110000
DTEND;TZID=Europe/Paris:20260328T193000
DTSTAMP:20260420T204941
CREATED:20260326T154610Z
LAST-MODIFIED:20260326T155545Z
UID:10001119-1774695600-1774726200@familiespelvalencia.org
SUMMARY:XI Calçotada Popular al Terra
DESCRIPTION:El Terra acull una nova edició de la Calçotada Popular\, una jornada festiva amb un programa variat que posa un especial accent en les propostes familiars. Al llarg del dia hi haurà activitats pensades perquè xiquets\, xiquetes i persones adultes puguen compartir espais de joc\, cultura i convivència. Entre els actes més destacats per a famílies trobem una introducció al ball tradicional oberta a grans i menudes\, a càrrec de Ressò\, i una proposta de contacontes i recital amb Aina Garcia-Carbó\, ideal per al públic infantil. La jornada es completa amb dinar popular\, bingo musical i música amb punxadiscos per a continuar la festa en un ambient comunitari i acollidor. Una cita perfecta per a passar el dia en colla i gaudir de cultura\, tradició i bon ambient.
URL:https://familiespelvalencia.org/activitat/xi-calcotada-popular-al-terra-una-festa-per-a-grans-i-menuts/
LOCATION:Centre Social Terra\, C/Baró de Sant Petrillo\, 9\, València\, L'Horta\, 46020
CATEGORIES:València - districte capital
ATTACH;FMTTYPE=image/jpeg:https://familiespelvalencia.org/wp-content/uploads/2026/03/terra-calcotada.jpeg
GEO:39.4852742;-0.3605384
X-APPLE-STRUCTURED-LOCATION;VALUE=URI;X-ADDRESS=Centre Social Terra C/Baró de Sant Petrillo 9 València L'Horta 46020;X-APPLE-RADIUS=500;X-TITLE=C/Baró de Sant Petrillo\, 9:geo:-0.3605384,39.4852742
END:VEVENT
BEGIN:VEVENT
DTSTART;TZID=Europe/Paris:20260328T113000
DTEND;TZID=Europe/Paris:20260328T123000
DTSTAMP:20260420T204941
CREATED:20260213T173012Z
LAST-MODIFIED:20260213T173012Z
UID:10000956-1774697400-1774701000@familiespelvalencia.org
SUMMARY:Dissabtes Divertits.- Biblioteca Tirisiti
DESCRIPTION:La Biblioteca Tirisiti d’Alcoi presenta una nova edició dels “Dissabtes Divertits”\, una proposta mensual d’activitats gratuïtes per a xiquetes i xiquets de 5 a 12 anys que combina creativitat\, lectura i descobriment cultural. Al febrer\, les famílies podran gaudir de manualitats per Carnestoltes i d’un conte contat\, mentre que al març les sessions se centraran en les dones referents i en donar la benvinguda a la primavera a la biblioteca. Totes les activitats se celebren els dissabtes a les 11:30 h i requereixen inscripció prèvia a la Biblioteca Tirisiti. Una oportunitat fantàstica perquè els més menuts visquen la cultura en valencià d’una manera lúdica i propera!
URL:https://familiespelvalencia.org/activitat/dissabtes-divertits-biblioteca-tirisiti/2026-03-28/
LOCATION:Biblioteca Tirisiti\, Av. País Valencià\, 1\, Alcoi\, L'Alcoià\, 03801
CATEGORIES:Comarques centrals
ATTACH;FMTTYPE=image/jpeg:https://familiespelvalencia.org/wp-content/uploads/2026/02/DISSABTES-DIVERTITS.jpeg
GEO:38.697146;-0.4752305
X-APPLE-STRUCTURED-LOCATION;VALUE=URI;X-ADDRESS=Biblioteca Tirisiti Av. País Valencià 1 Alcoi L'Alcoià 03801;X-APPLE-RADIUS=500;X-TITLE=Av. País Valencià\, 1:geo:-0.4752305,38.697146
END:VEVENT
BEGIN:VEVENT
DTSTART;TZID=Europe/Paris:20260328T120000
DTEND;TZID=Europe/Paris:20260328T130000
DTSTAMP:20260420T204941
CREATED:20260117T083645Z
LAST-MODIFIED:20260117T083645Z
UID:10000741-1774699200-1774702800@familiespelvalencia.org
SUMMARY:Teatre. Voilà
DESCRIPTION:“Voilà” és una proposta de teatre familiar de JM Gestió Teatral que aborda\, amb sensibilitat i humor\, la relació entre un pare i el mestre del seu fill de huit anys. A través d’una conversa plena d’emoció\, descobrim les pors d’un pare marcat per una experiència del passat i la mirada optimista d’un docent que confia en les potencialitats de cada xiquet. L’obra\, recomanada per a públic a partir de 5 anys\, combina teatre d’objectes i interpretació per oferir una història propera\, emotiva i plena d’esperança. Una peça curta i intensa que recorda que\, davant de qualsevol dificultat\, sempre hi ha una solució\, i que l’acompanyament emocional pot transformar la manera com les famílies i l’escola entenen la diferència. Perfecta per a gaudir en família i per a treballar valors com la confiança\, la comunicació i l’empatia. \nMés informació i venda d’entrades: La Carreta Teatre
URL:https://familiespelvalencia.org/activitat/teatre-voila/2026-03-28/1/
LOCATION:Sala La Carreta\, Carrer Pedro Moreno Sastre\, 112\, Elx\, Baix Vinalopó\, 03205
CATEGORIES:Comarques del sud
ATTACH;FMTTYPE=image/jpeg:https://familiespelvalencia.org/wp-content/uploads/2026/01/Voila.jpg
GEO:38.2753621;-0.7160597
X-APPLE-STRUCTURED-LOCATION;VALUE=URI;X-ADDRESS=Sala La Carreta Carrer Pedro Moreno Sastre 112 Elx Baix Vinalopó 03205;X-APPLE-RADIUS=500;X-TITLE=Carrer Pedro Moreno Sastre\, 112:geo:-0.7160597,38.2753621
END:VEVENT
BEGIN:VEVENT
DTSTART;TZID=Europe/Paris:20260328T180000
DTEND;TZID=Europe/Paris:20260328T190000
DTSTAMP:20260420T204941
CREATED:20260117T083645Z
LAST-MODIFIED:20260117T083645Z
UID:10000742-1774720800-1774724400@familiespelvalencia.org
SUMMARY:Teatre. Voilà
DESCRIPTION:“Voilà” és una proposta de teatre familiar de JM Gestió Teatral que aborda\, amb sensibilitat i humor\, la relació entre un pare i el mestre del seu fill de huit anys. A través d’una conversa plena d’emoció\, descobrim les pors d’un pare marcat per una experiència del passat i la mirada optimista d’un docent que confia en les potencialitats de cada xiquet. L’obra\, recomanada per a públic a partir de 5 anys\, combina teatre d’objectes i interpretació per oferir una història propera\, emotiva i plena d’esperança. Una peça curta i intensa que recorda que\, davant de qualsevol dificultat\, sempre hi ha una solució\, i que l’acompanyament emocional pot transformar la manera com les famílies i l’escola entenen la diferència. Perfecta per a gaudir en família i per a treballar valors com la confiança\, la comunicació i l’empatia. \nMés informació i venda d’entrades: La Carreta Teatre
URL:https://familiespelvalencia.org/activitat/teatre-voila/2026-03-28/2/
LOCATION:Sala La Carreta\, Carrer Pedro Moreno Sastre\, 112\, Elx\, Baix Vinalopó\, 03205
CATEGORIES:Comarques del sud
ATTACH;FMTTYPE=image/jpeg:https://familiespelvalencia.org/wp-content/uploads/2026/01/Voila.jpg
GEO:38.2753621;-0.7160597
X-APPLE-STRUCTURED-LOCATION;VALUE=URI;X-ADDRESS=Sala La Carreta Carrer Pedro Moreno Sastre 112 Elx Baix Vinalopó 03205;X-APPLE-RADIUS=500;X-TITLE=Carrer Pedro Moreno Sastre\, 112:geo:-0.7160597,38.2753621
END:VEVENT
BEGIN:VEVENT
DTSTART;TZID=Europe/Paris:20260328T180000
DTEND;TZID=Europe/Paris:20260328T190000
DTSTAMP:20260420T204941
CREATED:20260127T215245Z
LAST-MODIFIED:20260127T215315Z
UID:10000773-1774720800-1774724400@familiespelvalencia.org
SUMMARY:Projecció. Teclats que fan volar la imaginació
DESCRIPTION:Els pianos i els instruments de teclat tenen la capacitat de despertar emocions\, imatges i relats que van més enllà de les paraules. Les seves harmonies i possibilitats expressives estimulen la imaginació\, enforteixen els vincles afectius i es converteixen en una poderosa eina de comunicació i descobriment personal. Aquesta sessió reuneix dos migmetratges que exploren el piano com a vehicle de connexió\, creativitat i aventura. A través d’estils visuals diferents i sensibilitats complementàries\, totes dues obres mostren com la música pot il·luminar la vida quotidiana\, obrir noves formes de relació i convertir el que és ordinari en extraordinari. \nDurada total: 58 minuts // Edat recomanada: +6 anys \nLola i el piano trencaclosques (Lola et le piano à bruits)\, Augusto Zanovello\, 2024\, França\, 28 min \nEn Simó és un nen amb trets de l’espectre autista. La seva germana Lola explora formes per generar codis comuns que els permetin comunicar-se i entendre’s. Música i art es converteixen en un llenguatge compartit que permet construir ponts de comunicació dins de l’entorn familiar. \nEl piano màgic (Magic Piano)\, Martin Clapp\, 2011\, Polònia–Xina–Noruega\, 30 min\, sense diàlegs \nUna nena s’embarca en un viatge a Londres\, on viu el seu estimat pare. Un piano de cua màgic es transformarà en el seu mitjà de transport i els convidarà a viatjar\, somiar i mirar el món des d’una altra perspectiva. Curtmetratge en stop-motion amb música de Frédéric Chopin\, interpretada pel cèlebre pianista Lang Lang. \nAl principi de cada sessió del cicle Música i ritme\, protagonistes de l’animació\, l’equip educatiu de CaixaForum presenta la pel·lícula i en proporciona les claus bàsiques per interpretar-la i gaudir-ne\, i convida el públic assistent a un debat en família posterior a la projecció. \nEs poden descarregar al web de caixaforum la fitxa educativa amb més detalls sobre la projecció per preparar la visita i en la qual\, a més\, es proposen algunes activitats relacionades per continuar-ne gaudint des de casa. \nImportant: Els xiquets i les xiquetes han d’anar acompanyats sempre d’un adult\, que també ha de reservar una entrada per a l’activitat. \nMés informació i venda d’entrades: web de caixaforum
URL:https://familiespelvalencia.org/activitat/projeccio-teclats-que-fan-volar-la-imaginacio/
LOCATION:Caixa Forum\, Ciutat de les Arts i les Ciències\, C/ Eduardo Primo Yúfera\, 1A\, València\, 46013
CATEGORIES:València - districte capital
ATTACH;FMTTYPE=image/jpeg:https://familiespelvalencia.org/wp-content/uploads/2026/01/Teclats-que-fan-volar.jpg
GEO:39.4538716;-0.3498098
X-APPLE-STRUCTURED-LOCATION;VALUE=URI;X-ADDRESS=Caixa Forum Ciutat de les Arts i les Ciències C/ Eduardo Primo Yúfera 1A València 46013;X-APPLE-RADIUS=500;X-TITLE=Ciutat de les Arts i les Ciències\, C/ Eduardo Primo Yúfera\, 1A:geo:-0.3498098,39.4538716
END:VEVENT
BEGIN:VEVENT
DTSTART;TZID=Europe/Paris:20260328T190000
DTEND;TZID=Europe/Paris:20260328T200500
DTSTAMP:20260420T204941
CREATED:20260309T215844Z
LAST-MODIFIED:20260309T220654Z
UID:10001041-1774724400-1774728300@familiespelvalencia.org
SUMMARY:Teatre. Estem perdudes
DESCRIPTION:Dues germanes se’n van de viatge amb la intenció de tirar les cendres de sa mare al mont Kenya. Un problema aeri fa que aterren a l’aeroport de Narita\, al Japó. La relació entre les germanes està un poc tensa\, estan passant per un moment vital delicat i un viatge juntes és una prova de foc: posa en evidència les seues diferències\, les quals hauran de llimar per resoldre les dificultats que els planteja el viatge. Finalment\, aconseguiran volar a Nairobi\, però\, una vegada més\, la vida les durà pel camí més difícil i hauran de posar-se d’acord per resoldre-ho. A la tornada del seu viatge\, a l’aeroport d’Alacant les germanes han tingut l’oportunitat de compartir el que els inquieta i aconsegueixen fer valdre la seua relació i el moment actual. \nTeatre | Comèdia \nMés informació i venda d’entrades: Sala l’Horta \nPúblic jove i adult
URL:https://familiespelvalencia.org/activitat/teatre-estem-perdudes/
LOCATION:Sala L’Horta\, Carrer Sant Martí de Porres\, 17 (Poblats del Sud)\, Castellar-L'Oliveral.- València\, L'Horta\, 46026
CATEGORIES:València - districte capital
ATTACH;FMTTYPE=image/jpeg:https://familiespelvalencia.org/wp-content/uploads/2026/03/estem-perdudes.jpg
GEO:39.4247911;-0.3653518
X-APPLE-STRUCTURED-LOCATION;VALUE=URI;X-ADDRESS=Sala L’Horta Carrer Sant Martí de Porres 17 (Poblats del Sud) Castellar-L'Oliveral.- València L'Horta 46026;X-APPLE-RADIUS=500;X-TITLE=Carrer Sant Martí de Porres\, 17 (Poblats del Sud):geo:-0.3653518,39.4247911
END:VEVENT
BEGIN:VEVENT
DTSTART;TZID=Europe/Paris:20260328T203000
DTEND;TZID=Europe/Paris:20260328T220000
DTSTAMP:20260420T204941
CREATED:20260323T220942Z
LAST-MODIFIED:20260323T220949Z
UID:10001104-1774729800-1774735200@familiespelvalencia.org
SUMMARY:Concert. Bèrnia
DESCRIPTION:Bèrnia arriba a Senija amb la seua Gira Ritual\, una proposta de pop\, intimista i molt cuidada\, on la veu i la paraula prenen tot el protagonisme. Un directe intens i proper que convida a escoltar i deixar-se portar.
URL:https://familiespelvalencia.org/activitat/concert-bernia-3/
LOCATION:Senija.- Plaça de l’Ajuntament\, Plaça de l'Ajuntament\, Senija\, Marina Alta\, 03729
CATEGORIES:Comarques centrals
ATTACH;FMTTYPE=image/png:https://familiespelvalencia.org/wp-content/uploads/2026/03/Bernia-Senija.png
END:VEVENT
END:VCALENDAR