BEGIN:VCALENDAR
VERSION:2.0
PRODID:-//FAMÍLIES PEL VALENCIÀ - ECPv6.15.20//NONSGML v1.0//EN
CALSCALE:GREGORIAN
METHOD:PUBLISH
X-ORIGINAL-URL:https://familiespelvalencia.org
X-WR-CALDESC:Esdeveniments per FAMÍLIES PEL VALENCIÀ
REFRESH-INTERVAL;VALUE=DURATION:PT1H
X-Robots-Tag:noindex
X-PUBLISHED-TTL:PT1H
BEGIN:VTIMEZONE
TZID:Europe/Paris
BEGIN:DAYLIGHT
TZOFFSETFROM:+0100
TZOFFSETTO:+0200
TZNAME:CEST
DTSTART:20250330T010000
END:DAYLIGHT
BEGIN:STANDARD
TZOFFSETFROM:+0200
TZOFFSETTO:+0100
TZNAME:CET
DTSTART:20251026T010000
END:STANDARD
BEGIN:DAYLIGHT
TZOFFSETFROM:+0100
TZOFFSETTO:+0200
TZNAME:CEST
DTSTART:20260329T010000
END:DAYLIGHT
BEGIN:STANDARD
TZOFFSETFROM:+0200
TZOFFSETTO:+0100
TZNAME:CET
DTSTART:20261025T010000
END:STANDARD
BEGIN:DAYLIGHT
TZOFFSETFROM:+0100
TZOFFSETTO:+0200
TZNAME:CEST
DTSTART:20270328T010000
END:DAYLIGHT
BEGIN:STANDARD
TZOFFSETFROM:+0200
TZOFFSETTO:+0100
TZNAME:CET
DTSTART:20271031T010000
END:STANDARD
END:VTIMEZONE
BEGIN:VEVENT
DTSTART;TZID=Europe/Paris:20260326T173000
DTEND;TZID=Europe/Paris:20260326T183000
DTSTAMP:20260420T205044
CREATED:20260223T124753Z
LAST-MODIFIED:20260223T124753Z
UID:10000988-1774546200-1774549800@familiespelvalencia.org
SUMMARY:Pissiganya 2026 .- Grups de joc i conversa en valencià per a famílies
DESCRIPTION:Pissiganya és un activitat grupal en què pares i mares\, juntament amb les seues criatures es reunixen una volta al mes per a jugar i conversar en valencià a partir d’una proposta ludicoartística dinamitzada per Maria Gargallo. Aquesta iniciativa s’emmarca dins del projecte Creixent al caliu (www.creixentalcaliu.com)\, a través del qual volen posar en valor\, promoure i facilitar la transmissió lingüística i la presència social del valencià en la primera infància. \nActivitat per a famílies amb xiquets i xiquetes de 0 a 5 anys \n IMPORTANT: Cal inscripció prèvia. Les inscripcions s’accepten per ordre d’arribada fins a completar-ne la capacitat. \nMés informació: Ajuntament de València | Creixent al caliu
URL:https://familiespelvalencia.org/activitat/pissiganya-2026-grups-de-joc-i-conversa-en-valencia-per-a-families-2/2026-03-26/
LOCATION:Biblioteca de Benimaclet – Carola Reig\, C/ de Francesc Martínez\, 32 (Benimaclet)\, València\, 46020
CATEGORIES:València - districte capital
ATTACH;FMTTYPE=image/gif:https://familiespelvalencia.org/wp-content/uploads/2026/02/Pissiganya-GIF.gif
GEO:39.4881622;-0.3582104
X-APPLE-STRUCTURED-LOCATION;VALUE=URI;X-ADDRESS=Biblioteca de Benimaclet – Carola Reig C/ de Francesc Martínez 32 (Benimaclet) València 46020;X-APPLE-RADIUS=500;X-TITLE=C/ de Francesc Martínez\, 32 (Benimaclet):geo:-0.3582104,39.4881622
END:VEVENT
BEGIN:VEVENT
DTSTART;TZID=Europe/Paris:20260326T180000
DTEND;TZID=Europe/Paris:20260326T183000
DTSTAMP:20260420T205044
CREATED:20260315T154656Z
LAST-MODIFIED:20260331T145833Z
UID:10001080-1774548000-1774549800@familiespelvalencia.org
SUMMARY:Documental al Planetari. Cel profund
DESCRIPTION:Documental que descriu allò que s’amaga darrere del fons negre de la nit. Les persones assistents podran viatjar a través de les meravelles que s’han descobert darrere d’aquest llenç negre sobre el qual es dibuixa la nit estrelada. Al llarg de 30 minuts es presenten les imatges més espectaculars obtingudes pels grans observatoris del món\, tant des de la superfície de la Terra com des de l’espai. Aquestes imatges ens parlen d’un univers fascinant i complex\, però d’una bellesa indescriptible. (Públic jove i general) \nDurada: 30 min \nMés informació: Planetari de Castelló
URL:https://familiespelvalencia.org/activitat/documental-al-planetari-cel-profund-3/2026-03-26/
LOCATION:Planetari de Castelló\, Passeig Marítim\, 1 (Grau de Castelló)\, Castelló\, Plana Alta\, 12100
CATEGORIES:Comarques del nord
ATTACH;FMTTYPE=image/jpeg:https://familiespelvalencia.org/wp-content/uploads/2026/01/cel-profund.jpg
GEO:39.9793318;0.022053
X-APPLE-STRUCTURED-LOCATION;VALUE=URI;X-ADDRESS=Planetari de Castelló Passeig Marítim 1 (Grau de Castelló) Castelló Plana Alta 12100;X-APPLE-RADIUS=500;X-TITLE=Passeig Marítim\, 1 (Grau de Castelló):geo:0.022053,39.9793318
END:VEVENT
BEGIN:VEVENT
DTSTART;TZID=Europe/Paris:20260326T183000
DTEND;TZID=Europe/Paris:20260326T213000
DTSTAMP:20260420T205044
CREATED:20260323T221737Z
LAST-MODIFIED:20260323T221737Z
UID:10001105-1774549800-1774560600@familiespelvalencia.org
SUMMARY:Concert. Auxili + Cor Alborxí
DESCRIPTION:Concert solidari al Gran Teatre d’Alzira a benefici de la Fundació Novaterra\, amb la participació del grup Auxili i el Cor Alborxí\, format per l’alumnat del CEIP Alborxí. La cita unirà música\, educació i compromís social en un mateix escenari. El concert és el resultat d’un projecte educatiu compartit que fomenta valors com la solidaritat\, la inclusió i la responsabilitat social des de la infància. Els donatius recaptats es destinaran als programes d’inserció sociolaboral de la Fundació Novaterra. Una proposta cultural i solidària\, ideal per a gaudir en família
URL:https://familiespelvalencia.org/activitat/concert-auxili-cor-alborxi/
LOCATION:Gran Teatre d’Alzira\, Plaça Alborxí\, s/n\, Alzira\, Ribera Alta\, 46600
CATEGORIES:Comarques Túria–Xúquer
ATTACH;FMTTYPE=image/jpeg:https://familiespelvalencia.org/wp-content/uploads/2026/03/Auxili-i-Cor-Alborxi.jpg
GEO:39.148872;-0.4390385
X-APPLE-STRUCTURED-LOCATION;VALUE=URI;X-ADDRESS=Gran Teatre d’Alzira Plaça Alborxí s/n Alzira Ribera Alta 46600;X-APPLE-RADIUS=500;X-TITLE=Plaça Alborxí\, s/n:geo:-0.4390385,39.148872
END:VEVENT
END:VCALENDAR