BEGIN:VCALENDAR
VERSION:2.0
PRODID:-//FAMÍLIES PEL VALENCIÀ - ECPv6.15.20//NONSGML v1.0//EN
CALSCALE:GREGORIAN
METHOD:PUBLISH
X-ORIGINAL-URL:https://familiespelvalencia.org
X-WR-CALDESC:Esdeveniments per FAMÍLIES PEL VALENCIÀ
REFRESH-INTERVAL;VALUE=DURATION:PT1H
X-Robots-Tag:noindex
X-PUBLISHED-TTL:PT1H
BEGIN:VTIMEZONE
TZID:Europe/Paris
BEGIN:DAYLIGHT
TZOFFSETFROM:+0100
TZOFFSETTO:+0200
TZNAME:CEST
DTSTART:20250330T010000
END:DAYLIGHT
BEGIN:STANDARD
TZOFFSETFROM:+0200
TZOFFSETTO:+0100
TZNAME:CET
DTSTART:20251026T010000
END:STANDARD
BEGIN:DAYLIGHT
TZOFFSETFROM:+0100
TZOFFSETTO:+0200
TZNAME:CEST
DTSTART:20260329T010000
END:DAYLIGHT
BEGIN:STANDARD
TZOFFSETFROM:+0200
TZOFFSETTO:+0100
TZNAME:CET
DTSTART:20261025T010000
END:STANDARD
BEGIN:DAYLIGHT
TZOFFSETFROM:+0100
TZOFFSETTO:+0200
TZNAME:CEST
DTSTART:20270328T010000
END:DAYLIGHT
BEGIN:STANDARD
TZOFFSETFROM:+0200
TZOFFSETTO:+0100
TZNAME:CET
DTSTART:20271031T010000
END:STANDARD
END:VTIMEZONE
BEGIN:VEVENT
DTSTART;TZID=Europe/Paris:20260309T170000
DTEND;TZID=Europe/Paris:20260309T183000
DTSTAMP:20260420T182109
CREATED:20260116T120754Z
LAST-MODIFIED:20260116T120904Z
UID:10000736-1773075600-1773081000@familiespelvalencia.org
SUMMARY:Concert Trobadorets
DESCRIPTION:Trobadorets farà vibrar Castelló de la Plana dins dels actes dels Cavallers de la Conquesta\, amb Anem de festa: un espectacle alegre i participatiu que farà cantar i ballar la menudalla i les seues famílies\, omplint la ciutat de música i bon humor.
URL:https://familiespelvalencia.org/activitat/concert-trobadorets-9/
LOCATION:Castelló.- Plaça Tetuan\, Plaça Tetuan\, Castelló\, Plana Alta\, 12001
CATEGORIES:Comarques del nord
ATTACH;FMTTYPE=image/jpeg:https://familiespelvalencia.org/wp-content/uploads/2026/01/Trobadorets-Castello-de-la-Plana.jpg
GEO:39.9876556;-0.0405891
X-APPLE-STRUCTURED-LOCATION;VALUE=URI;X-ADDRESS=Castelló.- Plaça Tetuan Plaça Tetuan Castelló Plana Alta 12001;X-APPLE-RADIUS=500;X-TITLE=Plaça Tetuan:geo:-0.0405891,39.9876556
END:VEVENT
BEGIN:VEVENT
DTSTART;TZID=Europe/Paris:20260309T173000
DTEND;TZID=Europe/Paris:20260309T183000
DTSTAMP:20260420T182109
CREATED:20260223T125754Z
LAST-MODIFIED:20260223T125754Z
UID:10000998-1773077400-1773081000@familiespelvalencia.org
SUMMARY:Pissiganya 2026 .- Grups de joc i conversa en valencià per a famílies
DESCRIPTION:Pissiganya és un activitat grupal en què pares i mares\, juntament amb les seues criatures es reunixen una volta al mes per a jugar i conversar en valencià a partir d’una proposta ludicoartística dinamitzada per Maria Gargallo. Aquesta iniciativa s’emmarca dins del projecte Creixent al caliu (www.creixentalcaliu.com)\, a través del qual volen posar en valor\, promoure i facilitar la transmissió lingüística i la presència social del valencià en la primera infància. \nActivitat per a famílies amb xiquets i xiquetes de 0 a 5 anys \n IMPORTANT: Cal inscripció prèvia. Les inscripcions s’accepten per ordre d’arribada fins a completar-ne la capacitat. \nMés informació: Ajuntament de València | Creixent al caliu
URL:https://familiespelvalencia.org/activitat/pissiganya-2026-grups-de-joc-i-conversa-en-valencia-per-a-families-4/2026-03-09/
LOCATION:Biblioteca d’Algirós – María Moliner\, C/ del Serpis\, 9\, (Barri Algirós)\, València\, València\, 46021
CATEGORIES:València - districte capital
ATTACH;FMTTYPE=image/gif:https://familiespelvalencia.org/wp-content/uploads/2026/02/Pissiganya-GIF.gif
GEO:39.4762622;-0.3491807
X-APPLE-STRUCTURED-LOCATION;VALUE=URI;X-ADDRESS=Biblioteca d’Algirós – María Moliner C/ del Serpis 9 (Barri Algirós) València València 46021;X-APPLE-RADIUS=500;X-TITLE=C/ del Serpis\, 9\, (Barri Algirós):geo:-0.3491807,39.4762622
END:VEVENT
END:VCALENDAR