BEGIN:VCALENDAR
VERSION:2.0
PRODID:-//FAMÍLIES PEL VALENCIÀ - ECPv6.15.20//NONSGML v1.0//EN
CALSCALE:GREGORIAN
METHOD:PUBLISH
X-WR-CALNAME:FAMÍLIES PEL VALENCIÀ
X-ORIGINAL-URL:https://familiespelvalencia.org
X-WR-CALDESC:Esdeveniments per FAMÍLIES PEL VALENCIÀ
REFRESH-INTERVAL;VALUE=DURATION:PT1H
X-Robots-Tag:noindex
X-PUBLISHED-TTL:PT1H
BEGIN:VTIMEZONE
TZID:Europe/Paris
BEGIN:DAYLIGHT
TZOFFSETFROM:+0100
TZOFFSETTO:+0200
TZNAME:CEST
DTSTART:20250330T010000
END:DAYLIGHT
BEGIN:STANDARD
TZOFFSETFROM:+0200
TZOFFSETTO:+0100
TZNAME:CET
DTSTART:20251026T010000
END:STANDARD
BEGIN:DAYLIGHT
TZOFFSETFROM:+0100
TZOFFSETTO:+0200
TZNAME:CEST
DTSTART:20260329T010000
END:DAYLIGHT
BEGIN:STANDARD
TZOFFSETFROM:+0200
TZOFFSETTO:+0100
TZNAME:CET
DTSTART:20261025T010000
END:STANDARD
BEGIN:DAYLIGHT
TZOFFSETFROM:+0100
TZOFFSETTO:+0200
TZNAME:CEST
DTSTART:20270328T010000
END:DAYLIGHT
BEGIN:STANDARD
TZOFFSETFROM:+0200
TZOFFSETTO:+0100
TZNAME:CET
DTSTART:20271031T010000
END:STANDARD
END:VTIMEZONE
BEGIN:VEVENT
DTSTART;TZID=Europe/Paris:20260306T173000
DTEND;TZID=Europe/Paris:20260306T180000
DTSTAMP:20260420T193558
CREATED:20260306T081949Z
LAST-MODIFIED:20260306T081949Z
UID:10001021-1772818200-1772820000@familiespelvalencia.org
SUMMARY:L'Hora del Conte a la biblioteca Dia de la Dona
DESCRIPTION:La Biblioteca de Gata de Gorgos ofereix setmanalment L’Hora del Conte\, on els menuts gaudeixen d’un conte i una activitat de dibuix. Aquesta setmana el conte serà:  “La princesa rebel” d’Anna Kemp i Sara Ogilvie  𝗟’𝗛𝗼𝗿𝗮 𝗱𝗲𝗹 𝗖𝗼𝗻𝘁𝗲 ️//  Divendres 6 de març//  a les 17:30h
URL:https://familiespelvalencia.org/activitat/lhora-del-conte-a-la-biblioteca-dia-de-la-dona/
LOCATION:Biblioteca Pública Municipal Carme Miquel de Gata de Gorgos\, Duquessa d'Almodòvar\, 3\, Gata de Gorgos\, Marina Alta\, 03740
CATEGORIES:Comarques centrals
ATTACH;FMTTYPE=image/jpeg:https://familiespelvalencia.org/wp-content/uploads/2026/03/princesa-rebel-Gata.jpg
ORGANIZER;CN="Biblioteca P%C3%BAblica Municipal de Gata de Gorgos":MAILTO:biblioteca@gatadegorgos.org
GEO:38.774555;0.0802247
X-APPLE-STRUCTURED-LOCATION;VALUE=URI;X-ADDRESS=Biblioteca Pública Municipal Carme Miquel de Gata de Gorgos Duquessa d'Almodòvar 3 Gata de Gorgos Marina Alta 03740;X-APPLE-RADIUS=500;X-TITLE=Duquessa d'Almodòvar\, 3:geo:0.0802247,38.774555
END:VEVENT
BEGIN:VEVENT
DTSTART;TZID=Europe/Paris:20260306T190000
DTEND;TZID=Europe/Paris:20260306T200000
DTSTAMP:20260420T193558
CREATED:20260303T122322Z
LAST-MODIFIED:20260303T125616Z
UID:10001017-1772823600-1772827200@familiespelvalencia.org
SUMMARY:Espectacle de dansa/teatre: El riu ve crescut
DESCRIPTION:Espectacle de dansa/teatre sobre textos de l’escriptora Maria Beneyto\, amb xarrada prèvia introductòria d’Imma Cerdà. \nPúblic familiar
URL:https://familiespelvalencia.org/activitat/espectacle-de-dansa-teatre-el-riu-ve-crescut/
LOCATION:Fundació Caixa Cooperativa d’Algemesí\, c/Sant Josep de Calassanç\, 6\, Algemesí\, Ribera Alta\, 46680
CATEGORIES:Comarques Túria–Xúquer
ATTACH;FMTTYPE=image/jpeg:https://familiespelvalencia.org/wp-content/uploads/2026/03/El-riu-ve-crescut.jpeg
END:VEVENT
BEGIN:VEVENT
DTSTART;TZID=Europe/Paris:20260306T190000
DTEND;TZID=Europe/Paris:20260306T200000
DTSTAMP:20260420T193558
CREATED:20260305T113510Z
LAST-MODIFIED:20260305T113646Z
UID:10001022-1772823600-1772827200@familiespelvalencia.org
SUMMARY:Contacontes Feminista: Filadores d'històries
DESCRIPTION:Filadores d’històries és un contacontes per a parar l’orella i el cor. Un espai íntim i compartit on filarem fi amb relats de dones escrits per dones: paraules que cusen memòria\, lluita i vida.\nAl llarg de la vesprada ens deixarem travessar per històries que parlen d’experiències\, resistències i afectes\, relats que ens fan més fortes\, més conscients i més lliures. Contes per escoltar\, per compartir i per reconéixer-nos. Una proposta que convida a seure\, escoltar i deixar-se portar per la força de la paraula dita. Activitat impulsada i organitzada pel Col·lectiu 8 de Març\, amb la col·laboració de Sarnatxo Animació i Detroit Llibres.
URL:https://familiespelvalencia.org/activitat/contacontes-feminista-filadores-dhistories/
LOCATION:Detroit llibres\, Carrer Oliver\, 5\, Alcoi\, L'Alcoià\, 03802
CATEGORIES:Comarques centrals
ATTACH;FMTTYPE=image/jpeg:https://familiespelvalencia.org/wp-content/uploads/2026/03/Filadores.jpg
GEO:38.6948508;-0.4812384
X-APPLE-STRUCTURED-LOCATION;VALUE=URI;X-ADDRESS=Detroit llibres Carrer Oliver 5 Alcoi L'Alcoià 03802;X-APPLE-RADIUS=500;X-TITLE=Carrer Oliver\, 5:geo:-0.4812384,38.6948508
END:VEVENT
BEGIN:VEVENT
DTSTART;TZID=Europe/Paris:20260306T193000
DTEND;TZID=Europe/Paris:20260306T210000
DTSTAMP:20260420T193558
CREATED:20260305T212827Z
LAST-MODIFIED:20260305T213843Z
UID:10001030-1772825400-1772830800@familiespelvalencia.org
SUMMARY:Concert. Pau Alabajos
DESCRIPTION:Pau Alabajos va començar la seua carrera artística actuant als carrers de la ciutat de València\, interpretava les seues cançons en el districte de Ciutat Vella\, a l’ombra del Micalet. Ha cantat en diferents escenaris internacionals. Els seus últims treballs són Una granota viva a la butxaca (2024)\, que recull versos de Vicent Andrés Estellés convertits en cançó\, i Versos a la vietnamita (2025)\, un llibre-disc d’adaptacions musicals de poemes de Salvador Espriu\, Maria Mercè Marçal\, Vicente Andrés Estellés\, Marc Granell o Joan Margarit. \nPúblic jove i públic en general.
URL:https://familiespelvalencia.org/activitat/concert-pau-alabajos-2/
LOCATION:Martin i Soler.- Les Arts\, Avgda. del Professor López Piñero\, 1\, València\, L'Horta\, 46013
CATEGORIES:València - districte capital
ATTACH;FMTTYPE=image/png:https://familiespelvalencia.org/wp-content/uploads/2026/03/Pau-Alabajos.-Les-Arts-Marc-1.png
END:VEVENT
END:VCALENDAR