BEGIN:VCALENDAR
VERSION:2.0
PRODID:-//FAMÍLIES PEL VALENCIÀ - ECPv6.15.20//NONSGML v1.0//EN
CALSCALE:GREGORIAN
METHOD:PUBLISH
X-ORIGINAL-URL:https://familiespelvalencia.org
X-WR-CALDESC:Esdeveniments per FAMÍLIES PEL VALENCIÀ
REFRESH-INTERVAL;VALUE=DURATION:PT1H
X-Robots-Tag:noindex
X-PUBLISHED-TTL:PT1H
BEGIN:VTIMEZONE
TZID:Europe/Paris
BEGIN:DAYLIGHT
TZOFFSETFROM:+0100
TZOFFSETTO:+0200
TZNAME:CEST
DTSTART:20250330T010000
END:DAYLIGHT
BEGIN:STANDARD
TZOFFSETFROM:+0200
TZOFFSETTO:+0100
TZNAME:CET
DTSTART:20251026T010000
END:STANDARD
BEGIN:DAYLIGHT
TZOFFSETFROM:+0100
TZOFFSETTO:+0200
TZNAME:CEST
DTSTART:20260329T010000
END:DAYLIGHT
BEGIN:STANDARD
TZOFFSETFROM:+0200
TZOFFSETTO:+0100
TZNAME:CET
DTSTART:20261025T010000
END:STANDARD
BEGIN:DAYLIGHT
TZOFFSETFROM:+0100
TZOFFSETTO:+0200
TZNAME:CEST
DTSTART:20270328T010000
END:DAYLIGHT
BEGIN:STANDARD
TZOFFSETFROM:+0200
TZOFFSETTO:+0100
TZNAME:CET
DTSTART:20271031T010000
END:STANDARD
END:VTIMEZONE
BEGIN:VEVENT
DTSTART;TZID=Europe/Paris:20260214T120000
DTEND;TZID=Europe/Paris:20260302T130000
DTSTAMP:20260420T205601
CREATED:20260126T214644Z
LAST-MODIFIED:20260303T122630Z
UID:10000767-1771070400-1772456400@familiespelvalencia.org
SUMMARY:El rei Mides i la metamorfosi
DESCRIPTION:En un abocador ple d’escombraries dos amics entren en el territori dels mites clàssics i les transformacions. \n\n\nObjectes inútils cobren una vida inesperada per a contar-nos històries de Déus\, reis\, nimfes i herois. Un relat sorprenent i divertit en el qual el públic admirarà les metamorfosis del Rei Mides\, Faetó\, Eco o Narcís. \nUn espectacle de titelles que introduïx als xicotets espectadors en el gran llibre de la mitologia clàssica Les metamorfosis\, del poeta Publio Ovidio Nasón. \nAdaptació didàctica i lúdica que parla de la transformació com a motor de l’univers\, comparant l’explicació mitològica del món amb la científica. Perquè res comença ni acaba\, tot es transforma.
URL:https://familiespelvalencia.org/activitat/el-rei-mides-i-la-metamorfosi/2026-02-14/3/
LOCATION:Sala La Carreta\, Carrer Pedro Moreno Sastre\, 112\, Elx\, Baix Vinalopó\, 03205
CATEGORIES:Comarques del sud
ATTACH;FMTTYPE=image/jpeg:https://familiespelvalencia.org/wp-content/uploads/2026/01/baixa.jpg
GEO:38.2753621;-0.7160597
X-APPLE-STRUCTURED-LOCATION;VALUE=URI;X-ADDRESS=Sala La Carreta Carrer Pedro Moreno Sastre 112 Elx Baix Vinalopó 03205;X-APPLE-RADIUS=500;X-TITLE=Carrer Pedro Moreno Sastre\, 112:geo:-0.7160597,38.2753621
END:VEVENT
BEGIN:VEVENT
DTSTART;TZID=Europe/Paris:20260227T170000
DTEND;TZID=Europe/Paris:20260227T180000
DTSTAMP:20260420T205601
CREATED:20260129T214353Z
LAST-MODIFIED:20260129T214353Z
UID:10000803-1772211600-1772215200@familiespelvalencia.org
SUMMARY:Òptiques del bosc experimentant amb formes de veure no humanes. Taller
DESCRIPTION:Al Bosc vertical\, les plantes ja no les tenim als peus sinó davant nostre. Aquest canvi de posició ens ofereix l’oportunitat d’experimentar amb altres punts de vista\, de jugar amb perspectives i maneres de veure diferents de la humana. Per això\, al taller assajarem noves maneres de relacionar-nos amb els altres éssers vius i descobrirem com es veu el món des d’uns altres ulls. I si aquests ulls fossin els d’un insecte? Com ens veuria ell a nosaltres? L’activitat es desenvoluparà davant del Bosc vertical\, un espai de 535 metres quadrats que alberga una dotzena d’arbres de grans dimensions i prop de 20.000 plantes de més de cent espècies diferents. Un espai únic\, on la natura i l’art es converteixen en elements inseparables. \nActivitat dissenyada per Paula Bruna\, ambientòloga i artista\, que utilitza la investigació artística com una forma de coneixement en què s’hibriden diverses disciplines. Sobre la conformació del relat de l’antropocè des d’un punt de vista no humà\, mitjançant una combinació de ciència\, ficció i art. La seva hipòtesi és que explorar punts de vista diferents té efectes en la consciència ecològica i obre la gamma de possibles formes de convivència. Comparteix la seva recerca en publicacions\, congressos\, tallers participatius\, residències i exposicions artístiques: Arts Santa Mònica\, SWAB Barcelona Art Fair i Kunstraum Lakeside\, En Residencia. Creadores als instituts de Barcelona i La Escocesa\, entre d’altres. \nActivitat recomanada a partir de 4 anys \nImportant: Els xiquets i les xiquetes han d’anar acompanyats sempre d’un adult\, que també ha de reservar una entrada per a l’activitat. \nMés informació i venda d’entrades: Web CaixaFòrum
URL:https://familiespelvalencia.org/activitat/optiques-del-bosc-experimentant-amb-formes-de-veure-no-humanes-taller/2026-02-27/
LOCATION:Caixa Forum\, Ciutat de les Arts i les Ciències\, C/ Eduardo Primo Yúfera\, 1A\, València\, 46013
CATEGORIES:València - districte capital
ATTACH;FMTTYPE=image/webp:https://familiespelvalencia.org/wp-content/uploads/2026/01/bosc.webp
GEO:39.4538716;-0.3498098
X-APPLE-STRUCTURED-LOCATION;VALUE=URI;X-ADDRESS=Caixa Forum Ciutat de les Arts i les Ciències C/ Eduardo Primo Yúfera 1A València 46013;X-APPLE-RADIUS=500;X-TITLE=Ciutat de les Arts i les Ciències\, C/ Eduardo Primo Yúfera\, 1A:geo:-0.3498098,39.4538716
END:VEVENT
BEGIN:VEVENT
DTSTART;TZID=Europe/Paris:20260227T173000
DTEND;TZID=Europe/Paris:20260227T180000
DTSTAMP:20260420T205601
CREATED:20260224T135223Z
LAST-MODIFIED:20260224T135223Z
UID:10001008-1772213400-1772215200@familiespelvalencia.org
SUMMARY:L'Hora del conte a la biblioteca
DESCRIPTION:La Biblioteca de Gata de Gorgos ofereix setmanalment L’Hora del Conte\, on els menuts gaudeixen d’un conte i una activitat de dibuix. Aquesta setmana el conte serà:  “És meu\, això!” de Michel Von Zeveren  𝗟’𝗛𝗼𝗿𝗮 𝗱𝗲𝗹 𝗖𝗼𝗻𝘁𝗲 ️//  Divendres 27 de febrer //  a les 17:30h
URL:https://familiespelvalencia.org/activitat/lhora-del-conte-a-la-biblioteca-6/
LOCATION:Biblioteca Pública Municipal Carme Miquel de Gata de Gorgos\, Duquessa d'Almodòvar\, 3\, Gata de Gorgos\, Marina Alta\, 03740
CATEGORIES:Comarques centrals
ATTACH;FMTTYPE=image/png:https://familiespelvalencia.org/wp-content/uploads/2026/02/Polished-HW-1.png
ORGANIZER;CN="Biblioteca P%C3%BAblica Municipal de Gata de Gorgos":MAILTO:biblioteca@gatadegorgos.org
GEO:38.774555;0.0802247
X-APPLE-STRUCTURED-LOCATION;VALUE=URI;X-ADDRESS=Biblioteca Pública Municipal Carme Miquel de Gata de Gorgos Duquessa d'Almodòvar 3 Gata de Gorgos Marina Alta 03740;X-APPLE-RADIUS=500;X-TITLE=Duquessa d'Almodòvar\, 3:geo:0.0802247,38.774555
END:VEVENT
BEGIN:VEVENT
DTSTART;TZID=Europe/Paris:20260227T173000
DTEND;TZID=Europe/Paris:20260227T183000
DTSTAMP:20260420T205601
CREATED:20260125T184246Z
LAST-MODIFIED:20260225T144654Z
UID:10000764-1772213400-1772217000@familiespelvalencia.org
SUMMARY:Contacontes "L’hora del conte" a Montserrat
DESCRIPTION:Biblioteca Pública Municipal Miguel Bosch Martínez\, Montserrat\n27 de febrer\nA les 17.30 h\nPúblic familiar
URL:https://familiespelvalencia.org/activitat/contacontes-lhora-del-conte-a-montserrat/
LOCATION:Biblioteca Miguel Bosch Martínez. Montserrat\, Carrer Dos de Maig\, 6\, Montserrat\, Ribera Alta\, 46192
CATEGORIES:Comarques Túria–Xúquer
ATTACH;FMTTYPE=image/jpeg:https://familiespelvalencia.org/wp-content/uploads/2026/02/colorful-arrangement-of-childrens-books-on-a-wooden-shelf-showcasing-popular-titles.-31024471-scaled.jpg
GEO:39.3565119;-0.6034051
X-APPLE-STRUCTURED-LOCATION;VALUE=URI;X-ADDRESS=Biblioteca Miguel Bosch Martínez. Montserrat Carrer Dos de Maig 6 Montserrat Ribera Alta 46192;X-APPLE-RADIUS=500;X-TITLE=Carrer Dos de Maig\, 6:geo:-0.6034051,39.3565119
END:VEVENT
BEGIN:VEVENT
DTSTART;TZID=Europe/Paris:20260227T173000
DTEND;TZID=Europe/Paris:20260227T183000
DTSTAMP:20260420T205601
CREATED:20260209T214907Z
LAST-MODIFIED:20260209T214907Z
UID:10000943-1772213400-1772217000@familiespelvalencia.org
SUMMARY:Contacontes. Una amistat inesperada
DESCRIPTION:“Una amistat inesperada” és una tendra proposta de contacontes infantil que convida els més menuts a endinsar-se en una aventura plena de màgia\, somriures i complicitat. Sota la frescor d’un gran arbre il·luminat amb fanalets\, una xiqueta i una criatura fantàstica comparteixen lectura amb animals del bosc\, creant una atmosfera càlida que parla d’amistat\, imaginació i descobertes sorprenents. L’activitat\, organitzada per Biblioteques Xàbia\, promet diversió assegurada i moments entranyables amb aquesta parella tan especial que demostra que les millors amistats sovint arriben quan menys t’ho esperes. Una aposta perfecta per a famílies que busquen una vesprada plena d’històries\, fantasia i emocions compartides.
URL:https://familiespelvalencia.org/activitat/contacontes-una-amistat-inesperada/
LOCATION:Biblioteca de Duanes\, Av. del Botanic Cabanilles\, 17\, Xàbia\, Marina Alta\, 03730
CATEGORIES:Comarques centrals
ATTACH;FMTTYPE=image/jpeg:https://familiespelvalencia.org/wp-content/uploads/2026/02/Una-amistat.jpg
END:VEVENT
BEGIN:VEVENT
DTSTART;TZID=Europe/Paris:20260227T180000
DTEND;TZID=Europe/Paris:20260227T190000
DTSTAMP:20260420T205601
CREATED:20260114T081144Z
LAST-MODIFIED:20260114T081144Z
UID:10000730-1772215200-1772218800@familiespelvalencia.org
SUMMARY:Contacontes. El riu plorós
DESCRIPTION:A càrrec de Rosana Mira \nUn dia d’excursió Pupetes descubreix que el riu del seu poble ja no es “riu”…està trist…Les seues aigües cada vegada estan més contaminades…Amb els amics que va trobant al camí (L’ànec\, l’oroneta\, l’anguila…i el baladre).. farà que el riu del seu poble torne a RIU-re…per sempre. \nImportant. Aforament limitat. Cal inscripció prèvia
URL:https://familiespelvalencia.org/activitat/contacontes-el-riu-ploros/
LOCATION:Casa de la Cultura d’Alzira\, C/ Escoles Pies\, 4\, Alzira\, Ribera Alta\, 46600
CATEGORIES:Comarques Túria–Xúquer
ATTACH;FMTTYPE=image/jpeg:https://familiespelvalencia.org/wp-content/uploads/2026/01/el-riu-ploros.jpeg
GEO:39.1506367;-0.4359526
X-APPLE-STRUCTURED-LOCATION;VALUE=URI;X-ADDRESS=Casa de la Cultura d’Alzira C/ Escoles Pies 4 Alzira Ribera Alta 46600;X-APPLE-RADIUS=500;X-TITLE=C/ Escoles Pies\, 4:geo:-0.4359526,39.1506367
END:VEVENT
END:VCALENDAR