BEGIN:VCALENDAR
VERSION:2.0
PRODID:-//FAMÍLIES PEL VALENCIÀ - ECPv6.15.20//NONSGML v1.0//EN
CALSCALE:GREGORIAN
METHOD:PUBLISH
X-ORIGINAL-URL:https://familiespelvalencia.org
X-WR-CALDESC:Esdeveniments per FAMÍLIES PEL VALENCIÀ
REFRESH-INTERVAL;VALUE=DURATION:PT1H
X-Robots-Tag:noindex
X-PUBLISHED-TTL:PT1H
BEGIN:VTIMEZONE
TZID:Europe/Paris
BEGIN:DAYLIGHT
TZOFFSETFROM:+0100
TZOFFSETTO:+0200
TZNAME:CEST
DTSTART:20250330T010000
END:DAYLIGHT
BEGIN:STANDARD
TZOFFSETFROM:+0200
TZOFFSETTO:+0100
TZNAME:CET
DTSTART:20251026T010000
END:STANDARD
BEGIN:DAYLIGHT
TZOFFSETFROM:+0100
TZOFFSETTO:+0200
TZNAME:CEST
DTSTART:20260329T010000
END:DAYLIGHT
BEGIN:STANDARD
TZOFFSETFROM:+0200
TZOFFSETTO:+0100
TZNAME:CET
DTSTART:20261025T010000
END:STANDARD
BEGIN:DAYLIGHT
TZOFFSETFROM:+0100
TZOFFSETTO:+0200
TZNAME:CEST
DTSTART:20270328T010000
END:DAYLIGHT
BEGIN:STANDARD
TZOFFSETFROM:+0200
TZOFFSETTO:+0100
TZNAME:CET
DTSTART:20271031T010000
END:STANDARD
END:VTIMEZONE
BEGIN:VEVENT
DTSTART;TZID=Europe/Paris:20260214T120000
DTEND;TZID=Europe/Paris:20260302T130000
DTSTAMP:20260420T221001
CREATED:20260126T214644Z
LAST-MODIFIED:20260303T122630Z
UID:10000767-1771070400-1772456400@familiespelvalencia.org
SUMMARY:El rei Mides i la metamorfosi
DESCRIPTION:En un abocador ple d’escombraries dos amics entren en el territori dels mites clàssics i les transformacions. \n\n\nObjectes inútils cobren una vida inesperada per a contar-nos històries de Déus\, reis\, nimfes i herois. Un relat sorprenent i divertit en el qual el públic admirarà les metamorfosis del Rei Mides\, Faetó\, Eco o Narcís. \nUn espectacle de titelles que introduïx als xicotets espectadors en el gran llibre de la mitologia clàssica Les metamorfosis\, del poeta Publio Ovidio Nasón. \nAdaptació didàctica i lúdica que parla de la transformació com a motor de l’univers\, comparant l’explicació mitològica del món amb la científica. Perquè res comença ni acaba\, tot es transforma.
URL:https://familiespelvalencia.org/activitat/el-rei-mides-i-la-metamorfosi/2026-02-14/3/
LOCATION:Sala La Carreta\, Carrer Pedro Moreno Sastre\, 112\, Elx\, Baix Vinalopó\, 03205
CATEGORIES:Comarques del sud
ATTACH;FMTTYPE=image/jpeg:https://familiespelvalencia.org/wp-content/uploads/2026/01/baixa.jpg
GEO:38.2753621;-0.7160597
X-APPLE-STRUCTURED-LOCATION;VALUE=URI;X-ADDRESS=Sala La Carreta Carrer Pedro Moreno Sastre 112 Elx Baix Vinalopó 03205;X-APPLE-RADIUS=500;X-TITLE=Carrer Pedro Moreno Sastre\, 112:geo:-0.7160597,38.2753621
END:VEVENT
BEGIN:VEVENT
DTSTART;TZID=Europe/Paris:20260220T100000
DTEND;TZID=Europe/Paris:20260222T140000
DTSTAMP:20260420T221001
CREATED:20260209T204357Z
LAST-MODIFIED:20260209T204828Z
UID:10000934-1771581600-1771768800@familiespelvalencia.org
SUMMARY:Plaça del Llibre d’Alacant
DESCRIPTION:La Plaça del Llibre d’Alacant torna del 20 al 22 de febrer amb una edició molt viva i oberta a tots els públics. Les activitats familiars i infantils hi tenen un paper central\, amb propostes tan diverses com activitats escolars\, contacontes\, concerts\, tallers creatius o l’espectacles per als més menuts\, així com per a públic juvenil. Totes elles estan pensades per acostar la lectura i la creativitat als xiquets i xiquetes\, fent de la plaça un espai acollidor\, participatiu i plenament en valencià. \nPer conéixer totes les activitats de l’edició\, pots consultar ací el PROGRAMA COMPLET. \n 
URL:https://familiespelvalencia.org/activitat/6865/
LOCATION:Plaça Sèneca.- Alacant\, Plaça Sèneca\, Alacant\, L'Alacantí\, 03003
CATEGORIES:Comarques del sud
ATTACH;FMTTYPE=image/jpeg:https://familiespelvalencia.org/wp-content/uploads/2026/02/Placa-del-Llibre.jpg
END:VEVENT
BEGIN:VEVENT
DTSTART;TZID=Europe/Paris:20260222T103000
DTEND;TZID=Europe/Paris:20260222T140000
DTSTAMP:20260420T221001
CREATED:20260222T093555Z
LAST-MODIFIED:20260222T093619Z
UID:10000982-1771756200-1771768800@familiespelvalencia.org
SUMMARY:Contacontes. Xaro (18é Intercanvi de Llavors Tradicionals)
DESCRIPTION:Turballos torna a convertir-se en punt de trobada de la biodiversitat\, els sabers populars i l’estima per la terra amb una nova edició de l’Intercanvi de Llavors Tradicionals\, una cita ja imprescindible al calendari agroecològic del País Valencià. Durant tota la jornada hi haurà intercanvi de llavors\, tallers\, artesania\, música i activitats pensades per a tota la família. Un dels moments més esperats per a la xicalla serà l’espai de contacontes i titelles\, programat dins les activitats familiars del matí (cap a les 11.00 h)\, on les històries\, la imaginació i la tradició oral es donen la mà en un entorn rural únic. Una proposta ideal perquè xiquets i xiquetes gaudisquen mentre aprenen a estimar la natura i la cultura popular. \nMés informació: Ajuntament de Muro
URL:https://familiespelvalencia.org/activitat/contacontes-xaro/
LOCATION:Turballos (Muro d’Alcoi)\, Turballos\, El Comtat\, 03839
CATEGORIES:Comarques centrals
ATTACH;FMTTYPE=image/png:https://familiespelvalencia.org/wp-content/uploads/2026/02/intercanvi-llavors-Muro.png
END:VEVENT
BEGIN:VEVENT
DTSTART;TZID=Europe/Paris:20260222T110000
DTEND;TZID=Europe/Paris:20260222T120000
DTSTAMP:20260420T221001
CREATED:20260119T123948Z
LAST-MODIFIED:20260222T090202Z
UID:10000753-1771758000-1771761600@familiespelvalencia.org
SUMMARY:Teatre. Sherezade
DESCRIPTION:Cia. Contrahecho Produccions \nSHEREZADE\, es tracta d’un concert teatralitzat amb música en directe. Un espectacle per als més menuts sobre el mite de Sherezade\, amb música de N. Rimsky-Kórsakov\, que barreja les disciplines de la dansa i la música. Una producció del Palau de la Música de València i de Contrahecho producciones \nFamiliar. A partir de 5 anys. // Durada 55 min // Accés exclusiu per a xiquets i xiquetes acompanyats d’adults. \nImportant. Aformanent limitat. Cal entrada pèvia. Les entrades gratuïtes estaran disponibles al Punt d’Informació del Centre Cultural La Beneficència\, en horari de 10.00 a 20.00 hores\, a partir del dimarts previ a l’activitat.
URL:https://familiespelvalencia.org/activitat/contacontes-sherezade/
LOCATION:La Beneficiència\, C/Corona\, 36\, València\, L'Horta\, 46003
CATEGORIES:València - districte capital
ATTACH;FMTTYPE=image/jpeg:https://familiespelvalencia.org/wp-content/uploads/2026/01/Sherezade2.jpg
GEO:39.4788387;-0.382941
X-APPLE-STRUCTURED-LOCATION;VALUE=URI;X-ADDRESS=La Beneficiència C/Corona 36 València L'Horta 46003;X-APPLE-RADIUS=500;X-TITLE=C/Corona\, 36:geo:-0.382941,39.4788387
END:VEVENT
BEGIN:VEVENT
DTSTART;TZID=Europe/Paris:20260222T113000
DTEND;TZID=Europe/Paris:20260222T121000
DTSTAMP:20260420T221001
CREATED:20260201T101322Z
LAST-MODIFIED:20260201T102033Z
UID:10000826-1771759800-1771762200@familiespelvalencia.org
SUMMARY:Teatre. Magatzem de somnis
DESCRIPTION:A càrrec de : Nelo Sebastián (Vudú Teatro). Baix de l’escenari d’un antic teatre\, un home té cura d’un magatzem molt especial: hi guarda titelles\, vestuaris i decorats que ja no s’utilitzen\, i allí allò oblidat no desapareix… es transforma i torna a estrenar-se. Així\, quan tot acaba a dalt\, una nova funció comença a baix. Ens endinsem en el seu univers? \nDurada: 40 minuits / A partir de 6 anys \nMés informació i venda d’entrades: Teatre Escalante
URL:https://familiespelvalencia.org/activitat/teatre-magatzem-de-somnis/2026-02-22/
LOCATION:Ribes Espai Cultural\, Carrer de les Filipines\, 2 (Barri de Russafa)\, València\, L'Horta\, 46004
CATEGORIES:València - districte capital
GEO:39.4582381;-0.3772651
X-APPLE-STRUCTURED-LOCATION;VALUE=URI;X-ADDRESS=Ribes Espai Cultural Carrer de les Filipines 2 (Barri de Russafa) València L'Horta 46004;X-APPLE-RADIUS=500;X-TITLE=Carrer de les Filipines\, 2 (Barri de Russafa):geo:-0.3772651,39.4582381
END:VEVENT
BEGIN:VEVENT
DTSTART;TZID=Europe/Paris:20260222T113000
DTEND;TZID=Europe/Paris:20260222T123000
DTSTAMP:20260420T221001
CREATED:20260129T211925Z
LAST-MODIFIED:20260129T211925Z
UID:10000790-1771759800-1771763400@familiespelvalencia.org
SUMMARY:Reptes de ciència. Taller
DESCRIPTION:Tic-tac\, tic-tac… posem en marxa el cronòmetre! Tens poc temps per resoldre un repte i\, quan ho aconsegueixis\, trobaràs la clau per poder fer un experiment. En el moment en què ho facis\, desbloquejaràs un altre repte i\, així\, fins que aconsegueixis resoldre totes les proves d’aquesta activitat\, estructurada mitjançant una dinàmica semblant a la d’un escape room. Seràs capaç de resoldre’ls tots? Dividits en petits grups per resoldre els enigmes plantejats\, els participants necessitaran una bona dosi de raonament\, enginy i pensament crític per sortir-ne triomfants. Utilitzant les mans i el cervell\, investigaran\, experimentaran i provaran fins a resoldre les preguntes plantejades des de diferents camps de la ciència: experiències relacionades amb l’òptica\, l’electricitat\, el magnetisme\, la mecànica\, l’acústica… I tot\, amb materials senzills i fàcilment reproduïbles a casa. \nActivitat recomanada a partir de 8 anys. // Durada del taller: 1 h \nImportant: Els Xiquets i xiquetes han d’anar sempre acompanyats d’un adult que també haurà de reservar una entrada per a l’activitat \nMés informació i venda d’entrades: web de caixaforum
URL:https://familiespelvalencia.org/activitat/reptes-de-ciencia-taller/2026-02-22/
LOCATION:Caixa Forum\, Ciutat de les Arts i les Ciències\, C/ Eduardo Primo Yúfera\, 1A\, València\, 46013
CATEGORIES:València - districte capital
ATTACH;FMTTYPE=image/webp:https://familiespelvalencia.org/wp-content/uploads/2026/01/Reptes-de-ciencia.webp
GEO:39.4538716;-0.3498098
X-APPLE-STRUCTURED-LOCATION;VALUE=URI;X-ADDRESS=Caixa Forum Ciutat de les Arts i les Ciències C/ Eduardo Primo Yúfera 1A València 46013;X-APPLE-RADIUS=500;X-TITLE=Ciutat de les Arts i les Ciències\, C/ Eduardo Primo Yúfera\, 1A:geo:-0.3498098,39.4538716
END:VEVENT
BEGIN:VEVENT
DTSTART;TZID=Europe/Paris:20260222T113000
DTEND;TZID=Europe/Paris:20260222T123000
DTSTAMP:20260420T221001
CREATED:20260202T210419Z
LAST-MODIFIED:20260202T210419Z
UID:10000872-1771759800-1771763400@familiespelvalencia.org
SUMMARY:Visita en família: Petits músics a la recerca de les matemàtiques
DESCRIPTION:I si la música i les matemàtiques són més semblants del que sembla? I si són tan i tan semblants que per inventar-nos una melodia hem de parlar d’ones sonores\, de proporcions i de càlculs? En aquesta visita dinamitzada\, les matemàtiques ens ajudaran a entendre\, crear i compondre música. Ho farem amb el guiatge d’una persona educadora\, tot experimentant amb els interactius de l’exposició i a partir d’un joc de construcció sonora. Cantar i sumar\, tocar i multiplicar\, compondre i calcular… T’hi atreveixes? \nPetits músics a la recerca de les matemàtiques\, a partir de 4 anys. \nMés informació i venda d’entrades: Web Caixa Fòrum \nEls xiquets i xiquetes han d’anar acompanyats sempre d’un adult\, que també ha de reservar una entrada per a l’activitat.
URL:https://familiespelvalencia.org/activitat/visita-en-familia-petits-musics-a-la-recerca-de-les-matematiques/2026-02-22/
LOCATION:Caixa Forum\, Ciutat de les Arts i les Ciències\, C/ Eduardo Primo Yúfera\, 1A\, València\, 46013
CATEGORIES:València - districte capital
ATTACH;FMTTYPE=image/webp:https://familiespelvalencia.org/wp-content/uploads/2026/02/petits-musics-a-la-recerca-de-les-matematiques.webp
GEO:39.4538716;-0.3498098
X-APPLE-STRUCTURED-LOCATION;VALUE=URI;X-ADDRESS=Caixa Forum Ciutat de les Arts i les Ciències C/ Eduardo Primo Yúfera 1A València 46013;X-APPLE-RADIUS=500;X-TITLE=Ciutat de les Arts i les Ciències\, C/ Eduardo Primo Yúfera\, 1A:geo:-0.3498098,39.4538716
END:VEVENT
BEGIN:VEVENT
DTSTART;TZID=Europe/Paris:20260222T113000
DTEND;TZID=Europe/Paris:20260222T125000
DTSTAMP:20260420T221001
CREATED:20260210T212212Z
LAST-MODIFIED:20260210T212212Z
UID:10000946-1771759800-1771764600@familiespelvalencia.org
SUMMARY:Cinema. Nina i el secret de l'eriçó
DESCRIPTION:A la Nina li agrada anar a dormir escoltant les històries que el seu pare li conta\, les d’un eriçó que descobreix el món. Una nit\, el seu pare\, preocupat pel treball\, no segueix el ritual i no li conta una nova aventura. Afortunadament\, el seu millor amic en Mehdi és allí per a ajudar-la a trobar una solució: Què passaria si el tresor amagat en l’antiga fàbrica pogués resoldre tots els seus problemes? \nDurada: 78 min \nDirecció: Alain Gagnol\, Jean-Loup Felicioli
URL:https://familiespelvalencia.org/activitat/cinema-nina-i-el-secret-de-lerico/
LOCATION:Teatre Serrano\, Gandia\, Pg. de les Germanies\, 29\, Gandia\, La Safor\, 46702
CATEGORIES:Comarques centrals
ATTACH;FMTTYPE=image/webp:https://familiespelvalencia.org/wp-content/uploads/2026/02/Nina-i-el-secret-de-lerico.webp
END:VEVENT
BEGIN:VEVENT
DTSTART;TZID=Europe/Paris:20260222T120000
DTEND;TZID=Europe/Paris:20260222T123000
DTSTAMP:20260420T221001
CREATED:20260207T064941Z
LAST-MODIFIED:20260207T065642Z
UID:10000929-1771761600-1771763400@familiespelvalencia.org
SUMMARY:Documental al Planetari. Explorant el sistema solar
DESCRIPTION:Producció espectacular que ens mostra els planetes veïns de la Terra. Aquest documental ens transporta\, en un viatge extraordinari\, a diferents escenaris del sistema solar interior i aconsegueix despertar la curiositat en el públic a l’hora d’entendre i apreciar aspectes de cossos com la Lluna\, Venus\, Mart\, asteroides i estrelles\, fins ara desconeguts per a la gran majoria. El Món Anell no fa referència a una estructura artificial com en la novel·la de Larry Niven\, sinó a Gliese 581g\, un exoplaneta que podria tindre una zona habitable en forma d’anell en tota la franja del capvespre. \nPúblic: jove // Durada: 24 minuts \nMés informació i venda d’entrades: Planetari de Castelló
URL:https://familiespelvalencia.org/activitat/documental-al-planetari-explorant-el-sistema-solar-8/2026-02-22/
LOCATION:Planetari de Castelló\, Passeig Marítim\, 1 (Grau de Castelló)\, Castelló\, Plana Alta\, 12100
CATEGORIES:Comarques del nord
ATTACH;FMTTYPE=image/png:https://familiespelvalencia.org/wp-content/uploads/2026/02/Explorant.png
GEO:39.9793318;0.022053
X-APPLE-STRUCTURED-LOCATION;VALUE=URI;X-ADDRESS=Planetari de Castelló Passeig Marítim 1 (Grau de Castelló) Castelló Plana Alta 12100;X-APPLE-RADIUS=500;X-TITLE=Passeig Marítim\, 1 (Grau de Castelló):geo:0.022053,39.9793318
END:VEVENT
BEGIN:VEVENT
DTSTART;TZID=Europe/Paris:20260222T120000
DTEND;TZID=Europe/Paris:20260222T130000
DTSTAMP:20260420T221001
CREATED:20260115T185301Z
LAST-MODIFIED:20260115T185423Z
UID:10000732-1771761600-1771765200@familiespelvalencia.org
SUMMARY:Espectacle titelles. La Tempesta
DESCRIPTION:A en Pablito li ronda pel cap\, des de fa un temps\, un núvol que no li deixa ni veure el sol\, ni ballar\, ni escriure; a més\, li apaga la llum del somriure i fins i tot els trons li fan mal a la panxa. En Pablito sap que\, perquè aquest núvol desaparega\, primer ha de ploure. En aquesta odissea de barri acompanyarem un heroi que no necessita ni poders\, ni conquestes\, ni regnes… Ell l’únic que vol és plorar\, i encara que no sap ben bé com fer-ho\, val la pena aprendre’n\, perquè després de tota tempesta sempre arriba la calma. \nDirecció: Julieta Gascón i José Puchades (Putxa) // Guió: José Puchades (Putxa)\, amb la col·laboració de Julieta Gascón i l’equip d’intèrprets (Iona Balcells\, Victoria Minguez i Ramón Rodenas) \nActivitat recomanada a partir de 7 anys.
URL:https://familiespelvalencia.org/activitat/espectacle-titelles-la-tempesta/
LOCATION:Caixa Forum\, Ciutat de les Arts i les Ciències\, C/ Eduardo Primo Yúfera\, 1A\, València\, 46013
CATEGORIES:València - districte capital
ATTACH;FMTTYPE=image/webp:https://familiespelvalencia.org/wp-content/uploads/2026/01/La-tempesta.webp
GEO:39.4538716;-0.3498098
X-APPLE-STRUCTURED-LOCATION;VALUE=URI;X-ADDRESS=Caixa Forum Ciutat de les Arts i les Ciències C/ Eduardo Primo Yúfera 1A València 46013;X-APPLE-RADIUS=500;X-TITLE=Ciutat de les Arts i les Ciències\, C/ Eduardo Primo Yúfera\, 1A:geo:-0.3498098,39.4538716
END:VEVENT
BEGIN:VEVENT
DTSTART;TZID=Europe/Paris:20260222T120000
DTEND;TZID=Europe/Paris:20260222T130000
DTSTAMP:20260420T221001
CREATED:20260126T213949Z
LAST-MODIFIED:20260222T143335Z
UID:10000766-1771761600-1771765200@familiespelvalencia.org
SUMMARY:Una cosa lleugera
DESCRIPTION:Una cosa lleugera és una coreografia per a tres intèrprets i un convidat especial: l’aire. Una peça que s’eleva i ens fa surar entre meduses\, tendes de campanya i criatures estranyes que apareixen\, s’unflen\, s’encongeixen i queden suspeses per la mà invisible d’un simple corrent d’aire. \nUn joc que destaca dues idees: la lleugeresa i la flexibilitat; i que busca el gaudiment\, l’humor i la poesia fins i tot en la cosa més quotidiana. Una celebració d’allò més senzill. Una experiència que ens ajuda a meravellar-nos amb les coses xicotetes. \nUna peça d’arts vives per a públic familiar que explora\, a través del moviment i la coreografia\, els conceptes de lleugeresa i flexibilitat. Un espai d’experimentació i joc\, on infants i adults poden descobrir altres formes de moviment i relació: cossos que floten\, es dobleguen\, s’adapten i es deixen portar per forces imprevisibles. \nESTRENA  \nArts Vives  \nValencià  \n40’  \nPúblic familiar a partir de 5 anys  
URL:https://familiespelvalencia.org/activitat/una-cosa-lleugera/
LOCATION:Sala L’Horta\, Carrer Sant Martí de Porres\, 17 (Poblats del Sud)\, Castellar-L'Oliveral.- València\, L'Horta\, 46026
CATEGORIES:València - districte capital
GEO:39.4247911;-0.3653518
X-APPLE-STRUCTURED-LOCATION;VALUE=URI;X-ADDRESS=Sala L’Horta Carrer Sant Martí de Porres 17 (Poblats del Sud) Castellar-L'Oliveral.- València L'Horta 46026;X-APPLE-RADIUS=500;X-TITLE=Carrer Sant Martí de Porres\, 17 (Poblats del Sud):geo:-0.3653518,39.4247911
END:VEVENT
BEGIN:VEVENT
DTSTART;TZID=Europe/Paris:20260222T120000
DTEND;TZID=Europe/Paris:20260222T130000
DTSTAMP:20260420T221001
CREATED:20260213T205643Z
LAST-MODIFIED:20260213T205903Z
UID:10000959-1771761600-1771765200@familiespelvalencia.org
SUMMARY:Teatre. Plom!
DESCRIPTION:Teatre. PLOM!. La vertadera història del soldat de plom de Combinats. \nPlom és un joguet amb una sola cama\, es desperta en una caixa de joguets abandonats i sense recordar de quina manera ni per què ha arribat ahí\, comença una aventura rodejat de pintorescs personatges que l’ajuden en el propòsit de recuperar els records perduts. \nCOMBINATS adapta aquest clàssic per tal de donar visibilitat a temes com la diversitat funcional i els valors humans\, amb el seu particular segell d’humor\, sensibilitat i diversió. \nDurada 60 min // Públic familiar a partir de  5 anys \nEntrada: lliure limitada a l’aforament del local
URL:https://familiespelvalencia.org/activitat/teatre-plom/
LOCATION:Teatre Auditori Centre Social.- Dénia\, C/ Calderón\, 4\, Dénia\, Marina Alta\, 03700
CATEGORIES:Comarques centrals
ATTACH;FMTTYPE=image/png:https://familiespelvalencia.org/wp-content/uploads/2026/02/Plom.png
GEO:38.840564;0.1114
X-APPLE-STRUCTURED-LOCATION;VALUE=URI;X-ADDRESS=Teatre Auditori Centre Social.- Dénia C/ Calderón 4 Dénia Marina Alta 03700;X-APPLE-RADIUS=500;X-TITLE=C/ Calderón\, 4:geo:0.1114,38.840564
END:VEVENT
BEGIN:VEVENT
DTSTART;TZID=Europe/Paris:20260222T120000
DTEND;TZID=Europe/Paris:20260222T130000
DTSTAMP:20260420T221001
CREATED:20260216T093441Z
LAST-MODIFIED:20260216T093609Z
UID:10000965-1771761600-1771765200@familiespelvalencia.org
SUMMARY:Contacontes. Contes de la selva
DESCRIPTION:A càrrec de Joanvi Cubedo (Tio Vicent: actor/narrador) \nDins del repertori Xip\, Xap\, Conte Contat\, ens endinsem en un univers ple d’animals fantàstics i paisatges exuberants. En aquesta sessió\, les xiquetes i els xiquets viatjaran fins al cor de la selva a través de contes que bateguen amb ritme\, humor i tendresa. Entre llacs tranquils i criatures sorprenents\, cada història esdevé una aventura viva\, capaç de despertar la curiositat\, les emocions i l’imaginari més salvatge. Una proposta plena de color i proximitat que transforma la narració oral en un joc compartit\, ideal per gaudir-la en família. \nMés informació i venda entrades: Espai Rebombori
URL:https://familiespelvalencia.org/activitat/contacontes-poemes-i-rondalles-de-carnestoltes-2/
LOCATION:Espai Rebombori\, C/ del Dibuixant Manuel Gago\, 14 (Patraix)\, València\, 46018
CATEGORIES:València - districte capital
ATTACH;FMTTYPE=image/jpeg:https://familiespelvalencia.org/wp-content/uploads/2026/02/CARTELL-DANIMALS-22.II_.26.jpg
GEO:39.4623751;-0.39132
X-APPLE-STRUCTURED-LOCATION;VALUE=URI;X-ADDRESS=Espai Rebombori C/ del Dibuixant Manuel Gago 14 (Patraix) València 46018;X-APPLE-RADIUS=500;X-TITLE=C/ del Dibuixant Manuel Gago\, 14 (Patraix):geo:-0.39132,39.4623751
END:VEVENT
BEGIN:VEVENT
DTSTART;TZID=Europe/Paris:20260222T180000
DTEND;TZID=Europe/Paris:20260222T190000
DTSTAMP:20260420T221001
CREATED:20251217T144723Z
LAST-MODIFIED:20260119T114549Z
UID:10000640-1771783200-1771786800@familiespelvalencia.org
SUMMARY:Teatre. Fabulant de JM Produccions
DESCRIPTION:Juan i Greta\, dos germans de tretze i huit anys\, queden tancats en un teatre durant una visita guiada. De sobte\, es troben amb Jacobo i Guillem\, altres dos germans que també caminen perduts. Molt prompte\, descobriran que les dos parelles de germans arriben d’èpoques molt separades: més de dos segles de diferència! A partir d’eixe moment\, entendran que el millor que poden fer per a solucionar els problemes en comú és unir les seues forces i utilitzar la seua imaginació com la millor de les seues ferramentes. \nTeatre infantil i familiar. // Durada 60 min \n 
URL:https://familiespelvalencia.org/activitat/fabulant-de-jm-produccions/
LOCATION:Teatre Agrícola\, C. Cervantes\, 3\,\, Alboraia\, L'Horta\, 46120
CATEGORIES:Comarques Túria–Xúquer
ATTACH;FMTTYPE=image/jpeg:https://familiespelvalencia.org/wp-content/uploads/2025/12/2024-3-24-fabulant.jpg
GEO:39.4998136;-0.3491286
X-APPLE-STRUCTURED-LOCATION;VALUE=URI;X-ADDRESS=Teatre Agrícola C. Cervantes 3 Alboraia L'Horta 46120;X-APPLE-RADIUS=500;X-TITLE=C. Cervantes\, 3\,:geo:-0.3491286,39.4998136
END:VEVENT
END:VCALENDAR