BEGIN:VCALENDAR
VERSION:2.0
PRODID:-//FAMÍLIES PEL VALENCIÀ - ECPv6.15.20//NONSGML v1.0//EN
CALSCALE:GREGORIAN
METHOD:PUBLISH
X-ORIGINAL-URL:https://familiespelvalencia.org
X-WR-CALDESC:Esdeveniments per FAMÍLIES PEL VALENCIÀ
REFRESH-INTERVAL;VALUE=DURATION:PT1H
X-Robots-Tag:noindex
X-PUBLISHED-TTL:PT1H
BEGIN:VTIMEZONE
TZID:Europe/Paris
BEGIN:DAYLIGHT
TZOFFSETFROM:+0100
TZOFFSETTO:+0200
TZNAME:CEST
DTSTART:20250330T010000
END:DAYLIGHT
BEGIN:STANDARD
TZOFFSETFROM:+0200
TZOFFSETTO:+0100
TZNAME:CET
DTSTART:20251026T010000
END:STANDARD
BEGIN:DAYLIGHT
TZOFFSETFROM:+0100
TZOFFSETTO:+0200
TZNAME:CEST
DTSTART:20260329T010000
END:DAYLIGHT
BEGIN:STANDARD
TZOFFSETFROM:+0200
TZOFFSETTO:+0100
TZNAME:CET
DTSTART:20261025T010000
END:STANDARD
BEGIN:DAYLIGHT
TZOFFSETFROM:+0100
TZOFFSETTO:+0200
TZNAME:CEST
DTSTART:20270328T010000
END:DAYLIGHT
BEGIN:STANDARD
TZOFFSETFROM:+0200
TZOFFSETTO:+0100
TZNAME:CET
DTSTART:20271031T010000
END:STANDARD
END:VTIMEZONE
BEGIN:VEVENT
DTSTART;TZID=Europe/Paris:20260214T120000
DTEND;TZID=Europe/Paris:20260302T130000
DTSTAMP:20260420T232725
CREATED:20260126T214644Z
LAST-MODIFIED:20260303T122630Z
UID:10000767-1771070400-1772456400@familiespelvalencia.org
SUMMARY:El rei Mides i la metamorfosi
DESCRIPTION:En un abocador ple d’escombraries dos amics entren en el territori dels mites clàssics i les transformacions. \n\n\nObjectes inútils cobren una vida inesperada per a contar-nos històries de Déus\, reis\, nimfes i herois. Un relat sorprenent i divertit en el qual el públic admirarà les metamorfosis del Rei Mides\, Faetó\, Eco o Narcís. \nUn espectacle de titelles que introduïx als xicotets espectadors en el gran llibre de la mitologia clàssica Les metamorfosis\, del poeta Publio Ovidio Nasón. \nAdaptació didàctica i lúdica que parla de la transformació com a motor de l’univers\, comparant l’explicació mitològica del món amb la científica. Perquè res comença ni acaba\, tot es transforma.
URL:https://familiespelvalencia.org/activitat/el-rei-mides-i-la-metamorfosi/2026-02-14/3/
LOCATION:Sala La Carreta\, Carrer Pedro Moreno Sastre\, 112\, Elx\, Baix Vinalopó\, 03205
CATEGORIES:Comarques del sud
ATTACH;FMTTYPE=image/jpeg:https://familiespelvalencia.org/wp-content/uploads/2026/01/baixa.jpg
GEO:38.2753621;-0.7160597
X-APPLE-STRUCTURED-LOCATION;VALUE=URI;X-ADDRESS=Sala La Carreta Carrer Pedro Moreno Sastre 112 Elx Baix Vinalopó 03205;X-APPLE-RADIUS=500;X-TITLE=Carrer Pedro Moreno Sastre\, 112:geo:-0.7160597,38.2753621
END:VEVENT
BEGIN:VEVENT
DTSTART;TZID=Europe/Paris:20260215T113000
DTEND;TZID=Europe/Paris:20260215T123000
DTSTAMP:20260420T232725
CREATED:20260202T210419Z
LAST-MODIFIED:20260202T210419Z
UID:10000871-1771155000-1771158600@familiespelvalencia.org
SUMMARY:Visita en família: Petits músics a la recerca de les matemàtiques
DESCRIPTION:I si la música i les matemàtiques són més semblants del que sembla? I si són tan i tan semblants que per inventar-nos una melodia hem de parlar d’ones sonores\, de proporcions i de càlculs? En aquesta visita dinamitzada\, les matemàtiques ens ajudaran a entendre\, crear i compondre música. Ho farem amb el guiatge d’una persona educadora\, tot experimentant amb els interactius de l’exposició i a partir d’un joc de construcció sonora. Cantar i sumar\, tocar i multiplicar\, compondre i calcular… T’hi atreveixes? \nPetits músics a la recerca de les matemàtiques\, a partir de 4 anys. \nMés informació i venda d’entrades: Web Caixa Fòrum \nEls xiquets i xiquetes han d’anar acompanyats sempre d’un adult\, que també ha de reservar una entrada per a l’activitat.
URL:https://familiespelvalencia.org/activitat/visita-en-familia-petits-musics-a-la-recerca-de-les-matematiques/2026-02-15/
LOCATION:Caixa Forum\, Ciutat de les Arts i les Ciències\, C/ Eduardo Primo Yúfera\, 1A\, València\, 46013
CATEGORIES:València - districte capital
ATTACH;FMTTYPE=image/webp:https://familiespelvalencia.org/wp-content/uploads/2026/02/petits-musics-a-la-recerca-de-les-matematiques.webp
GEO:39.4538716;-0.3498098
X-APPLE-STRUCTURED-LOCATION;VALUE=URI;X-ADDRESS=Caixa Forum Ciutat de les Arts i les Ciències C/ Eduardo Primo Yúfera 1A València 46013;X-APPLE-RADIUS=500;X-TITLE=Ciutat de les Arts i les Ciències\, C/ Eduardo Primo Yúfera\, 1A:geo:-0.3498098,39.4538716
END:VEVENT
BEGIN:VEVENT
DTSTART;TZID=Europe/Paris:20260215T113000
DTEND;TZID=Europe/Paris:20260215T130000
DTSTAMP:20260420T232725
CREATED:20260129T212813Z
LAST-MODIFIED:20260129T212813Z
UID:10000802-1771155000-1771160400@familiespelvalencia.org
SUMMARY:Reptes de ciència: Grans apotacions de dones científiques. Taller
DESCRIPTION:Sabies qui van ser Mária Telkes\, Daphne Oram\, Leena Gade\, Annie Easley o Johanna Weber? A través de l’experimentació\, coneixerem les imprescindibles aportacions d’aquestes cinc dones investigadores que van revolucionar la ciència tal com la coneixem avui dia. Tic\, tac\, tic\, tac… posem en marxa el cronòmetre! Tens poc temps per resoldre un repte. Quan ho aconsegueixis\, trobaràs la clau per poder fer un experiment relacionat amb els descobriments científics d’una dona investigadora. Fes-ho i desbloquejaràs un altre repte i\, així\, fins que aconsegueixis resoldre totes les proves d’aquesta activitat. Seràs capaç de resoldre-les totes? Per mitjà d’una dinàmica similar a la d’un escape room\, els assistents es divideixen en petits grups per resoldre els enigmes. Per fer-ho necessitaran bones dosis de raonament\, enginy i pensament crític. \nFent servir les mans i el cervell\, indagaran\, experimentaran i aniran provant fins que resoldran les preguntes que es plantegen des de diversos camps de la ciència: l’òptica\, l’electricitat\, el magnetisme\, la mecànica\, l’acústica… Tot això\, amb materials senzills i fàcilment reproduïbles a casa. \nActivitat recomanada a partir de 8 anys. // Durada: 1h 30m // Activitat gratuïta en motiu del Dia Internacional de la Dona i la Nena a la Ciència \nImportant: Els Xiquets i xiquetes han d’anar sempre acompanyats d’un adult que també haurà de reservar una entrada per a l’activitat \nMés informació i venda d’entrades: web de caixaforum
URL:https://familiespelvalencia.org/activitat/reptes-de-ciencia-grans-apotacions-de-dones-cientifiques-taller-2/2026-02-15/
LOCATION:Caixa Forum\, Ciutat de les Arts i les Ciències\, C/ Eduardo Primo Yúfera\, 1A\, València\, 46013
CATEGORIES:València - districte capital
ATTACH;FMTTYPE=image/webp:https://familiespelvalencia.org/wp-content/uploads/2026/01/Grans-aportacions.webp
GEO:39.4538716;-0.3498098
X-APPLE-STRUCTURED-LOCATION;VALUE=URI;X-ADDRESS=Caixa Forum Ciutat de les Arts i les Ciències C/ Eduardo Primo Yúfera 1A València 46013;X-APPLE-RADIUS=500;X-TITLE=Ciutat de les Arts i les Ciències\, C/ Eduardo Primo Yúfera\, 1A:geo:-0.3498098,39.4538716
END:VEVENT
BEGIN:VEVENT
DTSTART;TZID=Europe/Paris:20260215T120000
DTEND;TZID=Europe/Paris:20260215T123000
DTSTAMP:20260420T232725
CREATED:20260207T064941Z
LAST-MODIFIED:20260207T065642Z
UID:10000928-1771156800-1771158600@familiespelvalencia.org
SUMMARY:Documental al Planetari. Explorant el sistema solar
DESCRIPTION:Producció espectacular que ens mostra els planetes veïns de la Terra. Aquest documental ens transporta\, en un viatge extraordinari\, a diferents escenaris del sistema solar interior i aconsegueix despertar la curiositat en el públic a l’hora d’entendre i apreciar aspectes de cossos com la Lluna\, Venus\, Mart\, asteroides i estrelles\, fins ara desconeguts per a la gran majoria. El Món Anell no fa referència a una estructura artificial com en la novel·la de Larry Niven\, sinó a Gliese 581g\, un exoplaneta que podria tindre una zona habitable en forma d’anell en tota la franja del capvespre. \nPúblic: jove // Durada: 24 minuts \nMés informació i venda d’entrades: Planetari de Castelló
URL:https://familiespelvalencia.org/activitat/documental-al-planetari-explorant-el-sistema-solar-8/2026-02-15/
LOCATION:Planetari de Castelló\, Passeig Marítim\, 1 (Grau de Castelló)\, Castelló\, Plana Alta\, 12100
CATEGORIES:Comarques del nord
ATTACH;FMTTYPE=image/png:https://familiespelvalencia.org/wp-content/uploads/2026/02/Explorant.png
GEO:39.9793318;0.022053
X-APPLE-STRUCTURED-LOCATION;VALUE=URI;X-ADDRESS=Planetari de Castelló Passeig Marítim 1 (Grau de Castelló) Castelló Plana Alta 12100;X-APPLE-RADIUS=500;X-TITLE=Passeig Marítim\, 1 (Grau de Castelló):geo:0.022053,39.9793318
END:VEVENT
BEGIN:VEVENT
DTSTART;TZID=Europe/Paris:20260215T120000
DTEND;TZID=Europe/Paris:20260215T130000
DTSTAMP:20260420T232725
CREATED:20260119T114405Z
LAST-MODIFIED:20260119T114405Z
UID:10000751-1771156800-1771160400@familiespelvalencia.org
SUMMARY:Teatre. Fabulant
DESCRIPTION:Cia. JM Gestión Cultural \nJoan i Greta\, dos germans de tretze i huit anys respectivament\, queden tancats en un teatre durant una visita guiada. De sobte\, es troben amb Jacobo i Guillem\, altres dos germans que també estan perduts. Molt prompte descobriran que les dues parelles de germans comparteixen el mateix espai i els mateixos problemes\, però provenen d’èpoques molt separades: més de dos segles de diferència! A partir d’eixe moment\, entendran que la millor manera de solucionar els problemes en comú és unir forces i utilitzar la imaginació com la millor de les eines. Potser no siga massa tard per adonar-se que\, malgrat les diferències\, els uneixen moltes coses. Un espectacle musical divertit\, sorprenent i que emocionarà menuts i grans! \nLa vida és com un conte. No permetes que ningú l’escriga per tu. \nDurada 60 min // Pensada per a públic infantil a partir de 4 anys
URL:https://familiespelvalencia.org/activitat/teatre-fabulant-2/
LOCATION:Teatre Auditori Centre Social.- Dénia\, C/ Calderón\, 4\, Dénia\, Marina Alta\, 03700
CATEGORIES:Comarques centrals
ATTACH;FMTTYPE=image/jpeg:https://familiespelvalencia.org/wp-content/uploads/2025/12/fabulant.jpg
GEO:38.840564;0.1114
X-APPLE-STRUCTURED-LOCATION;VALUE=URI;X-ADDRESS=Teatre Auditori Centre Social.- Dénia C/ Calderón 4 Dénia Marina Alta 03700;X-APPLE-RADIUS=500;X-TITLE=C/ Calderón\, 4:geo:0.1114,38.840564
END:VEVENT
BEGIN:VEVENT
DTSTART;TZID=Europe/Paris:20260215T120000
DTEND;TZID=Europe/Paris:20260215T130000
DTSTAMP:20260420T232725
CREATED:20260126T213708Z
LAST-MODIFIED:20260126T213708Z
UID:10000765-1771156800-1771160400@familiespelvalencia.org
SUMMARY:L'illa del tresor
DESCRIPTION:Fa molts anys\, va existir un temible pirata que va aconseguir el més gran dels tresors… Hui\, només queden alguns membres de la seua tripulació\, que busquen desesperadament alguna pista que els aprope al valuós or. \nL’illa del tresor és la història d’aquests corsaris i de Jim\, un jove que ajuda la seua mare a portar una vella taverna i que es veurà immers en una aventura plena de pirates\, vaixells i illes desertes. En aquest viatge\, haurà de reconéixer el bé i enfrontar-se al mal. Descobrir el que són realment els tresors i arriscar-se a la pregunta si els malvats tenen dret al perdó. \nTeatre  \n60’  \nValencià  \nPúblic familiar a partir de 8 anys  \nPremi FETEN al Millor Espectacle Multidisciplinar 2025  
URL:https://familiespelvalencia.org/activitat/lilla-del-tresor-2/
LOCATION:Sala L’Horta\, Carrer Sant Martí de Porres\, 17 (Poblats del Sud)\, Castellar-L'Oliveral.- València\, L'Horta\, 46026
CATEGORIES:València - districte capital
ATTACH;FMTTYPE=image/jpeg:https://familiespelvalencia.org/wp-content/uploads/2026/01/lilla-del-tresor.jpg
GEO:39.4247911;-0.3653518
X-APPLE-STRUCTURED-LOCATION;VALUE=URI;X-ADDRESS=Sala L’Horta Carrer Sant Martí de Porres 17 (Poblats del Sud) Castellar-L'Oliveral.- València L'Horta 46026;X-APPLE-RADIUS=500;X-TITLE=Carrer Sant Martí de Porres\, 17 (Poblats del Sud):geo:-0.3653518,39.4247911
END:VEVENT
BEGIN:VEVENT
DTSTART;TZID=Europe/Paris:20260215T123000
DTEND;TZID=Europe/Paris:20260215T133000
DTSTAMP:20260420T232725
CREATED:20260215T093832Z
LAST-MODIFIED:20260215T094320Z
UID:10000964-1771158600-1771162200@familiespelvalencia.org
SUMMARY:Teatre. Martina i el bosc de paper
DESCRIPTION:Cía. L´Horta teatre \nSinopsi: Martina és una xiqueta de paper que viu en una casa de cartó. Un dia troba una papallona preciosa i\, molt contenta\, la caça i la guarda en una gàbia. Buscant-ne més s’endinsa en el bosc\, on es trobarà amb uns companys molt especials: un elefant poregós\, una girafa presumida i molts més amics\, que l’ajudaran a tornar a casa. Pel camí passen fred i calor\, neva\, plou i el sol calfa la terra; naixen plantes\, flors i volen els pardals i les papallones… Un viatge per la natura i una manera lúdica i pedagògica d’acostar-se a les estacions de l’any.\nXxxt! Tot això a través de la mirada innocent i encuriosida d’una xiqueta que aprén a estimar la natura com un amic més. \nDurada: 55 minuts // Públic: A partir de 3 anys \nCreació i direcció: Sergio Martínez i Pau Pons // Intèrprets: Pau Blanco i Laura Valero // Disseny i realització escenografía: Empaperart // Vestuari: Joan Miquel Reig // Banda Sonora: Panchi Vivó // Disseny de llums: Marc Gonzalo// Producció: L’Horta Teatre \nMés informació i venda d’entrades: Ajuntament de Sant Joan d’Alacant
URL:https://familiespelvalencia.org/activitat/teatre-martina-i-el-bosc-de-paper-3/
LOCATION:Auditori Antonio Gil\, Carrer del mar\, 81\, Sant Joan d'Alacant\, L'Alacantí\, 03550
CATEGORIES:Comarques del sud
ATTACH;FMTTYPE=image/jpeg:https://familiespelvalencia.org/wp-content/uploads/2025/11/martina-i-el-bosc-de-paper.jpg
END:VEVENT
BEGIN:VEVENT
DTSTART;TZID=Europe/Paris:20260215T180000
DTEND;TZID=Europe/Paris:20260215T190000
DTSTAMP:20260420T232725
CREATED:20251214T203232Z
LAST-MODIFIED:20251214T214738Z
UID:10000613-1771178400-1771182000@familiespelvalencia.org
SUMMARY:Espectacle.- Petit Break
DESCRIPTION:Amb Petit Break\, la companyia Brodas Bros vol retre un homenatge al Hip Hop i tota la galàxia de ritmes\, músiques i maneres de bellugar-se que l’envolten. Dos personatges inseparables\, la Hip i la Hop\, trobaran el seu lloc dins l’univers de la música. El petit públic que vindrà a veure l’espectacle les acompanyarà en aquest viatge participatiu de descoberta. El beatbox\, el DJing\, l’scratch\, el breakdancing\, el graffiti\, aspectes fonamentals de la cultura del Hip Hop\, passejaran pel nostre escenari omplint-lo de colors. Transformarem l’espai en dos gegants plats de punxar i les nostres dues protagonistes ballaran un espectacular remix de clàssics de l’època. Acompanyant-les en aquest viatge també hi haurà en Beat i la Break.\nUs atreviu a repetir amb nosaltres les paraules màgiques que us faran entrar en aquesta galàxia llunyana (que va néixer a principis dels anys 70)?  «HIP HOP HOUSE POP LOCKING BREAK» \nEdat recomanada de 3 a 9 anys \nMés informació i compra d’entrades: Rambleta \nTràiler.- Petit Break
URL:https://familiespelvalencia.org/activitat/5492/
LOCATION:La Rambleta\, Bulevar Sur\, esq. Carrer Pío IX\, València\, L'Horta\, 46017
CATEGORIES:València - districte capital
ATTACH;FMTTYPE=image/webp:https://familiespelvalencia.org/wp-content/uploads/2025/12/poster-petit-break-scaled-1.webp
GEO:39.447599;-0.392378
X-APPLE-STRUCTURED-LOCATION;VALUE=URI;X-ADDRESS=La Rambleta Bulevar Sur esq. Carrer Pío IX València L'Horta 46017;X-APPLE-RADIUS=500;X-TITLE=Bulevar Sur\, esq. Carrer Pío IX:geo:-0.392378,39.447599
END:VEVENT
BEGIN:VEVENT
DTSTART;TZID=Europe/Paris:20260215T180000
DTEND;TZID=Europe/Paris:20260215T193000
DTSTAMP:20260420T232725
CREATED:20251217T144830Z
LAST-MODIFIED:20251217T202557Z
UID:10000639-1771178400-1771183800@familiespelvalencia.org
SUMMARY:Cinema. MOON\, EL MEU AMIC EL PANDA
DESCRIPTION:Tian té dotze anys quan és enviat a casa de la seua àvia a causa dels seus mals resultats escolars. Lluny de la ciutat\, en les misterioses muntanyes xineses\, es fa amic en secret d’un panda al qual anomena Moon. Això marca el començament d’una increïble aventura que està a punt de canviar la seua vida i la de la seua família. \nCINEMA INFANTIL
URL:https://familiespelvalencia.org/activitat/moon-el-meu-amic-el-panda/
LOCATION:Teatre Agrícola\, C. Cervantes\, 3\,\, Alboraia\, L'Horta\, 46120
CATEGORIES:Comarques Túria–Xúquer
ATTACH;FMTTYPE=image/jpeg:https://familiespelvalencia.org/wp-content/uploads/2025/12/39e384e2872f0eccc2a6f5d43a2ab64915b2d7dd.jpeg
GEO:39.4998136;-0.3491286
X-APPLE-STRUCTURED-LOCATION;VALUE=URI;X-ADDRESS=Teatre Agrícola C. Cervantes 3 Alboraia L'Horta 46120;X-APPLE-RADIUS=500;X-TITLE=C. Cervantes\, 3\,:geo:-0.3491286,39.4998136
END:VEVENT
BEGIN:VEVENT
DTSTART;TZID=Europe/Paris:20260215T183000
DTEND;TZID=Europe/Paris:20260215T194100
DTSTAMP:20260420T232725
CREATED:20251218T131810Z
LAST-MODIFIED:20251218T131810Z
UID:10000642-1771180200-1771184460@familiespelvalencia.org
SUMMARY:Cinema. Els misteriosos contes del pomer
DESCRIPTION:Recomanada a partir de 5 anys // Durada: 71 min \nSinopsi: Quan en Tom (4)\, la Susanna (8) i en Derek (10) visiten el seu avi per primera vegada des que van perdre la seua estimada àvia\, troben la casa tranquil·la i el seu avi distant. Inspirant-se en la seua àvia\, la Susanna assumeix el paper de narradora\, creant contes encantadors per recuperar la calidesa. Ens endinsem en el món d’un gat misteriós i servicial\, un monstre no tan espantós i un home volador agosarat. A mesura que la família s’uneix a través dels seus contes\, descobreixen lliçons importants sobre la valentia\, la bondat i la possibilitat de trobar la llum fins i tot en els moments més foscos de la vida. Portada a la vida amb una impressionant animació stop-motion\, aquesta commovedora pel·lícula mostra com la imaginació i la narració d’històries poden curar\, inspirar i apropar-nos a les persones que més estimem. \nTràiler “Els misteriosos contes del pomer” \nDavid Súkup\, Patrik Pašš\, Leon Vidmar i Jean-Claude Rozec\, República Txeca\, 2025 \nMés informació: Ajuntament de Benicàssim
URL:https://familiespelvalencia.org/activitat/cinema-els-misteriosos-contes-del-pomer/
LOCATION:Teatre Municipal Francesc Tàrrega.- Benicàssim\, Plaça de la Constitució\, s/n\, Benicàssim\, Plana Alta\, 12560
CATEGORIES:Comarques del nord
ATTACH;FMTTYPE=image/jpeg:https://familiespelvalencia.org/wp-content/uploads/2025/12/contes-pomer.jpg
GEO:40.0553841;0.0640455
X-APPLE-STRUCTURED-LOCATION;VALUE=URI;X-ADDRESS=Teatre Municipal Francesc Tàrrega.- Benicàssim Plaça de la Constitució s/n Benicàssim Plana Alta 12560;X-APPLE-RADIUS=500;X-TITLE=Plaça de la Constitució\, s/n:geo:0.0640455,40.0553841
END:VEVENT
BEGIN:VEVENT
DTSTART;TZID=Europe/Paris:20260215T190000
DTEND;TZID=Europe/Paris:20260215T203000
DTSTAMP:20260420T232725
CREATED:20260209T211220Z
LAST-MODIFIED:20260209T211220Z
UID:10000938-1771182000-1771187400@familiespelvalencia.org
SUMMARY:L'illa del tresor
DESCRIPTION:Fa molts anys\, va existir un temible pirata que va aconseguir el més gran dels tresors… Hui\, només queden alguns membres de la seua tripulació\, que busquen desesperadament alguna pista que els aprope al valuós or. \nL’illa del tresor és la història d’aquests corsaris i de Jim\, un jove que ajuda la seua mare a portar una vella taverna i que es veurà immers en una aventura plena de pirates\, vaixells i illes desertes. En aquest viatge\, haurà de reconéixer el bé i enfrontar-se al mal. Descobrir el que són realment els tresors i arriscar-se a la pregunta si els malvats tenen dret al perdó. \nTeatre  \n60’  \nValencià  \nPúblic familiar a partir de 8 anys  \nPremi FETEN al Millor Espectacle Multidisciplinar 2025  
URL:https://familiespelvalencia.org/activitat/lilla-del-tresor-3/
LOCATION:Teatre Serrano\, Gandia\, Pg. de les Germanies\, 29\, Gandia\, La Safor\, 46702
CATEGORIES:Comarques centrals
ATTACH;FMTTYPE=image/jpeg:https://familiespelvalencia.org/wp-content/uploads/2026/01/lilla-del-tresor.jpg
END:VEVENT
END:VCALENDAR