BEGIN:VCALENDAR
VERSION:2.0
PRODID:-//FAMÍLIES PEL VALENCIÀ - ECPv6.15.20//NONSGML v1.0//EN
CALSCALE:GREGORIAN
METHOD:PUBLISH
X-ORIGINAL-URL:https://familiespelvalencia.org
X-WR-CALDESC:Esdeveniments per FAMÍLIES PEL VALENCIÀ
REFRESH-INTERVAL;VALUE=DURATION:PT1H
X-Robots-Tag:noindex
X-PUBLISHED-TTL:PT1H
BEGIN:VTIMEZONE
TZID:Europe/Paris
BEGIN:DAYLIGHT
TZOFFSETFROM:+0100
TZOFFSETTO:+0200
TZNAME:CEST
DTSTART:20250330T010000
END:DAYLIGHT
BEGIN:STANDARD
TZOFFSETFROM:+0200
TZOFFSETTO:+0100
TZNAME:CET
DTSTART:20251026T010000
END:STANDARD
BEGIN:DAYLIGHT
TZOFFSETFROM:+0100
TZOFFSETTO:+0200
TZNAME:CEST
DTSTART:20260329T010000
END:DAYLIGHT
BEGIN:STANDARD
TZOFFSETFROM:+0200
TZOFFSETTO:+0100
TZNAME:CET
DTSTART:20261025T010000
END:STANDARD
BEGIN:DAYLIGHT
TZOFFSETFROM:+0100
TZOFFSETTO:+0200
TZNAME:CEST
DTSTART:20270328T010000
END:DAYLIGHT
BEGIN:STANDARD
TZOFFSETFROM:+0200
TZOFFSETTO:+0100
TZNAME:CET
DTSTART:20271031T010000
END:STANDARD
END:VTIMEZONE
BEGIN:VEVENT
DTSTART;TZID=Europe/Paris:20260211T183000
DTEND;TZID=Europe/Paris:20260211T200000
DTSTAMP:20260420T232726
CREATED:20260129T212813Z
LAST-MODIFIED:20260129T212813Z
UID:10000801-1770834600-1770840000@familiespelvalencia.org
SUMMARY:Reptes de ciència: Grans apotacions de dones científiques. Taller
DESCRIPTION:Sabies qui van ser Mária Telkes\, Daphne Oram\, Leena Gade\, Annie Easley o Johanna Weber? A través de l’experimentació\, coneixerem les imprescindibles aportacions d’aquestes cinc dones investigadores que van revolucionar la ciència tal com la coneixem avui dia. Tic\, tac\, tic\, tac… posem en marxa el cronòmetre! Tens poc temps per resoldre un repte. Quan ho aconsegueixis\, trobaràs la clau per poder fer un experiment relacionat amb els descobriments científics d’una dona investigadora. Fes-ho i desbloquejaràs un altre repte i\, així\, fins que aconsegueixis resoldre totes les proves d’aquesta activitat. Seràs capaç de resoldre-les totes? Per mitjà d’una dinàmica similar a la d’un escape room\, els assistents es divideixen en petits grups per resoldre els enigmes. Per fer-ho necessitaran bones dosis de raonament\, enginy i pensament crític. \nFent servir les mans i el cervell\, indagaran\, experimentaran i aniran provant fins que resoldran les preguntes que es plantegen des de diversos camps de la ciència: l’òptica\, l’electricitat\, el magnetisme\, la mecànica\, l’acústica… Tot això\, amb materials senzills i fàcilment reproduïbles a casa. \nActivitat recomanada a partir de 8 anys. // Durada: 1h 30m // Activitat gratuïta en motiu del Dia Internacional de la Dona i la Nena a la Ciència \nImportant: Els Xiquets i xiquetes han d’anar sempre acompanyats d’un adult que també haurà de reservar una entrada per a l’activitat \nMés informació i venda d’entrades: web de caixaforum
URL:https://familiespelvalencia.org/activitat/reptes-de-ciencia-grans-apotacions-de-dones-cientifiques-taller-2/2026-02-11/
LOCATION:Caixa Forum\, Ciutat de les Arts i les Ciències\, C/ Eduardo Primo Yúfera\, 1A\, València\, 46013
CATEGORIES:València - districte capital
ATTACH;FMTTYPE=image/webp:https://familiespelvalencia.org/wp-content/uploads/2026/01/Grans-aportacions.webp
GEO:39.4538716;-0.3498098
X-APPLE-STRUCTURED-LOCATION;VALUE=URI;X-ADDRESS=Caixa Forum Ciutat de les Arts i les Ciències C/ Eduardo Primo Yúfera 1A València 46013;X-APPLE-RADIUS=500;X-TITLE=Ciutat de les Arts i les Ciències\, C/ Eduardo Primo Yúfera\, 1A:geo:-0.3498098,39.4538716
END:VEVENT
END:VCALENDAR