BEGIN:VCALENDAR
VERSION:2.0
PRODID:-//FAMÍLIES PEL VALENCIÀ - ECPv6.15.20//NONSGML v1.0//EN
CALSCALE:GREGORIAN
METHOD:PUBLISH
X-WR-CALNAME:FAMÍLIES PEL VALENCIÀ
X-ORIGINAL-URL:https://familiespelvalencia.org
X-WR-CALDESC:Esdeveniments per FAMÍLIES PEL VALENCIÀ
REFRESH-INTERVAL;VALUE=DURATION:PT1H
X-Robots-Tag:noindex
X-PUBLISHED-TTL:PT1H
BEGIN:VTIMEZONE
TZID:Europe/Paris
BEGIN:DAYLIGHT
TZOFFSETFROM:+0100
TZOFFSETTO:+0200
TZNAME:CEST
DTSTART:20250330T010000
END:DAYLIGHT
BEGIN:STANDARD
TZOFFSETFROM:+0200
TZOFFSETTO:+0100
TZNAME:CET
DTSTART:20251026T010000
END:STANDARD
BEGIN:DAYLIGHT
TZOFFSETFROM:+0100
TZOFFSETTO:+0200
TZNAME:CEST
DTSTART:20260329T010000
END:DAYLIGHT
BEGIN:STANDARD
TZOFFSETFROM:+0200
TZOFFSETTO:+0100
TZNAME:CET
DTSTART:20261025T010000
END:STANDARD
BEGIN:DAYLIGHT
TZOFFSETFROM:+0100
TZOFFSETTO:+0200
TZNAME:CEST
DTSTART:20270328T010000
END:DAYLIGHT
BEGIN:STANDARD
TZOFFSETFROM:+0200
TZOFFSETTO:+0100
TZNAME:CET
DTSTART:20271031T010000
END:STANDARD
END:VTIMEZONE
BEGIN:VEVENT
DTSTART;TZID=Europe/Paris:20260210T173000
DTEND;TZID=Europe/Paris:20260210T183000
DTSTAMP:20260420T232645
CREATED:20260205T091231Z
LAST-MODIFIED:20260205T091231Z
UID:10000911-1770744600-1770748200@familiespelvalencia.org
SUMMARY:Bebeteca. La Bebeteca musical de Pepot
DESCRIPTION:Una activitat pensada per als més menuts! La Bebeteca musical de Pepot és una experiència sensorial i musical adreçada a bebés i xiquets de 1 a 36 mesos\, on la música es converteix en un joc compartit amb les famílies. Sons\, ritmes i cançons per despertar la curiositat i gaudir junts d’un moment especial. \n👉 Places limitades.\n✅ Cal inscripció prèvia en l’Agència de Lectura de Museros. \nMés informació: Ajuntament de Museros
URL:https://familiespelvalencia.org/activitat/bebeteca-la-bebeteca-musical-de-pepot-2/
LOCATION:Agència de Lectura Municipal Museros\, Carrer de les Escoles Velles\, 1\, Museros\, L'Horta\, 46136\, Spain
CATEGORIES:Comarques Túria–Xúquer
ATTACH;FMTTYPE=image/jpeg:https://familiespelvalencia.org/wp-content/uploads/2026/02/bebeteca-Museros-10-FEBRER.jpg-.jpeg
GEO:39.5639725;-0.3407994
X-APPLE-STRUCTURED-LOCATION;VALUE=URI;X-ADDRESS=Agència de Lectura Municipal Museros Carrer de les Escoles Velles 1 Museros L'Horta 46136 Spain;X-APPLE-RADIUS=500;X-TITLE=Carrer de les Escoles Velles\, 1:geo:-0.3407994,39.5639725
END:VEVENT
BEGIN:VEVENT
DTSTART;TZID=Europe/Paris:20260210T180000
DTEND;TZID=Europe/Paris:20260210T190000
DTSTAMP:20260420T232645
CREATED:20260209T204438Z
LAST-MODIFIED:20260209T204438Z
UID:10000935-1770746400-1770750000@familiespelvalencia.org
SUMMARY:Contacontes: Bona nit petit cocodril
DESCRIPTION:🐊🌙 *Torna EL LLIBRER CONTACONTES d’HIVERN* a El Cresol 📚❄️\nAquest *dimarts* encetem de nou la temporada d’hivern amb *Bona nit\, petit cocodril* d’Eva Montanari 💚 Un conte tendre sobre la cura\, l’afecte i els vincles que abracen 🫶🏽 \n📆 Dimarts 10 de Febrer\n⏰ 18:00h\n👦🏽 3–5 anys\n🗣️ En valencià\n📍 *Inscripció imprescindible* 👇🏽\nhttps://forms.gle/pWSLoNmMtdUdc2Dz6 \n🔍 On? a la Llibreria El cresol 👇🏽 https://g.page/ElCresol?share
URL:https://familiespelvalencia.org/activitat/contacontes-bona-nit-petit-cocodril/
LOCATION:Llibreria El Cresol\, C. del Músic Barbieri\, 7\,\, València\, 46018
CATEGORIES:València - districte capital
END:VEVENT
BEGIN:VEVENT
DTSTART;TZID=Europe/Paris:20260210T180000
DTEND;TZID=Europe/Paris:20260210T193000
DTSTAMP:20260420T232645
CREATED:20260206T091655Z
LAST-MODIFIED:20260206T092359Z
UID:10000916-1770746400-1770751800@familiespelvalencia.org
SUMMARY:Concert de Dani Miquel
DESCRIPTION:La Casa del Delme acollirà el proper dimarts 10 de febrer\, a les 18.00 hores\, l’activitat familiar “Canta\, viu i balla amb Dani Miquel”\, una proposta pensada perquè famílies\, xiquetes i xiquets de totes les edats gaudisquen d’una experiència lúdica i participativa a través de la música\, el cant i el ball. L’activitat tindrà lloc a les instal·lacions de la Casa del Delme i l’entrada serà lliure fins a completar l’aforament.
URL:https://familiespelvalencia.org/activitat/concert-de-dani-miquel-3/
LOCATION:Casa del Delme\, Carrer del Delme\, 3\, Ontinyent\, La Vall d'Albaida\, 46870
CATEGORIES:Comarques centrals
ATTACH;FMTTYPE=image/png:https://familiespelvalencia.org/wp-content/uploads/2026/02/danimiquel26.png
END:VEVENT
END:VCALENDAR