BEGIN:VCALENDAR
VERSION:2.0
PRODID:-//FAMÍLIES PEL VALENCIÀ - ECPv6.15.20//NONSGML v1.0//EN
CALSCALE:GREGORIAN
METHOD:PUBLISH
X-ORIGINAL-URL:https://familiespelvalencia.org
X-WR-CALDESC:Esdeveniments per FAMÍLIES PEL VALENCIÀ
REFRESH-INTERVAL;VALUE=DURATION:PT1H
X-Robots-Tag:noindex
X-PUBLISHED-TTL:PT1H
BEGIN:VTIMEZONE
TZID:Europe/Paris
BEGIN:DAYLIGHT
TZOFFSETFROM:+0100
TZOFFSETTO:+0200
TZNAME:CEST
DTSTART:20250330T010000
END:DAYLIGHT
BEGIN:STANDARD
TZOFFSETFROM:+0200
TZOFFSETTO:+0100
TZNAME:CET
DTSTART:20251026T010000
END:STANDARD
BEGIN:DAYLIGHT
TZOFFSETFROM:+0100
TZOFFSETTO:+0200
TZNAME:CEST
DTSTART:20260329T010000
END:DAYLIGHT
BEGIN:STANDARD
TZOFFSETFROM:+0200
TZOFFSETTO:+0100
TZNAME:CET
DTSTART:20261025T010000
END:STANDARD
BEGIN:DAYLIGHT
TZOFFSETFROM:+0100
TZOFFSETTO:+0200
TZNAME:CEST
DTSTART:20270328T010000
END:DAYLIGHT
BEGIN:STANDARD
TZOFFSETFROM:+0200
TZOFFSETTO:+0100
TZNAME:CET
DTSTART:20271031T010000
END:STANDARD
END:VTIMEZONE
BEGIN:VEVENT
DTSTART;VALUE=DATE:20260206
DTEND;VALUE=DATE:20260209
DTSTAMP:20260421T004511
CREATED:20260202T222256Z
LAST-MODIFIED:20260202T222524Z
UID:10000907-1770336000-1770595199@familiespelvalencia.org
SUMMARY:Porrat de Sant Blai Potries 2026
DESCRIPTION:El Porrat de Sant Blai de Potries 2026 arriba del 6 al 8 de febrer amb una programació vibrant que combina tradició\, cultura i festa en un ambient perfecte per a gaudir en família. Enguany destaca especialment l’oferta infantil com per exemple: el dissabte\, a les 12.00 h\, els més menuts podran vibrar amb l’actuació gratuïta de Dani Miquel a la plaça del País Valencià\, una de les cites imprescindibles del cap de setmana. També dissabte\, a les 17.30 h i 18.30 h\, la Casa de la Cultura acollirà la representació de titelles “Sant Blai i la seua relíquia”\, un clàssic estimat. \nLa festa continua amb propostes perquè les famílies passen un dia complet al poble: diumenge a les 11.30 h torna l’obra de titelles\, i no pot faltar el contacontes amb “Contes de Calabassa”\, dissabte a les 16.30 h al pati de l’Ajuntament\, una activitat gratuïta que sempre ompli d’imaginació i rialles els racons de Potries. Amb tallers\, música i el caliu del poble\, el Porrat es consolida com una cita essencial per a viure la cultura i la festa en família. \nDescarrega la programació completa
URL:https://familiespelvalencia.org/activitat/porrat-de-sant-blai-potries-2026/
LOCATION:Potries\, Potries\, La Safor\, 46721
CATEGORIES:Comarques centrals
ATTACH;FMTTYPE=image/jpeg:https://familiespelvalencia.org/wp-content/uploads/2026/02/Sant-Blai-Potries.jpg
END:VEVENT
BEGIN:VEVENT
DTSTART;TZID=Europe/Paris:20260208T110000
DTEND;TZID=Europe/Paris:20260208T120000
DTSTAMP:20260421T004511
CREATED:20260119T120740Z
LAST-MODIFIED:20260119T121025Z
UID:10000752-1770548400-1770552000@familiespelvalencia.org
SUMMARY:Contacontes. Retalls de versos
DESCRIPTION:Cia. Disparatario \nUna selecció de versos contats amb música en directe\, jocs teatrals i objectes\, on els espectadors formaran part d’un viatge de paraules\, sons i molta imaginació. A través de poesies d’autors i autores valencians\, acuradament triades per al públic més menut. \nEdats: de 0 a 5 anys // Durada 35 min // Accés exclusiu per a xiquets i xiquetes acompanyats d’adults. \nImportant. Aformanent limitat. Cal entrada pèvia. Les entrades gratuïtes estaran disponibles al Punt d’Informació del Centre Cultural La Beneficència\, en horari de 10.00 a 20.00 hores\, a partir del dimarts previ a l’activitat. \nVídeo.- Retalls de Versos \n 
URL:https://familiespelvalencia.org/activitat/contacontes-retalls-de-versos/
LOCATION:La Beneficiència\, C/Corona\, 36\, València\, L'Horta\, 46003
CATEGORIES:València - districte capital
ATTACH;FMTTYPE=image/jpeg:https://familiespelvalencia.org/wp-content/uploads/2026/01/RETALLS-DE-VERSOS.jpg
GEO:39.4788387;-0.382941
X-APPLE-STRUCTURED-LOCATION;VALUE=URI;X-ADDRESS=La Beneficiència C/Corona 36 València L'Horta 46003;X-APPLE-RADIUS=500;X-TITLE=C/Corona\, 36:geo:-0.382941,39.4788387
END:VEVENT
BEGIN:VEVENT
DTSTART;TZID=Europe/Paris:20260208T113000
DTEND;TZID=Europe/Paris:20260208T123000
DTSTAMP:20260421T004511
CREATED:20260129T211925Z
LAST-MODIFIED:20260129T211925Z
UID:10000789-1770550200-1770553800@familiespelvalencia.org
SUMMARY:Reptes de ciència. Taller
DESCRIPTION:Tic-tac\, tic-tac… posem en marxa el cronòmetre! Tens poc temps per resoldre un repte i\, quan ho aconsegueixis\, trobaràs la clau per poder fer un experiment. En el moment en què ho facis\, desbloquejaràs un altre repte i\, així\, fins que aconsegueixis resoldre totes les proves d’aquesta activitat\, estructurada mitjançant una dinàmica semblant a la d’un escape room. Seràs capaç de resoldre’ls tots? Dividits en petits grups per resoldre els enigmes plantejats\, els participants necessitaran una bona dosi de raonament\, enginy i pensament crític per sortir-ne triomfants. Utilitzant les mans i el cervell\, investigaran\, experimentaran i provaran fins a resoldre les preguntes plantejades des de diferents camps de la ciència: experiències relacionades amb l’òptica\, l’electricitat\, el magnetisme\, la mecànica\, l’acústica… I tot\, amb materials senzills i fàcilment reproduïbles a casa. \nActivitat recomanada a partir de 8 anys. // Durada del taller: 1 h \nImportant: Els Xiquets i xiquetes han d’anar sempre acompanyats d’un adult que també haurà de reservar una entrada per a l’activitat \nMés informació i venda d’entrades: web de caixaforum
URL:https://familiespelvalencia.org/activitat/reptes-de-ciencia-taller/2026-02-08/
LOCATION:Caixa Forum\, Ciutat de les Arts i les Ciències\, C/ Eduardo Primo Yúfera\, 1A\, València\, 46013
CATEGORIES:València - districte capital
ATTACH;FMTTYPE=image/webp:https://familiespelvalencia.org/wp-content/uploads/2026/01/Reptes-de-ciencia.webp
GEO:39.4538716;-0.3498098
X-APPLE-STRUCTURED-LOCATION;VALUE=URI;X-ADDRESS=Caixa Forum Ciutat de les Arts i les Ciències C/ Eduardo Primo Yúfera 1A València 46013;X-APPLE-RADIUS=500;X-TITLE=Ciutat de les Arts i les Ciències\, C/ Eduardo Primo Yúfera\, 1A:geo:-0.3498098,39.4538716
END:VEVENT
BEGIN:VEVENT
DTSTART;TZID=Europe/Paris:20260208T113000
DTEND;TZID=Europe/Paris:20260208T123000
DTSTAMP:20260421T004511
CREATED:20260202T210419Z
LAST-MODIFIED:20260202T210419Z
UID:10000870-1770550200-1770553800@familiespelvalencia.org
SUMMARY:Visita en família: Petits músics a la recerca de les matemàtiques
DESCRIPTION:I si la música i les matemàtiques són més semblants del que sembla? I si són tan i tan semblants que per inventar-nos una melodia hem de parlar d’ones sonores\, de proporcions i de càlculs? En aquesta visita dinamitzada\, les matemàtiques ens ajudaran a entendre\, crear i compondre música. Ho farem amb el guiatge d’una persona educadora\, tot experimentant amb els interactius de l’exposició i a partir d’un joc de construcció sonora. Cantar i sumar\, tocar i multiplicar\, compondre i calcular… T’hi atreveixes? \nPetits músics a la recerca de les matemàtiques\, a partir de 4 anys. \nMés informació i venda d’entrades: Web Caixa Fòrum \nEls xiquets i xiquetes han d’anar acompanyats sempre d’un adult\, que també ha de reservar una entrada per a l’activitat.
URL:https://familiespelvalencia.org/activitat/visita-en-familia-petits-musics-a-la-recerca-de-les-matematiques/2026-02-08/
LOCATION:Caixa Forum\, Ciutat de les Arts i les Ciències\, C/ Eduardo Primo Yúfera\, 1A\, València\, 46013
CATEGORIES:València - districte capital
ATTACH;FMTTYPE=image/webp:https://familiespelvalencia.org/wp-content/uploads/2026/02/petits-musics-a-la-recerca-de-les-matematiques.webp
GEO:39.4538716;-0.3498098
X-APPLE-STRUCTURED-LOCATION;VALUE=URI;X-ADDRESS=Caixa Forum Ciutat de les Arts i les Ciències C/ Eduardo Primo Yúfera 1A València 46013;X-APPLE-RADIUS=500;X-TITLE=Ciutat de les Arts i les Ciències\, C/ Eduardo Primo Yúfera\, 1A:geo:-0.3498098,39.4538716
END:VEVENT
BEGIN:VEVENT
DTSTART;TZID=Europe/Paris:20260208T120000
DTEND;TZID=Europe/Paris:20260208T123000
DTSTAMP:20260421T004511
CREATED:20260207T064941Z
LAST-MODIFIED:20260207T065642Z
UID:10000927-1770552000-1770553800@familiespelvalencia.org
SUMMARY:Documental al Planetari. Explorant el sistema solar
DESCRIPTION:Producció espectacular que ens mostra els planetes veïns de la Terra. Aquest documental ens transporta\, en un viatge extraordinari\, a diferents escenaris del sistema solar interior i aconsegueix despertar la curiositat en el públic a l’hora d’entendre i apreciar aspectes de cossos com la Lluna\, Venus\, Mart\, asteroides i estrelles\, fins ara desconeguts per a la gran majoria. El Món Anell no fa referència a una estructura artificial com en la novel·la de Larry Niven\, sinó a Gliese 581g\, un exoplaneta que podria tindre una zona habitable en forma d’anell en tota la franja del capvespre. \nPúblic: jove // Durada: 24 minuts \nMés informació i venda d’entrades: Planetari de Castelló
URL:https://familiespelvalencia.org/activitat/documental-al-planetari-explorant-el-sistema-solar-8/2026-02-08/
LOCATION:Planetari de Castelló\, Passeig Marítim\, 1 (Grau de Castelló)\, Castelló\, Plana Alta\, 12100
CATEGORIES:Comarques del nord
ATTACH;FMTTYPE=image/png:https://familiespelvalencia.org/wp-content/uploads/2026/02/Explorant.png
GEO:39.9793318;0.022053
X-APPLE-STRUCTURED-LOCATION;VALUE=URI;X-ADDRESS=Planetari de Castelló Passeig Marítim 1 (Grau de Castelló) Castelló Plana Alta 12100;X-APPLE-RADIUS=500;X-TITLE=Passeig Marítim\, 1 (Grau de Castelló):geo:0.022053,39.9793318
END:VEVENT
BEGIN:VEVENT
DTSTART;TZID=Europe/Paris:20260208T120000
DTEND;TZID=Europe/Paris:20260208T130000
DTSTAMP:20260421T004511
CREATED:20251229T155535Z
LAST-MODIFIED:20260202T094342Z
UID:10000692-1770552000-1770555600@familiespelvalencia.org
SUMMARY:Contacontes. Poemes i Rondalles de Carnestoltes
DESCRIPTION:A càrrec de Joanvi Cubedo (Tio Vicent: actor/narrador) \nDins del repertori Xip\, Xap\, conte contat\, el Tio Vicent\, artista veterà en l’escena de la narració oral valenciana\, ens convida a un viatge vibrant de paraules i emocions. A través de contes plens d’aventures\, ritmes i sorpresa\, xiquets i xiquetes es submergeixen en històries teixides amb màgia i proximitat\, fent que cada rondalla desperte la imaginació i el somriure. \n 
URL:https://familiespelvalencia.org/activitat/contacontes-xip-xap-conte-contat-5/
LOCATION:Espai Rebombori\, C/ del Dibuixant Manuel Gago\, 14 (Patraix)\, València\, 46018
CATEGORIES:València - districte capital
ATTACH;FMTTYPE=image/jpeg:https://familiespelvalencia.org/wp-content/uploads/2025/12/Joanvi-Cubedo-Poemes-i-Rondalles-.jpeg
GEO:39.4623751;-0.39132
X-APPLE-STRUCTURED-LOCATION;VALUE=URI;X-ADDRESS=Espai Rebombori C/ del Dibuixant Manuel Gago 14 (Patraix) València 46018;X-APPLE-RADIUS=500;X-TITLE=C/ del Dibuixant Manuel Gago\, 14 (Patraix):geo:-0.39132,39.4623751
END:VEVENT
END:VCALENDAR