BEGIN:VCALENDAR
VERSION:2.0
PRODID:-//FAMÍLIES PEL VALENCIÀ - ECPv6.15.20//NONSGML v1.0//EN
CALSCALE:GREGORIAN
METHOD:PUBLISH
X-ORIGINAL-URL:https://familiespelvalencia.org
X-WR-CALDESC:Esdeveniments per FAMÍLIES PEL VALENCIÀ
REFRESH-INTERVAL;VALUE=DURATION:PT1H
X-Robots-Tag:noindex
X-PUBLISHED-TTL:PT1H
BEGIN:VTIMEZONE
TZID:Europe/Paris
BEGIN:DAYLIGHT
TZOFFSETFROM:+0100
TZOFFSETTO:+0200
TZNAME:CEST
DTSTART:20250330T010000
END:DAYLIGHT
BEGIN:STANDARD
TZOFFSETFROM:+0200
TZOFFSETTO:+0100
TZNAME:CET
DTSTART:20251026T010000
END:STANDARD
BEGIN:DAYLIGHT
TZOFFSETFROM:+0100
TZOFFSETTO:+0200
TZNAME:CEST
DTSTART:20260329T010000
END:DAYLIGHT
BEGIN:STANDARD
TZOFFSETFROM:+0200
TZOFFSETTO:+0100
TZNAME:CET
DTSTART:20261025T010000
END:STANDARD
BEGIN:DAYLIGHT
TZOFFSETFROM:+0100
TZOFFSETTO:+0200
TZNAME:CEST
DTSTART:20270328T010000
END:DAYLIGHT
BEGIN:STANDARD
TZOFFSETFROM:+0200
TZOFFSETTO:+0100
TZNAME:CET
DTSTART:20271031T010000
END:STANDARD
END:VTIMEZONE
BEGIN:VEVENT
DTSTART;TZID=Europe/Paris:20260122T190000
DTEND;TZID=Europe/Paris:20260122T200000
DTSTAMP:20260421T033145
CREATED:20251217T105133Z
LAST-MODIFIED:20251217T105330Z
UID:10000633-1769108400-1769112000@familiespelvalencia.org
SUMMARY:Teatre. Odisses
DESCRIPTION:Espectacle immersiu de teatre físic i noves tecnologies dirigit a joves a partir de 12 anys i a adults que varen ser adolescents. Cia. La Mecànica \nOdissees ofereix una experiència teatral única que\, a través de la col·laboració amb La Fura dels Baus i l’aplicació Kalliopé 2\, permet al públic interactuar amb els intèrprets i l’entorn utilitzant els seus pròpis telèfons mòbils. L’espectacle explora temes rellevants per als joves d’avui dia com la identitat\, la tecnologia i les relacions personals\, que afecten transversalment els adults\, i reflexiona sobre la nostra responsabilitat davant dels reptes que afronten els joves d’avui en dia. \nDirigit pe: Pau Bachero // Durada: 50 min \nMés informació i compra d’entrades: Ticket Alcoi \nTeaser Odissees
URL:https://familiespelvalencia.org/activitat/teatre-odisses/
LOCATION:Teatre Calderón.- Alcoi\, Plaza de Espanya\, 14\, Alcoi\, L'Acoià\, 03801
CATEGORIES:Comarques centrals
ATTACH;FMTTYPE=image/jpeg:https://familiespelvalencia.org/wp-content/uploads/2025/12/DEST-LAMECANICA.jpg
GEO:38.6913294;-0.4761893
X-APPLE-STRUCTURED-LOCATION;VALUE=URI;X-ADDRESS=Teatre Calderón.- Alcoi Plaza de Espanya 14 Alcoi L'Acoià 03801;X-APPLE-RADIUS=500;X-TITLE=Plaza de Espanya\, 14:geo:-0.4761893,38.6913294
END:VEVENT
END:VCALENDAR