BEGIN:VCALENDAR
VERSION:2.0
PRODID:-//FAMÍLIES PEL VALENCIÀ - ECPv6.15.20//NONSGML v1.0//EN
CALSCALE:GREGORIAN
METHOD:PUBLISH
X-WR-CALNAME:FAMÍLIES PEL VALENCIÀ
X-ORIGINAL-URL:https://familiespelvalencia.org
X-WR-CALDESC:Esdeveniments per FAMÍLIES PEL VALENCIÀ
REFRESH-INTERVAL;VALUE=DURATION:PT1H
X-Robots-Tag:noindex
X-PUBLISHED-TTL:PT1H
BEGIN:VTIMEZONE
TZID:Europe/Paris
BEGIN:DAYLIGHT
TZOFFSETFROM:+0100
TZOFFSETTO:+0200
TZNAME:CEST
DTSTART:20250330T010000
END:DAYLIGHT
BEGIN:STANDARD
TZOFFSETFROM:+0200
TZOFFSETTO:+0100
TZNAME:CET
DTSTART:20251026T010000
END:STANDARD
BEGIN:DAYLIGHT
TZOFFSETFROM:+0100
TZOFFSETTO:+0200
TZNAME:CEST
DTSTART:20260329T010000
END:DAYLIGHT
BEGIN:STANDARD
TZOFFSETFROM:+0200
TZOFFSETTO:+0100
TZNAME:CET
DTSTART:20261025T010000
END:STANDARD
BEGIN:DAYLIGHT
TZOFFSETFROM:+0100
TZOFFSETTO:+0200
TZNAME:CEST
DTSTART:20270328T010000
END:DAYLIGHT
BEGIN:STANDARD
TZOFFSETFROM:+0200
TZOFFSETTO:+0100
TZNAME:CET
DTSTART:20271031T010000
END:STANDARD
END:VTIMEZONE
BEGIN:VEVENT
DTSTART;TZID=Europe/Paris:20260104T120000
DTEND;TZID=Europe/Paris:20260104T123000
DTSTAMP:20260424T040409
CREATED:20251204T095836Z
LAST-MODIFIED:20251204T095836Z
UID:10000559-1767528000-1767529800@familiespelvalencia.org
SUMMARY:Documental al Planetari. Explorant el sistema solar
DESCRIPTION:Producció espectacular que ens mostra els planetes veïns de la Terra. Aquest documental ens transporta\, en un viatge extraordinari\, a diferents escenaris del sistema solar interior i aconsegueix despertar la curiositat en el públic a l’hora d’entendre i apreciar aspectes de cossos com la Lluna\, Venus\, Mart\, asteroides i estrelles\, fins ara desconeguts per a la gran majoria. El Món Anell no fa referència a una estructura artificial com en la novel·la de Larry Niven\, sinó a Gliese 581g\, un exoplaneta que podria tindre una zona habitable en forma d’anell en tota la franja del capvespre. \nPúblic: jove // Durada: 24 minuts \nMés informació i venda d’entrades: Planetari de Castelló
URL:https://familiespelvalencia.org/activitat/documental-al-planetari-explorant-el-sistema-solar-5/
LOCATION:Planetari de Castelló\, Passeig Marítim\, 1 (Grau de Castelló)\, Castelló\, Plana Alta\, 12100
CATEGORIES:Comarques del nord
GEO:39.9793318;0.022053
X-APPLE-STRUCTURED-LOCATION;VALUE=URI;X-ADDRESS=Planetari de Castelló Passeig Marítim 1 (Grau de Castelló) Castelló Plana Alta 12100;X-APPLE-RADIUS=500;X-TITLE=Passeig Marítim\, 1 (Grau de Castelló):geo:0.022053,39.9793318
END:VEVENT
BEGIN:VEVENT
DTSTART;TZID=Europe/Paris:20260104T120000
DTEND;TZID=Europe/Paris:20260104T125000
DTSTAMP:20260424T040409
CREATED:20251210T143247Z
LAST-MODIFIED:20251212T184609Z
UID:10000592-1767528000-1767531000@familiespelvalencia.org
SUMMARY:Obra de teatre  DESOBEDIENT
DESCRIPTION:A partir de 5 anys \n50 minuts. \nUna vegada hi havia una xiqueta que es portava tan bé\, tan bé\, tan bé\, que es va oblidar de com es jugava. Una vegada hi havia una xiqueta que es portava tan bé\, tan bé\, tan bé\, que es va oblidar de ser una xiqueta.” \nAixí comença la nostra rondalla que reivindica els drets de la infància\, posant en el centre les necessitats de la xicalla. Els adults entenem socialment la infància com una època sense valor en si mateix\, com un estar en la banqueta de la vida esperant que arribe el moment de ser productiu. \nCom deia Marx\, els interessos de classe són irreconciliables\, i el mateix passa amb els interessos d’adults i xiquets. Mentres un adult projecta el futur dels xiquets\, la naturalesa essencial de les criatures és fer tot allò que més importuna als adults: córrer\, xisclar\, molestar\, entorpir en fi\, el correcte funcionament del sistema adult/capitalista. Perquè el sistema en què vivim\, és contrari en els processos naturals i fisiològics de la pròpia vida. En l’espectacle “Desobedient” qüestionarem tot aquest sistema des de la perspectiva de la infància. \nEquip \n\nCreació i interpretació_Alejandra Mandli\, Claudia Monleón\, Margarida Mateos i Carla Chillida;\nDirecció_Carla Chillida;\nDibuixos_Elias Taño;\nEscenografia i vestuari_Atirohecho;\nMúsica_Carlos Mitrofan;\nIl·luminació_Carla Chillida;\nProducció_Atirohecho
URL:https://familiespelvalencia.org/activitat/obra-de-teatre-desobedient/2026-01-04/
LOCATION:Espai Inestable\, C/ Aparisi i Guijarro\, 7\, València\, L'Horta\, 46003
CATEGORIES:València - districte capital
ATTACH;FMTTYPE=image/png:https://familiespelvalencia.org/wp-content/uploads/2025/12/1000215821.png
GEO:39.475475876514;-0.37201560470369
X-APPLE-STRUCTURED-LOCATION;VALUE=URI;X-ADDRESS=Espai Inestable C/ Aparisi i Guijarro 7 València L'Horta 46003;X-APPLE-RADIUS=500;X-TITLE=C/ Aparisi i Guijarro\, 7:geo:-0.37201560470369,39.475475876514
END:VEVENT
BEGIN:VEVENT
DTSTART;TZID=Europe/Paris:20260104T180000
DTEND;TZID=Europe/Paris:20260104T190000
DTSTAMP:20260424T040409
CREATED:20251126T140734Z
LAST-MODIFIED:20251126T173503Z
UID:10000478-1767549600-1767553200@familiespelvalencia.org
SUMMARY:Cinema. Neu i els arbres màgics
DESCRIPTION:Unides per una temàtica a l’entorn de la natura i els arbres\, i per la riquesa poètica de les seues imatges i del seu grafisme\, aquest quartet d’històries ens farà somriure amb la seua tendresa i ens farà reflexionar sobre quan les coses o les persones canvien de papers. Els seus mons\, poblats per cuques\, natura i personatges entranyables\, constitueixen quatre contes inoblidables sobre l’enginy\, l’amistat\, el respecte i l’alegria de viure amb la natura. \nAl principi de cada sessió\, l’equip educatiu de CaixaForum presenta la pel·lícula i en proporciona les claus bàsiques per interpretar-la i gaudir-ne\, i convida el públic assistent a un debat en família posterior a la projecció. \nDurada: 51 minuts // Edat recomanada: A partir de 4 anys \n*Els xiquets i xiquetes han d’anar acompanyats sempre d’un adult\, que també ha de reservar una entrada per a l’activitat
URL:https://familiespelvalencia.org/activitat/cinema-neu-i-els-arbres-magics/
LOCATION:Caixa Forum\, Ciutat de les Arts i les Ciències\, C/ Eduardo Primo Yúfera\, 1A\, València\, 46013
CATEGORIES:València - districte capital
GEO:39.4538716;-0.3498098
X-APPLE-STRUCTURED-LOCATION;VALUE=URI;X-ADDRESS=Caixa Forum Ciutat de les Arts i les Ciències C/ Eduardo Primo Yúfera 1A València 46013;X-APPLE-RADIUS=500;X-TITLE=Ciutat de les Arts i les Ciències\, C/ Eduardo Primo Yúfera\, 1A:geo:-0.3498098,39.4538716
END:VEVENT
END:VCALENDAR