BEGIN:VCALENDAR
VERSION:2.0
PRODID:-//FAMÍLIES PEL VALENCIÀ - ECPv6.15.20//NONSGML v1.0//EN
CALSCALE:GREGORIAN
METHOD:PUBLISH
X-ORIGINAL-URL:https://familiespelvalencia.org
X-WR-CALDESC:Esdeveniments per FAMÍLIES PEL VALENCIÀ
REFRESH-INTERVAL;VALUE=DURATION:PT1H
X-Robots-Tag:noindex
X-PUBLISHED-TTL:PT1H
BEGIN:VTIMEZONE
TZID:Europe/Paris
BEGIN:DAYLIGHT
TZOFFSETFROM:+0100
TZOFFSETTO:+0200
TZNAME:CEST
DTSTART:20240331T010000
END:DAYLIGHT
BEGIN:STANDARD
TZOFFSETFROM:+0200
TZOFFSETTO:+0100
TZNAME:CET
DTSTART:20241027T010000
END:STANDARD
BEGIN:DAYLIGHT
TZOFFSETFROM:+0100
TZOFFSETTO:+0200
TZNAME:CEST
DTSTART:20250330T010000
END:DAYLIGHT
BEGIN:STANDARD
TZOFFSETFROM:+0200
TZOFFSETTO:+0100
TZNAME:CET
DTSTART:20251026T010000
END:STANDARD
BEGIN:DAYLIGHT
TZOFFSETFROM:+0100
TZOFFSETTO:+0200
TZNAME:CEST
DTSTART:20260329T010000
END:DAYLIGHT
BEGIN:STANDARD
TZOFFSETFROM:+0200
TZOFFSETTO:+0100
TZNAME:CET
DTSTART:20261025T010000
END:STANDARD
BEGIN:DAYLIGHT
TZOFFSETFROM:+0100
TZOFFSETTO:+0200
TZNAME:CEST
DTSTART:20270328T010000
END:DAYLIGHT
BEGIN:STANDARD
TZOFFSETFROM:+0200
TZOFFSETTO:+0100
TZNAME:CET
DTSTART:20271031T010000
END:STANDARD
END:VTIMEZONE
BEGIN:VEVENT
DTSTART;VALUE=DATE:20251210
DTEND;VALUE=DATE:20260104
DTSTAMP:20260424T035904
CREATED:20251202T164819Z
LAST-MODIFIED:20251202T164819Z
UID:10000531-1765324800-1767484799@familiespelvalencia.org
SUMMARY:Exposició. Paraules de Nadal. 35 anys de Nadal en valencià
DESCRIPTION:Entra en el fantàstic món de les paraules i les imatges de Nadal! Vine a fer-te fotos\, pintar\, llegir\, conéixer la història de les cartes màgiques als Reis de l’Orient\, resoldre enigmes musimàgics i matemàgics i\, sobretot\, t’espera el camell Cagacartes: «Per Nadal\, utilitza la llengua i tindràs un regal!». \nExposició retrospectiva i interactiva dels materials de Nadal creats pel Gabinet de Normalització Lingüística de l’Ajuntament d’Alcoi i la il·lustradora Rosanna Crespo al llarg de 35 anys i amb la col·laboració especial dels xiquets i xiquetes alumnes de l’Escola Municipal de Belles Arts i de moltes altres entitats alcoianes. \nHorari. De dilluns a divendres: de 10h a 13.30h i de 17h a 20h. Dissabtes: de 10h a 13.30h (tancada els dies 24\, 25 i 31 de desembre i l’1 de gener)
URL:https://familiespelvalencia.org/activitat/exposicio-paraules-de-nadal-35-anys-de-nadal-en-valencia/
LOCATION:Centre Cultural.- Alcoi\, Av. País Valencià\, 1\, Alcoi\, L'Alcoià\, 03801
CATEGORIES:Comarques centrals
ATTACH;FMTTYPE=image/jpeg:https://familiespelvalencia.org/wp-content/uploads/2025/12/Cartell-exposicio-Paraules-de-Nadal.-25-anys-de-Nadal-en-valencia.jpg
GEO:38.697146;-0.4752305
X-APPLE-STRUCTURED-LOCATION;VALUE=URI;X-ADDRESS=Centre Cultural.- Alcoi Av. País Valencià 1 Alcoi L'Alcoià 03801;X-APPLE-RADIUS=500;X-TITLE=Av. País Valencià\, 1:geo:-0.4752305,38.697146
END:VEVENT
BEGIN:VEVENT
DTSTART;TZID=Europe/Paris:20260103T110000
DTEND;TZID=Europe/Paris:20260103T120000
DTSTAMP:20260424T035904
CREATED:20251218T150112Z
LAST-MODIFIED:20251218T150112Z
UID:10000644-1767438000-1767441600@familiespelvalencia.org
SUMMARY:Una visiteta a l’IVAM (Andrea Canepa)
DESCRIPTION:Visites per a adults amb bebés a las exposicions de l’IVAM \nUna visiteta a l’IVAM posa el focus en les persones adultes que estan criant i que volen continuar gaudint de propostes d’oci cultural sense renunciar a estar amb els seus bebés. És una resposta de l’IVAM a la necessitat de les mares i pares més fans de visitar museus: una visita comentada per les exposicions més recents\, on s’assistisca en parella adult-bebé. En finalitzar el recorregut\, adaptat en temps al grup\, donarem pas a un moment de descans en la nova Sala Blanda de l’IVAM. \nExplorarem les exposicions a través de sessions de mediació artística condicionades especialment per a poder realitzar còmodament la lactància\, alimentació o canvi de bolquers sense interrupció\, ni eixir expressament a espais específics\, mentre es realitza l’activitat. Pauses\, racons de descans\, cuidat de les llums\, els sons i la veu. Tot perquè\, a més de cuidar el contingut\, cuidem el benestar dels bebés\, facilitant que les adultes donen de mamar\, portegen o adormen als nounats durant el recorregut. \nAndrea Canepa. Projecte Entre allò profund i allò distant \nMés informació: IVAM \n 
URL:https://familiespelvalencia.org/activitat/una-visiteta-a-livam-andrea-canepa/2026-01-03/
LOCATION:IVAM\, Carrer Guillem de Castro\, 118\, València\, València\, 46003
CATEGORIES:València - districte capital
ATTACH;FMTTYPE=image/jpeg:https://familiespelvalencia.org/wp-content/uploads/2025/12/Andrea-Canepa.jpg
ORGANIZER;CN="Institut Valenci%C3%A0 d'Art Modern (IVAM)":MAILTO:ivam@ivam.es
GEO:39.4781991;-0.3833337
X-APPLE-STRUCTURED-LOCATION;VALUE=URI;X-ADDRESS=IVAM Carrer Guillem de Castro 118 València València 46003;X-APPLE-RADIUS=500;X-TITLE=Carrer Guillem de Castro\, 118:geo:-0.3833337,39.4781991
END:VEVENT
BEGIN:VEVENT
DTSTART;TZID=Europe/Paris:20260103T120000
DTEND;TZID=Europe/Paris:20260103T123000
DTSTAMP:20260424T035904
CREATED:20251204T084701Z
LAST-MODIFIED:20251204T095049Z
UID:10000549-1767441600-1767443400@familiespelvalencia.org
SUMMARY:Documental al Planetari. La xiqueta que sabia caminar al revés
DESCRIPTION:La xiqueta que sabia caminar al revés és un personatge molt especial. Coneix els secrets que guarda la Lluna\, sap escoltar les marees i sol parlar amb els arbres\, però el que més li agrada fer és menjar pastissos amb els seus amics mentre contempla el cel estrelat. Potser per això fa temps que va aprendre a caminar al revés\, per a poder tindre sempre el cel sota els peus. És un conte capgirat\, una història que vol convidar-nos a contemplar el que ens envolta des d’un nou punt de vista. Ací tot és diferent\, i allí on abans només véiem sòl\, ara potser podrem veure el cel. \nPúblic: infantil i jove // Durada: 27 minuts \nMés informació i venda d’entrades: Planetari de Castelló
URL:https://familiespelvalencia.org/activitat/documental-al-planetari-la-xiqueta-que-sabia-caminar-al-reves-3/
LOCATION:Planetari de Castelló\, Passeig Marítim\, 1 (Grau de Castelló)\, Castelló\, Plana Alta\, 12100
CATEGORIES:Comarques del nord
ATTACH;FMTTYPE=image/jpeg:https://familiespelvalencia.org/wp-content/uploads/2025/12/La-xiqueta-que-sabia-caminar-al-reves.jpg
GEO:39.9793318;0.022053
X-APPLE-STRUCTURED-LOCATION;VALUE=URI;X-ADDRESS=Planetari de Castelló Passeig Marítim 1 (Grau de Castelló) Castelló Plana Alta 12100;X-APPLE-RADIUS=500;X-TITLE=Passeig Marítim\, 1 (Grau de Castelló):geo:0.022053,39.9793318
END:VEVENT
BEGIN:VEVENT
DTSTART;TZID=Europe/Paris:20260103T120000
DTEND;TZID=Europe/Paris:20260103T125000
DTSTAMP:20260424T035904
CREATED:20251210T143247Z
LAST-MODIFIED:20251212T184609Z
UID:10000591-1767441600-1767444600@familiespelvalencia.org
SUMMARY:Obra de teatre  DESOBEDIENT
DESCRIPTION:A partir de 5 anys \n50 minuts. \nUna vegada hi havia una xiqueta que es portava tan bé\, tan bé\, tan bé\, que es va oblidar de com es jugava. Una vegada hi havia una xiqueta que es portava tan bé\, tan bé\, tan bé\, que es va oblidar de ser una xiqueta.” \nAixí comença la nostra rondalla que reivindica els drets de la infància\, posant en el centre les necessitats de la xicalla. Els adults entenem socialment la infància com una època sense valor en si mateix\, com un estar en la banqueta de la vida esperant que arribe el moment de ser productiu. \nCom deia Marx\, els interessos de classe són irreconciliables\, i el mateix passa amb els interessos d’adults i xiquets. Mentres un adult projecta el futur dels xiquets\, la naturalesa essencial de les criatures és fer tot allò que més importuna als adults: córrer\, xisclar\, molestar\, entorpir en fi\, el correcte funcionament del sistema adult/capitalista. Perquè el sistema en què vivim\, és contrari en els processos naturals i fisiològics de la pròpia vida. En l’espectacle “Desobedient” qüestionarem tot aquest sistema des de la perspectiva de la infància. \nEquip \n\nCreació i interpretació_Alejandra Mandli\, Claudia Monleón\, Margarida Mateos i Carla Chillida;\nDirecció_Carla Chillida;\nDibuixos_Elias Taño;\nEscenografia i vestuari_Atirohecho;\nMúsica_Carlos Mitrofan;\nIl·luminació_Carla Chillida;\nProducció_Atirohecho
URL:https://familiespelvalencia.org/activitat/obra-de-teatre-desobedient/2026-01-03/
LOCATION:Espai Inestable\, C/ Aparisi i Guijarro\, 7\, València\, L'Horta\, 46003
CATEGORIES:València - districte capital
ATTACH;FMTTYPE=image/png:https://familiespelvalencia.org/wp-content/uploads/2025/12/1000215821.png
GEO:39.475475876514;-0.37201560470369
X-APPLE-STRUCTURED-LOCATION;VALUE=URI;X-ADDRESS=Espai Inestable C/ Aparisi i Guijarro 7 València L'Horta 46003;X-APPLE-RADIUS=500;X-TITLE=C/ Aparisi i Guijarro\, 7:geo:-0.37201560470369,39.475475876514
END:VEVENT
BEGIN:VEVENT
DTSTART;TZID=Europe/Paris:20260103T120000
DTEND;TZID=Europe/Paris:20260103T130000
DTSTAMP:20260424T035904
CREATED:20260102T215939Z
LAST-MODIFIED:20260102T215939Z
UID:10000695-1767441600-1767445200@familiespelvalencia.org
SUMMARY:Contacontes. Un conte gens tradicional
DESCRIPTION:L’Escola de Teatre de Pego presenta una sessió molt especial de contacontes amb el títol “Un conte gens tradicional”\, una història inspirada en una rondalla popular del Camerun i dirigida per César Monsonís. Una oportunitat perfecta per descobrir nous mons i gaudir del teatre en família. \n 
URL:https://familiespelvalencia.org/activitat/contacontes-un-conte-gens-tradicional/
LOCATION:Seu Falla Plaça i Natzaré.- Pego\, Pego\, Marina Alta\, 03780
CATEGORIES:Comarques centrals
ATTACH;FMTTYPE=image/jpeg:https://familiespelvalencia.org/wp-content/uploads/2026/01/Un-conte-gens-tradicional.jpg
GEO:38.8429394;-0.1156439
END:VEVENT
BEGIN:VEVENT
DTSTART;TZID=Europe/Paris:20260103T120000
DTEND;TZID=Europe/Paris:20260103T140000
DTSTAMP:20260424T035904
CREATED:20260103T083119Z
LAST-MODIFIED:20260103T083543Z
UID:10000696-1767441600-1767448800@familiespelvalencia.org
SUMMARY:XOCOROCK. Festa presentació
DESCRIPTION:Bocairent acull la festa de presentació de Xocorock a la Plaça de l’Ajuntament\, una cita musical per començar l’any amb energia. L’esdeveniment comptarà amb l’actuació de La Trocamba Matanusca\, que portarà la seua fusió vibrant de ritmes balcànics i festius\, i amb DJ Santy Mataix\, que posarà el punt electrònic per a tancar la jornada amb la millor selecció musical. Una proposta gratuïta i oberta a tots els públics per gaudir de bona música i ambient festiu en un entorn únic.
URL:https://familiespelvalencia.org/activitat/xocorock-festa-presentacio/
LOCATION:Plaça Ajuntament.- Bocairent\, Plaça Ajuntament\, Bocairent\, Vall d'Albaida\, 46880
CATEGORIES:Comarques centrals
ATTACH;FMTTYPE=image/jpeg:https://familiespelvalencia.org/wp-content/uploads/2026/01/La-Trocamba-Matanusca.jpg
GEO:38.7675526;-0.6099131
X-APPLE-STRUCTURED-LOCATION;VALUE=URI;X-ADDRESS=Plaça Ajuntament.- Bocairent Plaça Ajuntament Bocairent Vall d'Albaida 46880;X-APPLE-RADIUS=500;X-TITLE=Plaça Ajuntament:geo:-0.6099131,38.7675526
END:VEVENT
BEGIN:VEVENT
DTSTART;TZID=Europe/Paris:20260103T174500
DTEND;TZID=Europe/Paris:20260103T184500
DTSTAMP:20260424T035904
CREATED:20251222T081747Z
LAST-MODIFIED:20251222T081747Z
UID:10000665-1767462300-1767465900@familiespelvalencia.org
SUMMARY:Contacontes. Matilda
DESCRIPTION:Matilda és una xiqueta sorprenentment intel·ligent i curiosa\, que malgrat la indiferència dels seus pares troba refugi en els llibres i la literatura. La seua vida canvia quan comença l’escola i descobrix que no sols és més llesta que els seus companys\, sinó que a més posseïx increïbles habilitats telequinétiques. Sota la cura d’una bondadosa senyoreta\, Matilda s’enfronta a la malvada directora\, una dona cruel que turmenta als estudiants. Usant el seu enginy i els seus poders\, Matilda traçarà un pla per a posar fi a la tirania de la senyoreta Tronchatoro i alliberar la seua benvolguda mestra. Al final\, la xicoteta heroïna aconseguix el que més anhela: una llar amorosa on pot continuar desenrotllant la seua brillant ment.
URL:https://familiespelvalencia.org/activitat/contacontes-matilda/
LOCATION:Paterna\, Plaça del poble
CATEGORIES:Comarques Túria–Xúquer
ATTACH;FMTTYPE=image/png:https://familiespelvalencia.org/wp-content/uploads/2025/12/matilda.png
GEO:42.5067895;1.5223013
X-APPLE-STRUCTURED-LOCATION;VALUE=URI;X-ADDRESS=Paterna Plaça del poble;X-APPLE-RADIUS=500;X-TITLE=Plaça del poble:geo:1.5223013,42.5067895
END:VEVENT
BEGIN:VEVENT
DTSTART;TZID=Europe/Paris:20260103T180000
DTEND;TZID=Europe/Paris:20260103T183000
DTSTAMP:20260424T035904
CREATED:20251204T094710Z
LAST-MODIFIED:20251204T094710Z
UID:10000554-1767463200-1767465000@familiespelvalencia.org
SUMMARY:Documental al Planetari. Dinosaures
DESCRIPTION:Com a quasi tots els xiquets\, a Celeste li fascinen els dinosaures. S’està preparant per a parlar en classe sobre la seua extinció quan Moon\, un màgic personatge replet de saviesa\, li planteja un dubte: i si et diguera que encara queden dinosaures entre nosaltres? Celeste acompanyarà a Moon en un viatge en el temps. Una apassionant aventura que els portarà a visitar la Terra en un passat molt\, molt remot. Veuran fascinants transformacions que han acompanyat a aquests éssers durant milions d’anys creant criatures gegants\, éssers cuirassats i super depredadors\, fins al dia en què el gran impacte va provocar una extinció massiva en la Terra. Però no tot està perdut. Celeste descobrirà la clau de la seua supervivència. \nPúblic: infantil i jove // Durada: 28 minuts \nMés informació i venda d’entrades: Planetari de Castelló
URL:https://familiespelvalencia.org/activitat/documental-al-planetari-dinosaures-5/
LOCATION:Planetari de Castelló\, Passeig Marítim\, 1 (Grau de Castelló)\, Castelló\, Plana Alta\, 12100
CATEGORIES:Comarques del nord
ATTACH;FMTTYPE=image/jpeg:https://familiespelvalencia.org/wp-content/uploads/2025/12/dinosaures-castello.jpg
GEO:39.9793318;0.022053
X-APPLE-STRUCTURED-LOCATION;VALUE=URI;X-ADDRESS=Planetari de Castelló Passeig Marítim 1 (Grau de Castelló) Castelló Plana Alta 12100;X-APPLE-RADIUS=500;X-TITLE=Passeig Marítim\, 1 (Grau de Castelló):geo:0.022053,39.9793318
END:VEVENT
END:VCALENDAR