BEGIN:VCALENDAR
VERSION:2.0
PRODID:-//FAMÍLIES PEL VALENCIÀ - ECPv6.15.20//NONSGML v1.0//EN
CALSCALE:GREGORIAN
METHOD:PUBLISH
X-ORIGINAL-URL:https://familiespelvalencia.org
X-WR-CALDESC:Esdeveniments per FAMÍLIES PEL VALENCIÀ
REFRESH-INTERVAL;VALUE=DURATION:PT1H
X-Robots-Tag:noindex
X-PUBLISHED-TTL:PT1H
BEGIN:VTIMEZONE
TZID:Europe/Paris
BEGIN:DAYLIGHT
TZOFFSETFROM:+0100
TZOFFSETTO:+0200
TZNAME:CEST
DTSTART:20240331T010000
END:DAYLIGHT
BEGIN:STANDARD
TZOFFSETFROM:+0200
TZOFFSETTO:+0100
TZNAME:CET
DTSTART:20241027T010000
END:STANDARD
BEGIN:DAYLIGHT
TZOFFSETFROM:+0100
TZOFFSETTO:+0200
TZNAME:CEST
DTSTART:20250330T010000
END:DAYLIGHT
BEGIN:STANDARD
TZOFFSETFROM:+0200
TZOFFSETTO:+0100
TZNAME:CET
DTSTART:20251026T010000
END:STANDARD
BEGIN:DAYLIGHT
TZOFFSETFROM:+0100
TZOFFSETTO:+0200
TZNAME:CEST
DTSTART:20260329T010000
END:DAYLIGHT
BEGIN:STANDARD
TZOFFSETFROM:+0200
TZOFFSETTO:+0100
TZNAME:CET
DTSTART:20261025T010000
END:STANDARD
END:VTIMEZONE
BEGIN:VEVENT
DTSTART;TZID=Europe/Paris:20251123T110000
DTEND;TZID=Europe/Paris:20251123T120000
DTSTAMP:20260424T044427
CREATED:20251020T152515Z
LAST-MODIFIED:20251105T170437Z
UID:10000140-1763895600-1763899200@familiespelvalencia.org
SUMMARY:Teatre / Titelles: Elmer\, l'elefant multicolor (Doble sessió: 11h i 12.30h)
DESCRIPTION:Cia. Tutatis (Catalunya) \nHoraris:\n– 11:00h\n– 12.30h \nDurada: 50 min / Edat: Públic Familiar a partir de 3 anys \nSinopsi\nElmer\, és un elefant gens avorrit. A diferència dels seus amics\, ell és multicolor. Aquest clàssic infantil creat per David Mckee\, que va vendre més de 8 milions d’exemplars i s’ha traduït a més de 50 llengües\, explica la història d’aquest elefant i el seu dia a dia\, en un món on tots els seus amics són de color “elefant”. Un espectacle on el convencional queda de costat i on s’ensenya la importància de ser un mateix\, transmetent valors positius tan importants com el respecte\, l’acceptació i la diversitat.\nMés informació i venda d’entrades: L’Horta Teatre\nVídeo promocional: Elmer\, l’elefant multicolor
URL:https://familiespelvalencia.org/activitat/teatre-titelles-elmer-lelefant-multicolor-doble-sessio-11h-i-12-30h/
LOCATION:L’Horta teatre\, Carrer de Sant Martí de Porres\, 17\, Castellar\, València\, 46026\, Spain
GEO:39.4247911;-0.3653518
X-APPLE-STRUCTURED-LOCATION;VALUE=URI;X-ADDRESS=L’Horta teatre Carrer de Sant Martí de Porres 17 Castellar València 46026 Spain;X-APPLE-RADIUS=500;X-TITLE=Carrer de Sant Martí de Porres\, 17:geo:-0.3653518,39.4247911
END:VEVENT
END:VCALENDAR