BEGIN:VCALENDAR
VERSION:2.0
PRODID:-//FAMÍLIES PEL VALENCIÀ - ECPv6.15.20//NONSGML v1.0//EN
CALSCALE:GREGORIAN
METHOD:PUBLISH
X-ORIGINAL-URL:https://familiespelvalencia.org
X-WR-CALDESC:Esdeveniments per FAMÍLIES PEL VALENCIÀ
REFRESH-INTERVAL;VALUE=DURATION:PT1H
X-Robots-Tag:noindex
X-PUBLISHED-TTL:PT1H
BEGIN:VTIMEZONE
TZID:Europe/Paris
BEGIN:DAYLIGHT
TZOFFSETFROM:+0100
TZOFFSETTO:+0200
TZNAME:CEST
DTSTART:20240331T010000
END:DAYLIGHT
BEGIN:STANDARD
TZOFFSETFROM:+0200
TZOFFSETTO:+0100
TZNAME:CET
DTSTART:20241027T010000
END:STANDARD
BEGIN:DAYLIGHT
TZOFFSETFROM:+0100
TZOFFSETTO:+0200
TZNAME:CEST
DTSTART:20250330T010000
END:DAYLIGHT
BEGIN:STANDARD
TZOFFSETFROM:+0200
TZOFFSETTO:+0100
TZNAME:CET
DTSTART:20251026T010000
END:STANDARD
BEGIN:DAYLIGHT
TZOFFSETFROM:+0100
TZOFFSETTO:+0200
TZNAME:CEST
DTSTART:20260329T010000
END:DAYLIGHT
BEGIN:STANDARD
TZOFFSETFROM:+0200
TZOFFSETTO:+0100
TZNAME:CET
DTSTART:20261025T010000
END:STANDARD
END:VTIMEZONE
BEGIN:VEVENT
DTSTART;TZID=Europe/Paris:20251121T173000
DTEND;TZID=Europe/Paris:20251121T183000
DTSTAMP:20260424T044404
CREATED:20251020T152515Z
LAST-MODIFIED:20251105T165844Z
UID:10000137-1763746200-1763749800@familiespelvalencia.org
SUMMARY:Contacontes- Banditis a la biblioteca (Rebombori Cultural)
DESCRIPTION:Una oportunitat perfecta perquè els més menuts gaudisquen de la màgia de les històries\, desperten la seua imaginació i descobrisquen el plaer de la lectura en un ambient divertit i participatiu. \n🎟️ Activitat gratuïta fins a completar aforament \nMés informació: Ajuntament de Museros
URL:https://familiespelvalencia.org/activitat/contacontes-banditis-a-la-biblioteca-rebombori-cultural/
LOCATION:Agència de Lectura Municipal Museros\, Carrer de les Escoles Velles\, 1\, Museros\, L'Horta\, 46136\, Spain
GEO:39.5639725;-0.3407994
X-APPLE-STRUCTURED-LOCATION;VALUE=URI;X-ADDRESS=Agència de Lectura Municipal Museros Carrer de les Escoles Velles 1 Museros L'Horta 46136 Spain;X-APPLE-RADIUS=500;X-TITLE=Carrer de les Escoles Velles\, 1:geo:-0.3407994,39.5639725
END:VEVENT
BEGIN:VEVENT
DTSTART;TZID=Europe/Paris:20251121T173000
DTEND;TZID=Europe/Paris:20251121T183000
DTSTAMP:20260424T044404
CREATED:20251020T152515Z
LAST-MODIFIED:20251105T170324Z
UID:10000138-1763746200-1763749800@familiespelvalencia.org
SUMMARY:Contacontes i taller: Marieta i altres contes a càrrec de Carles Cano
DESCRIPTION:És un divertit espectacle de contes tradicionals valencians on hi haurà narracions de por en clau divertida. \nActivitat recomanada a partir de 5 anys\nPot requerir inscripció: recomanem consultar abans. \nMés informació: Biblioteca Municipal d’Altea
URL:https://familiespelvalencia.org/activitat/contacontes-i-taller-marieta-i-altres-contes-a-carrec-de-carles-cano/
LOCATION:Biblioteca pública d’Altea\, Costera Pont del Montcau\, 14\, Altea\, Alacant\, 03590\, Spain
GEO:38.6003995;-0.0491725
X-APPLE-STRUCTURED-LOCATION;VALUE=URI;X-ADDRESS=Biblioteca pública d’Altea Costera Pont del Montcau 14 Altea Alacant 03590 Spain;X-APPLE-RADIUS=500;X-TITLE=Costera Pont del Montcau\, 14:geo:-0.0491725,38.6003995
END:VEVENT
BEGIN:VEVENT
DTSTART;TZID=Europe/Paris:20251121T183000
DTEND;TZID=Europe/Paris:20251121T193000
DTSTAMP:20260424T044404
CREATED:20251020T152515Z
LAST-MODIFIED:20251121T074930Z
UID:10000139-1763749800-1763753400@familiespelvalencia.org
SUMMARY:Teatre infantil i taller participatiu: El meu amic Nicolau Primitiu
DESCRIPTION:Pilar Rochina i José Blasco: El meu amic Nicolau Primitiu. Públic infantil/familiar. \nAmb un senzill llenguatge i amb un toc d’humor ens aproximarem a l’intel·lectual valencià Nicolau Primitiu. Autoria i interpretació: Pilar Rochina i José Blasco. \nMés informació: Ajuntament de València
URL:https://familiespelvalencia.org/activitat/teatre-infantil-i-taller-participatiu-el-meu-amic-nicolau-primitiu/
LOCATION:Centre Cultural Alqueria d’Albors\, Camí Alquería d'Albors\, 4\, València\, València\, 46019\, Spain
GEO:39.4969548;-0.3685167
X-APPLE-STRUCTURED-LOCATION;VALUE=URI;X-ADDRESS=Centre Cultural Alqueria d’Albors Camí Alquería d'Albors 4 València València 46019 Spain;X-APPLE-RADIUS=500;X-TITLE=Camí Alquería d'Albors\, 4:geo:-0.3685167,39.4969548
END:VEVENT
END:VCALENDAR