BEGIN:VCALENDAR
VERSION:2.0
PRODID:-//FAMÍLIES PEL VALENCIÀ - ECPv6.15.20//NONSGML v1.0//EN
CALSCALE:GREGORIAN
METHOD:PUBLISH
X-WR-CALNAME:FAMÍLIES PEL VALENCIÀ
X-ORIGINAL-URL:https://familiespelvalencia.org
X-WR-CALDESC:Esdeveniments per FAMÍLIES PEL VALENCIÀ
REFRESH-INTERVAL;VALUE=DURATION:PT1H
X-Robots-Tag:noindex
X-PUBLISHED-TTL:PT1H
BEGIN:VTIMEZONE
TZID:Europe/Paris
BEGIN:DAYLIGHT
TZOFFSETFROM:+0100
TZOFFSETTO:+0200
TZNAME:CEST
DTSTART:20240331T010000
END:DAYLIGHT
BEGIN:STANDARD
TZOFFSETFROM:+0200
TZOFFSETTO:+0100
TZNAME:CET
DTSTART:20241027T010000
END:STANDARD
BEGIN:DAYLIGHT
TZOFFSETFROM:+0100
TZOFFSETTO:+0200
TZNAME:CEST
DTSTART:20250330T010000
END:DAYLIGHT
BEGIN:STANDARD
TZOFFSETFROM:+0200
TZOFFSETTO:+0100
TZNAME:CET
DTSTART:20251026T010000
END:STANDARD
BEGIN:DAYLIGHT
TZOFFSETFROM:+0100
TZOFFSETTO:+0200
TZNAME:CEST
DTSTART:20260329T010000
END:DAYLIGHT
BEGIN:STANDARD
TZOFFSETFROM:+0200
TZOFFSETTO:+0100
TZNAME:CET
DTSTART:20261025T010000
END:STANDARD
END:VTIMEZONE
BEGIN:VEVENT
DTSTART;TZID=Europe/Paris:20251107T183000
DTEND;TZID=Europe/Paris:20251107T193000
DTSTAMP:20260424T044354
CREATED:20251020T152329Z
LAST-MODIFIED:20251105T164706Z
UID:10000125-1762540200-1762543800@familiespelvalencia.org
SUMMARY:Espectacle de màgia i mentalisme
DESCRIPTION:Patricia Ferrero: Sense sentit. Tots els públics. \nTot el que voràs en este espectacle et farà descobrir el racó inexplicable de la teua ment. Patricia Ferrero et presenta un espectacle en el qual podràs gaudir de sorprenents prediccions\, il·lusions meravelloses i moments d’humor que desafien la lògica. Una vetlada plena de riures i connexions inesperades en la qual ens preguntarem pels verdaders poders de bruixeria d’esta il·lusionista. \nMés informació: Ajuntament de València
URL:https://familiespelvalencia.org/activitat/espectacle-de-magia-i-mentalisme/
LOCATION:Plaça de Santiago Suárez “Santi”\, Plaça de Santiago Suárez “Santi”\, València\, València\, 46017\, Spain
GEO:39.4521591;-0.3880128
X-APPLE-STRUCTURED-LOCATION;VALUE=URI;X-ADDRESS=Plaça de Santiago Suárez “Santi” Plaça de Santiago Suárez “Santi” València València 46017 Spain;X-APPLE-RADIUS=500;X-TITLE=Plaça de Santiago Suárez “Santi”:geo:-0.3880128,39.4521591
END:VEVENT
END:VCALENDAR