BEGIN:VCALENDAR
VERSION:2.0
PRODID:-//FAMÍLIES PEL VALENCIÀ - ECPv6.15.20//NONSGML v1.0//EN
CALSCALE:GREGORIAN
METHOD:PUBLISH
X-WR-CALNAME:FAMÍLIES PEL VALENCIÀ
X-ORIGINAL-URL:https://familiespelvalencia.org
X-WR-CALDESC:Esdeveniments per FAMÍLIES PEL VALENCIÀ
REFRESH-INTERVAL;VALUE=DURATION:PT1H
X-Robots-Tag:noindex
X-PUBLISHED-TTL:PT1H
BEGIN:VTIMEZONE
TZID:Europe/Paris
BEGIN:DAYLIGHT
TZOFFSETFROM:+0100
TZOFFSETTO:+0200
TZNAME:CEST
DTSTART:20240331T010000
END:DAYLIGHT
BEGIN:STANDARD
TZOFFSETFROM:+0200
TZOFFSETTO:+0100
TZNAME:CET
DTSTART:20241027T010000
END:STANDARD
BEGIN:DAYLIGHT
TZOFFSETFROM:+0100
TZOFFSETTO:+0200
TZNAME:CEST
DTSTART:20250330T010000
END:DAYLIGHT
BEGIN:STANDARD
TZOFFSETFROM:+0200
TZOFFSETTO:+0100
TZNAME:CET
DTSTART:20251026T010000
END:STANDARD
BEGIN:DAYLIGHT
TZOFFSETFROM:+0100
TZOFFSETTO:+0200
TZNAME:CEST
DTSTART:20260329T010000
END:DAYLIGHT
BEGIN:STANDARD
TZOFFSETFROM:+0200
TZOFFSETTO:+0100
TZNAME:CET
DTSTART:20261025T010000
END:STANDARD
END:VTIMEZONE
BEGIN:VEVENT
DTSTART;TZID=Europe/Paris:20251101T121500
DTEND;TZID=Europe/Paris:20251101T131500
DTSTAMP:20260424T044353
CREATED:20251020T152259Z
LAST-MODIFIED:20251116T103927Z
UID:10000112-1761999300-1762002900@familiespelvalencia.org
SUMMARY:Contacontes: "Fugissera" a càrrec de les autores Marina Bennasar i Marina Uguett
DESCRIPTION:Infantil | Contacontes \n📚 L’activitat s’emmarca dins de la 13a edició de la Plaça del Llibre de València\, que tindrà lloc del 28 d’octubre al 2 de novembre de 2025 al Jardí Botànic de la Universitat de València. Aquesta celebració literària s’ha consolidat com el major aparador de llibres en valencià del País Valencià\, i ofereix un espai únic on la natura i la cultura es donen la mà. Durant sis dies\, el públic podrà gaudir d’una programació diversa i per a totes les edats: presentacions de novetats editorials\, contacontes\, tallers\, recitals poètics\, taules redones\, activitats escolars\, espectacles infantils\, trobades professionals i molt més. Organitzada per diverses entitats culturals i educatives\, la Plaça del Llibre és una cita imprescindible per a qui estima la lectura i vol descobrir la riquesa de la nostra llengua i literatura.\nMés informació: Plaça del Llibre València\nOrganitza activitat: Disset Edició
URL:https://familiespelvalencia.org/activitat/contacontes-fugissera-a-carrec-de-les-autores-marina-bennasar-i-marina-uguett/
LOCATION:Jardí Botànic\, C/ de Quart\, 80\, Extramurs\, València\, València\, 46008\, Spain
GEO:39.4754911;-0.386497
X-APPLE-STRUCTURED-LOCATION;VALUE=URI;X-ADDRESS=Jardí Botànic C/ de Quart 80 Extramurs València València 46008 Spain;X-APPLE-RADIUS=500;X-TITLE=C/ de Quart\, 80\, Extramurs:geo:-0.386497,39.4754911
END:VEVENT
BEGIN:VEVENT
DTSTART;TZID=Europe/Paris:20251101T180000
DTEND;TZID=Europe/Paris:20251101T190000
DTSTAMP:20260424T044353
CREATED:20251020T152259Z
LAST-MODIFIED:20251027T162753Z
UID:10000113-1762020000-1762023600@familiespelvalencia.org
SUMMARY:Animació lectora: "Marieta i el llapis misteriós" a càrrec de Rosa Nicolau
DESCRIPTION:Infantil | Animació lectoraAutor/a: Anna Miñana i Galbis \n📚 L’activitat s’emmarca dins de la 13a edició de la Plaça del Llibre de València\, que tindrà lloc del 28 d’octubre al 2 de novembre de 2025 al Jardí Botànic de la Universitat de València. Aquesta celebració literària s’ha consolidat com el major aparador de llibres en valencià del País Valencià\, i ofereix un espai únic on la natura i la cultura es donen la mà. Durant sis dies\, el públic podrà gaudir d’una programació diversa i per a totes les edats: presentacions de novetats editorials\, contacontes\, tallers\, recitals poètics\, taules redones\, activitats escolars\, espectacles infantils\, trobades professionals i molt més. Organitzada per diverses entitats culturals i educatives\, la Plaça del Llibre és una cita imprescindible per a qui estima la lectura i vol descobrir la riquesa de la nostra llengua i literatura. \nMés informació: Plaça del Llibre València \nOrganitza activitat: Edicions 96
URL:https://familiespelvalencia.org/activitat/animacio-lectora-marieta-i-el-llapis-misterios-a-carrec-de-rosa-nicolau/
LOCATION:Marina Alta
END:VEVENT
BEGIN:VEVENT
DTSTART;TZID=Europe/Paris:20251101T183000
DTEND;TZID=Europe/Paris:20251101T193000
DTSTAMP:20260424T044353
CREATED:20251020T152259Z
LAST-MODIFIED:20251027T162642Z
UID:10000114-1762021800-1762025400@familiespelvalencia.org
SUMMARY:Teatre: Encantats
DESCRIPTION:Edat: Familiar / Preu: A partir de 12€ / Categoria: Teatre Musical / Movilitat: Sala adaptada / Duració: 60 min \nSinopsi \nQuè passaria si un encanteri transportarà a un príncep i a una princesa als nostres dies? Seran capaços de subsistir en el caos de la nostra era\, d’assimilar la tecnologia i de sobreviure a l’estrés de la nostra època? I si l’única persona que poguera salvar-los fora un escriptor de novel·la negra que detesta els finals feliços? I sí l’heroïna del conte fora la princesa? \nUn musical creat amb cançons originals de Víctor Lucas\, que narra la història d’un escriptor de novel·la negra en plena crisi creativa i personal que és incapaç de trobar el final perfecte per a la seua novel·la\, fins que arriba a les seues mans un llibre encantat del qual sorgeixen un príncep i una princesa als quals un malvat embruixador els ha arrabassat la seua final feliç. Seran capaços de subsistir en el caos de la nostra era\, d’assimilar la tecnologia i de sobreviure a l’estrés de la nostra època? \nUn espectacle que interactuant amb el públic a través de sorpreses\, màgia i humor que ens ajudarà trencar amb els estereotips de gènere dels contes clàssics i a crear el nostre propi final feliç. \nDirecció i guio: Mamen Mengó; Víctor Lucas / Composició i direcció musical: Víctor Lucas / Escenografia: Dora Piles /Vestuari\, perruqueria i caracterització: Jairo Carrasco / Disseny d’ il·luminació: Stefano Recchia; Víctor Lucas / Video projeccions: Víctor Sánchez / Marioneta: Dora Piles / Cartell: Mariano Martín / Fotografia: Marc Pons/ Producció executiva: Pedro Giménez Més informació i compra d'entrades: Sala Off
URL:https://familiespelvalencia.org/activitat/teatre-encantats-6/
LOCATION:Marina Alta
END:VEVENT
END:VCALENDAR