BEGIN:VCALENDAR
VERSION:2.0
PRODID:-//FAMÍLIES PEL VALENCIÀ - ECPv6.15.20//NONSGML v1.0//EN
CALSCALE:GREGORIAN
METHOD:PUBLISH
X-ORIGINAL-URL:https://familiespelvalencia.org
X-WR-CALDESC:Esdeveniments per FAMÍLIES PEL VALENCIÀ
REFRESH-INTERVAL;VALUE=DURATION:PT1H
X-Robots-Tag:noindex
X-PUBLISHED-TTL:PT1H
BEGIN:VTIMEZONE
TZID:Europe/Paris
BEGIN:DAYLIGHT
TZOFFSETFROM:+0100
TZOFFSETTO:+0200
TZNAME:CEST
DTSTART:20240331T010000
END:DAYLIGHT
BEGIN:STANDARD
TZOFFSETFROM:+0200
TZOFFSETTO:+0100
TZNAME:CET
DTSTART:20241027T010000
END:STANDARD
BEGIN:DAYLIGHT
TZOFFSETFROM:+0100
TZOFFSETTO:+0200
TZNAME:CEST
DTSTART:20250330T010000
END:DAYLIGHT
BEGIN:STANDARD
TZOFFSETFROM:+0200
TZOFFSETTO:+0100
TZNAME:CET
DTSTART:20251026T010000
END:STANDARD
BEGIN:DAYLIGHT
TZOFFSETFROM:+0100
TZOFFSETTO:+0200
TZNAME:CEST
DTSTART:20260329T010000
END:DAYLIGHT
BEGIN:STANDARD
TZOFFSETFROM:+0200
TZOFFSETTO:+0100
TZNAME:CET
DTSTART:20261025T010000
END:STANDARD
END:VTIMEZONE
BEGIN:VEVENT
DTSTART;TZID=Europe/Paris:20251031T180000
DTEND;TZID=Europe/Paris:20251031T190000
DTSTAMP:20260424T044427
CREATED:20251020T152245Z
LAST-MODIFIED:20251105T163454Z
UID:10000109-1761933600-1761937200@familiespelvalencia.org
SUMMARY:Taller infantil d'il·lustració a càrrec de Lirios Bou
DESCRIPTION:Més informació: Detroit Llibres \nCal inscripció: liriosbou@gmail.com
URL:https://familiespelvalencia.org/activitat/taller-infantil-dillustracio-a-carrec-de-lirios-bou/
LOCATION:Detroit llibres\, Carrer Oliver\, 5\, Alcoi\, L'Alcoià\, 03802
GEO:38.6948508;-0.4812384
X-APPLE-STRUCTURED-LOCATION;VALUE=URI;X-ADDRESS=Detroit llibres Carrer Oliver 5 Alcoi L'Alcoià 03802;X-APPLE-RADIUS=500;X-TITLE=Carrer Oliver\, 5:geo:-0.4812384,38.6948508
END:VEVENT
BEGIN:VEVENT
DTSTART;TZID=Europe/Paris:20251031T180000
DTEND;TZID=Europe/Paris:20251031T190000
DTSTAMP:20260424T044427
CREATED:20251021T165649Z
LAST-MODIFIED:20251021T165649Z
UID:10000464-1761933600-1761937200@familiespelvalencia.org
SUMMARY:El gran espectacle del Monstre Petorro
DESCRIPTION:El gran espectacle de El monstre Petorro. Un espectacle per a persones joves menors de 180 anys.
URL:https://familiespelvalencia.org/activitat/el-gran-espectacle-del-monstre-petorro-2/
LOCATION:Marina Alta
END:VEVENT
BEGIN:VEVENT
DTSTART;TZID=Europe/Paris:20251031T183000
DTEND;TZID=Europe/Paris:20251031T193000
DTSTAMP:20260424T044427
CREATED:20251020T152245Z
LAST-MODIFIED:20251027T162708Z
UID:10000110-1761935400-1761939000@familiespelvalencia.org
SUMMARY:Teatre intinerant: Vampy Family
DESCRIPTION:A càrrec de L’Estranya Cia\nTeatre familiar intinerant
URL:https://familiespelvalencia.org/activitat/teatre-intinerant-vampy-family/
LOCATION:Marina Alta
END:VEVENT
BEGIN:VEVENT
DTSTART;TZID=Europe/Paris:20251031T190000
DTEND;TZID=Europe/Paris:20251031T200000
DTSTAMP:20260424T044427
CREATED:20251020T152259Z
LAST-MODIFIED:20251027T162712Z
UID:10000111-1761937200-1761940800@familiespelvalencia.org
SUMMARY:Concert: Dani Miquel
DESCRIPTION:Més informació: Ajuntament de Bellreguard
URL:https://familiespelvalencia.org/activitat/concert-dani-miquel-8/
LOCATION:Marina Alta
END:VEVENT
END:VCALENDAR