BEGIN:VCALENDAR
VERSION:2.0
PRODID:-//FAMÍLIES PEL VALENCIÀ - ECPv6.15.20//NONSGML v1.0//EN
CALSCALE:GREGORIAN
METHOD:PUBLISH
X-ORIGINAL-URL:https://familiespelvalencia.org
X-WR-CALDESC:Esdeveniments per FAMÍLIES PEL VALENCIÀ
REFRESH-INTERVAL;VALUE=DURATION:PT1H
X-Robots-Tag:noindex
X-PUBLISHED-TTL:PT1H
BEGIN:VTIMEZONE
TZID:Europe/Paris
BEGIN:DAYLIGHT
TZOFFSETFROM:+0100
TZOFFSETTO:+0200
TZNAME:CEST
DTSTART:20240331T010000
END:DAYLIGHT
BEGIN:STANDARD
TZOFFSETFROM:+0200
TZOFFSETTO:+0100
TZNAME:CET
DTSTART:20241027T010000
END:STANDARD
BEGIN:DAYLIGHT
TZOFFSETFROM:+0100
TZOFFSETTO:+0200
TZNAME:CEST
DTSTART:20250330T010000
END:DAYLIGHT
BEGIN:STANDARD
TZOFFSETFROM:+0200
TZOFFSETTO:+0100
TZNAME:CET
DTSTART:20251026T010000
END:STANDARD
BEGIN:DAYLIGHT
TZOFFSETFROM:+0100
TZOFFSETTO:+0200
TZNAME:CEST
DTSTART:20260329T010000
END:DAYLIGHT
BEGIN:STANDARD
TZOFFSETFROM:+0200
TZOFFSETTO:+0100
TZNAME:CET
DTSTART:20261025T010000
END:STANDARD
END:VTIMEZONE
BEGIN:VEVENT
DTSTART;TZID=Europe/Paris:20251021T163000
DTEND;TZID=Europe/Paris:20251021T173000
DTSTAMP:20260424T050446
CREATED:20251020T151839Z
LAST-MODIFIED:20251021T165419Z
UID:10000077-1761064200-1761067800@familiespelvalencia.org
SUMMARY:Presentació i animació lectora: "El tresor de l'Encantada" a càrrec de Disparatario
DESCRIPTION:Activitat destinada per a públic infantil \nEl tresor de l’Encantada és el nou conte de la col·lecció «Espanta la Por»\, una criatura de la companyia de teatre Disparatario. Amanimació lectora a les biblioteques afectades per la dana del 29 d’octubre de 2024. \nMés informació: Biblioteca Pública María Moliner Ruiz. PaiportaMés informació: L’ETNO. Espanta la por!
URL:https://familiespelvalencia.org/activitat/presentacio-i-animacio-lectora-el-tresor-de-lencantada-a-carrec-de-disparatario/
LOCATION:Marina Alta
END:VEVENT
END:VCALENDAR