BEGIN:VCALENDAR
VERSION:2.0
PRODID:-//FAMÍLIES PEL VALENCIÀ - ECPv6.15.20//NONSGML v1.0//EN
CALSCALE:GREGORIAN
METHOD:PUBLISH
X-ORIGINAL-URL:https://familiespelvalencia.org
X-WR-CALDESC:Esdeveniments per FAMÍLIES PEL VALENCIÀ
REFRESH-INTERVAL;VALUE=DURATION:PT1H
X-Robots-Tag:noindex
X-PUBLISHED-TTL:PT1H
BEGIN:VTIMEZONE
TZID:Europe/Paris
BEGIN:DAYLIGHT
TZOFFSETFROM:+0100
TZOFFSETTO:+0200
TZNAME:CEST
DTSTART:20240331T010000
END:DAYLIGHT
BEGIN:STANDARD
TZOFFSETFROM:+0200
TZOFFSETTO:+0100
TZNAME:CET
DTSTART:20241027T010000
END:STANDARD
BEGIN:DAYLIGHT
TZOFFSETFROM:+0100
TZOFFSETTO:+0200
TZNAME:CEST
DTSTART:20250330T010000
END:DAYLIGHT
BEGIN:STANDARD
TZOFFSETFROM:+0200
TZOFFSETTO:+0100
TZNAME:CET
DTSTART:20251026T010000
END:STANDARD
BEGIN:DAYLIGHT
TZOFFSETFROM:+0100
TZOFFSETTO:+0200
TZNAME:CEST
DTSTART:20260329T010000
END:DAYLIGHT
BEGIN:STANDARD
TZOFFSETFROM:+0200
TZOFFSETTO:+0100
TZNAME:CET
DTSTART:20261025T010000
END:STANDARD
END:VTIMEZONE
BEGIN:VEVENT
DTSTART;TZID=Europe/Paris:20251014T093000
DTEND;TZID=Europe/Paris:20251014T103000
DTSTAMP:20260424T050842
CREATED:20251020T151611Z
LAST-MODIFIED:20251021T165504Z
UID:10000057-1760434200-1760437800@familiespelvalencia.org
SUMMARY:Concert: Dani Miquel (14a Setmana de la Salut Mental)
DESCRIPTION:El concert de Dani Miquel s’enmarca dins de la celebració de 14a Setmana de la Salut Mental i forma part de la marxa festiva que recorrerà el centre de Llíria amb batukades\, actuacions i activitats per conscienciar sobre el benestar emocional. \nLa jornada del dimarts 14 inclou:10.00 hores: Marxa per la Salut Mental amb les batukades Tymbals i Kultrún per conmemorar i conscienciar sobre la importància d’atendre el nostre benestar emocional (Recorregut des de la Plaça Major fins al Pavelló Pla de L’Arc). 10.30 hores: Actuació de l’Escola de Dansa de Llíria i Concert de Dani Miquel\, el cantacançons.Visualització del LipDub col·lectiu per la Salut Mental. \nMés informació i Organitzadors: Associació Pentagrama i Ajuntament de Llíria.📩 Inscripcions i dorsals: info@associaciopentagrama.org
URL:https://familiespelvalencia.org/activitat/concert-dani-miquel-14a-setmana-de-la-salut-mental/
LOCATION:Marina Alta
END:VEVENT
BEGIN:VEVENT
DTSTART;TZID=Europe/Paris:20251014T163000
DTEND;TZID=Europe/Paris:20251014T173000
DTSTAMP:20260424T050842
CREATED:20251020T151611Z
LAST-MODIFIED:20251021T165004Z
UID:10000058-1760459400-1760463000@familiespelvalencia.org
SUMMARY:Sessions mensuals "Pissiganya"
DESCRIPTION:Pissiganya és un activitat grupal en què pares i mares\, juntament amb els fills\, es reunixen una volta al mes per a jugar i conversar en valencià a partir d’una proposta ludicoartística dinamitzada per Maria Gargallo\, del col·lectiu d’art i educació Massa Salvatge. \nEsta iniciativa s’emmarca dins del projecte Creixent al caliu <www.creixentalcaliu.com>\, del Gabinet de Noramalització Lingüística de l’Ajuntament de València\, a través del qual posen en valor\, promouen i faciliten la transmissió lingüística i la presència social del valencià en la primera infància. Cal inscripció prèvia. \nPodeu inscriure-vos-hi ací: Formulari inscripció \nMés informació: Pissiganya 
URL:https://familiespelvalencia.org/activitat/sessions-mensuals-pissiganya/
LOCATION:Marina Alta
END:VEVENT
END:VCALENDAR